BEGIN:VCALENDAR
VERSION:2.0
PRODID:-//rheinbogen.net - ECPv6.15.17.1//NONSGML v1.0//EN
CALSCALE:GREGORIAN
METHOD:PUBLISH
X-WR-CALNAME:rheinbogen.net
X-ORIGINAL-URL:https://rheinbogen.net
X-WR-CALDESC:Veranstaltungen für rheinbogen.net
REFRESH-INTERVAL;VALUE=DURATION:PT1H
X-Robots-Tag:noindex
X-PUBLISHED-TTL:PT1H
BEGIN:VTIMEZONE
TZID:Europe/Berlin
BEGIN:DAYLIGHT
TZOFFSETFROM:+0100
TZOFFSETTO:+0200
TZNAME:CEST
DTSTART:20240331T010000
END:DAYLIGHT
BEGIN:STANDARD
TZOFFSETFROM:+0200
TZOFFSETTO:+0100
TZNAME:CET
DTSTART:20241027T010000
END:STANDARD
BEGIN:DAYLIGHT
TZOFFSETFROM:+0100
TZOFFSETTO:+0200
TZNAME:CEST
DTSTART:20250330T010000
END:DAYLIGHT
BEGIN:STANDARD
TZOFFSETFROM:+0200
TZOFFSETTO:+0100
TZNAME:CET
DTSTART:20251026T010000
END:STANDARD
BEGIN:DAYLIGHT
TZOFFSETFROM:+0100
TZOFFSETTO:+0200
TZNAME:CEST
DTSTART:20260329T010000
END:DAYLIGHT
BEGIN:STANDARD
TZOFFSETFROM:+0200
TZOFFSETTO:+0100
TZNAME:CET
DTSTART:20261025T010000
END:STANDARD
BEGIN:DAYLIGHT
TZOFFSETFROM:+0100
TZOFFSETTO:+0200
TZNAME:CEST
DTSTART:20270328T010000
END:DAYLIGHT
BEGIN:STANDARD
TZOFFSETFROM:+0200
TZOFFSETTO:+0100
TZNAME:CET
DTSTART:20271031T010000
END:STANDARD
END:VTIMEZONE
BEGIN:VEVENT
DTSTART;TZID=Europe/Berlin:20260208T130000
DTEND;TZID=Europe/Berlin:20260208T180000
DTSTAMP:20260426T041748
CREATED:20250325T100052Z
LAST-MODIFIED:20260130T120054Z
UID:10000831-1770555600-1770573600@rheinbogen.net
SUMMARY:PÄNZ & FAMILISCH FASTELOVEND – Karneval für Groß & Klein
DESCRIPTION:Veranstaltungen der KG Köln-Rodenkirchen von 2014 e. V. : \n\n29. August 2025\n\nKG Köln-Rodenkirchen von 2014 e.V.\nJECKE RIVIERA\nDas Sommerfest der KG Köln-Rodenkirchen\nRhein Roxy Schiff\nKarten ab Juni hier: www.kgkr.de\n\n\n17. Januar 2026\n\nKG Köln-Rodenkirchen von 2014 e.V.\nJECK IN HELLBLAU\nSinge\, Danze\, Höppe in der Hofburg\nDorint Hotel Heumarkt\nKarten ab September hier: www.kgkr.de\n\n\n31. Januar 2026\n\nKG Köln-Rodenkirchen von 2014 e.V.\nJECKEDANZ\nDie große karnevalistische Sause im Veedel\nFesthalle Reissdorf Brauerei\nKarten ab September hier: www.kgkr.de\n\n\n08. Februar 2026\n\nKG Köln-Rodenkirchen von 2014 e.V.\nPÄNZ & FAMILICH FASTELOVEND\nKarneval für Groß & Klein im Veedel\nOffene Schule Köln-Rodenkirchen\nKarten ab September hier: www.kgkr.de\n\n\n13. Februar 2026\n\nKG Köln-Rodenkirchen von 2014 e.V.\nJECKE BEATZ\nCoole Beatz meets Fastelovend\nNachtflug (Köln-Innenstadt)\nKarten ab September hier: www.kgkr.de\n\n\n\n\nDieser Eintrag wird Ihnen zur Verfügung gestellt vom Kölner BilderBogen – eines der beliebtesten Stadtmagazine in Köln. Ihr Termin fehlt? Einfach kostenlos einreichen: www.bilderbogen.de/eventeintrag
URL:https://rheinbogen.net/event/paenz-familisch-fastelovend-karneval-fuer-gross-klein
LOCATION:Offene Schule Köln (OSK)\, Sürther Straße 199\, Köln\, NRW\, 50999\, Deutschland
ATTACH;FMTTYPE=image/png:https://rheinbogen.net/wp-content/uploads/2026/01/Bildschirmfoto-2026-01-30-um-12.11.08-675x1024-1.png
ORGANIZER;CN="KG K%C3%B6ln Rodenkirchen":MAILTO:info@kgkr.de
END:VEVENT
BEGIN:VEVENT
DTSTART;TZID=Europe/Berlin:20250714T090000
DTEND;TZID=Europe/Berlin:20250718T130000
DTSTAMP:20260426T041748
CREATED:20250603T090133Z
LAST-MODIFIED:20250603T090133Z
UID:10000996-1752483600-1752843600@rheinbogen.net
SUMMARY:Allrounder Sommercamp 2025 in der OSK vom 14.07.2025 bis 18.07.2025
DESCRIPTION:Allrounder Sommercamp 2025 in der OSK    –   Stefan Rygol \nvom 14.07.205 bis zum 18.07.2025 jeweils von 9:00 bis 16:00 Uhr \nbei Nachfragen :  Handy  015774101880    oder      mailto:nc-rygolst2@netcologne.de \n  \n  \n\nDieser Eintrag wird Ihnen zur Verfügung gestellt vom Kölner BilderBogen – eines der beliebtesten Stadtmagazine in Köln. Ihr Termin fehlt? Einfach kostenlos einreichen: www.bilderbogen.de/eventeintrag
URL:https://rheinbogen.net/event/allrounder-sommercamp-2025-in-der-osk-vom-14-07-2025-bis-18-07-2025
LOCATION:Offene Schule Köln (OSK)\, Sürther Straße 199\, Köln\, NRW\, 50999\, Deutschland
ATTACH;FMTTYPE=image/png:https://rheinbogen.net/wp-content/uploads/2025/06/Bildschirmfoto-2025-06-03-um-10.24.29-723x1024-1.png
ORGANIZER;CN="Stefan Rygol":MAILTO:nc-rygolst2@netcologne.de
END:VEVENT
BEGIN:VEVENT
DTSTART;TZID=Europe/Berlin:20250223T130000
DTEND;TZID=Europe/Berlin:20250223T170000
DTSTAMP:20260426T041748
CREATED:20250123T090051Z
LAST-MODIFIED:20250123T090051Z
UID:10000501-1740315600-1740330000@rheinbogen.net
SUMMARY:PÄNZ & FAMILICH FASTELOVEND
DESCRIPTION:Restkarten bei Getränke Duschat \n\nDieser Eintrag wird Ihnen zur Verfügung gestellt vom Kölner BilderBogen – eines der beliebtesten Stadtmagazine in Köln. Ihr Termin fehlt? Einfach kostenlos einreichen: www.bilderbogen.de/eventeintrag
URL:https://rheinbogen.net/event/paenz-familich-fastelovend
LOCATION:Offene Schule Köln (OSK)\, Sürther Straße 199\, Köln\, NRW\, 50999\, Deutschland
ATTACH;FMTTYPE=image/png:https://rheinbogen.net/wp-content/uploads/2025/01/Bildschirmfoto-2025-01-23-um-09.34.01-726x1024-1.png
END:VEVENT
END:VCALENDAR