BEGIN:VCALENDAR
VERSION:2.0
PRODID:-//rheinbogen.net - ECPv6.15.17.1//NONSGML v1.0//EN
CALSCALE:GREGORIAN
METHOD:PUBLISH
X-ORIGINAL-URL:https://rheinbogen.net
X-WR-CALDESC:Veranstaltungen für rheinbogen.net
REFRESH-INTERVAL;VALUE=DURATION:PT1H
X-Robots-Tag:noindex
X-PUBLISHED-TTL:PT1H
BEGIN:VTIMEZONE
TZID:Europe/Berlin
BEGIN:DAYLIGHT
TZOFFSETFROM:+0100
TZOFFSETTO:+0200
TZNAME:CEST
DTSTART:20230326T010000
END:DAYLIGHT
BEGIN:STANDARD
TZOFFSETFROM:+0200
TZOFFSETTO:+0100
TZNAME:CET
DTSTART:20231029T010000
END:STANDARD
BEGIN:DAYLIGHT
TZOFFSETFROM:+0100
TZOFFSETTO:+0200
TZNAME:CEST
DTSTART:20240331T010000
END:DAYLIGHT
BEGIN:STANDARD
TZOFFSETFROM:+0200
TZOFFSETTO:+0100
TZNAME:CET
DTSTART:20241027T010000
END:STANDARD
BEGIN:DAYLIGHT
TZOFFSETFROM:+0100
TZOFFSETTO:+0200
TZNAME:CEST
DTSTART:20250330T010000
END:DAYLIGHT
BEGIN:STANDARD
TZOFFSETFROM:+0200
TZOFFSETTO:+0100
TZNAME:CET
DTSTART:20251026T010000
END:STANDARD
BEGIN:DAYLIGHT
TZOFFSETFROM:+0100
TZOFFSETTO:+0200
TZNAME:CEST
DTSTART:20260329T010000
END:DAYLIGHT
BEGIN:STANDARD
TZOFFSETFROM:+0200
TZOFFSETTO:+0100
TZNAME:CET
DTSTART:20261025T010000
END:STANDARD
END:VTIMEZONE
BEGIN:VEVENT
DTSTART;TZID=Europe/Berlin:20250930T150000
DTEND;TZID=Europe/Berlin:20250930T220000
DTSTAMP:20260426T022616
CREATED:20250318T110100Z
LAST-MODIFIED:20250318T110100Z
UID:10000806-1759244400-1759269600@rheinbogen.net
SUMMARY:Schlemmer- und Abendmarkt in Rodenkirchen 2025
DESCRIPTION:Jeden letzten Dienstag im Monat können sich Anwohner und Besucher auf dem Schlemmer- und Abendmarkt in Rodenkirchen treffen. Hier gibt’s leckere Speisen und tolle Drinks. Die Stände stehen auf dem Maternusplatz. \n29. April 2025\n27. Mai 2025\n24. Juni 2025\n29. Juli 2025\n26. August 2025\n30. September 2025 \nBildquelle: Rolf Kaus \n\nDieser Eintrag wird Ihnen zur Verfügung gestellt vom Kölner BilderBogen – eines der beliebtesten Stadtmagazine in Köln. Ihr Termin fehlt? Einfach kostenlos einreichen: www.bilderbogen.de/eventeintrag
URL:https://rheinbogen.net/event/schlemmer-und-abendmarkt-in-rodenkirchen-2025-5
LOCATION:Maternusplatz Rodenkirchen\, Maternusplatz 1\, Köln\, NRW\, 50996\, Deutschland
ATTACH;FMTTYPE=image/png:https://rheinbogen.net/wp-content/uploads/2025/03/Bildschirmfoto-2025-03-18-um-10.30.23-1024x760-1.png
END:VEVENT
BEGIN:VEVENT
DTSTART;TZID=Europe/Berlin:20250826T150000
DTEND;TZID=Europe/Berlin:20250826T220000
DTSTAMP:20260426T022616
CREATED:20250318T100053Z
LAST-MODIFIED:20250318T100053Z
UID:10000802-1756220400-1756245600@rheinbogen.net
SUMMARY:Schlemmer- und Abendmarkt in Rodenkirchen 2025
DESCRIPTION:Jeden letzten Dienstag im Monat können sich Anwohner und Besucher auf dem Schlemmer- und Abendmarkt in Rodenkirchen treffen. Hier gibt’s leckere Speisen und tolle Drinks. Die Stände stehen auf dem Maternusplatz. \n29. April 2025\n27. Mai 2025\n24. Juni 2025\n29. Juli 2025\n26. August 2025\n30. September 2025 \nBildquelle: Rolf Kaus \n\nDieser Eintrag wird Ihnen zur Verfügung gestellt vom Kölner BilderBogen – eines der beliebtesten Stadtmagazine in Köln. Ihr Termin fehlt? Einfach kostenlos einreichen: www.bilderbogen.de/eventeintrag
URL:https://rheinbogen.net/event/schlemmer-und-abendmarkt-in-rodenkirchen-2025-4
LOCATION:Maternusplatz Rodenkirchen\, Maternusplatz 1\, Köln\, NRW\, 50996\, Deutschland
ATTACH;FMTTYPE=image/png:https://rheinbogen.net/wp-content/uploads/2025/03/Bildschirmfoto-2025-03-18-um-10.30.23-1024x760-1.png
END:VEVENT
BEGIN:VEVENT
DTSTART;TZID=Europe/Berlin:20250822T150000
DTEND;TZID=Europe/Berlin:20250822T190000
DTSTAMP:20260426T022616
CREATED:20250815T170049Z
LAST-MODIFIED:20250815T170049Z
UID:10001166-1755874800-1755889200@rheinbogen.net
SUMMARY:Radtour durch den Kölner Süden
DESCRIPTION:🚴🏼‍♀️🚴🏽‍♂️Radtour durch den Kölner Süden\nam 22.08. Start 15:00 Uhr\nVom Maternusplatz aus radeln wir durch Rondorf zur Kiesgrube Immendorf/Meschenich.\nDort sprechen wir mit dem NABU.🌅\nDanach geht es weiter zum Naturschutzgebiet Sürther Aue.\nDer BUND wird uns dort über die Umweltschutzmaßnahmen unterrichten und wenn wir Glück haben\, können wir den Eseln bei der Arbeit zu sehen.🫏🫏🤩 \nÜber den Weißer Rheinbogen\, der hoffentlich bald Naturschutzgebiet wird\, geht es dann zurück zum Maternusplatz. \nMeldet euch an\, kommt mit und lasst uns zum Umweltschutz im Kölner Süden mit Expert*innen sprechen.\nAnmeldung: Veit.otto@gruenekoeln.de \n\nDieser Eintrag wird Ihnen zur Verfügung gestellt vom Kölner BilderBogen – eines der beliebtesten Stadtmagazine in Köln. Ihr Termin fehlt? Einfach kostenlos einreichen: www.bilderbogen.de/eventeintrag
URL:https://rheinbogen.net/event/radtour-durch-den-koelner-sueden
LOCATION:Maternusplatz Rodenkirchen\, Maternusplatz 1\, Köln\, NRW\, 50996\, Deutschland
ATTACH;FMTTYPE=image/jpeg:https://rheinbogen.net/wp-content/uploads/2025/08/WhatsApp-Image-2025-08-15-at-16.39.50-819x1024-1.jpeg
END:VEVENT
BEGIN:VEVENT
DTSTART;TZID=Europe/Berlin:20250729T150000
DTEND;TZID=Europe/Berlin:20250729T220000
DTSTAMP:20260426T022616
CREATED:20250318T100052Z
LAST-MODIFIED:20250318T110058Z
UID:10000801-1753801200-1753826400@rheinbogen.net
SUMMARY:Schlemmer- und Abendmarkt in Rodenkirchen 2025
DESCRIPTION:Jeden letzten Dienstag im Monat können sich Anwohner und Besucher auf dem Schlemmer- und Abendmarkt in Rodenkirchen treffen. Hier gibt’s leckere Speisen und tolle Drinks. Die Stände stehen auf dem Maternusplatz. \n29. April 2025\n27. Mai 2025\n24. Juni 2025\n29. Juli 2025\n26. August 2025\n30. September 2025 \nBildquelle: Rolf Kaus \n\nDieser Eintrag wird Ihnen zur Verfügung gestellt vom Kölner BilderBogen – eines der beliebtesten Stadtmagazine in Köln. Ihr Termin fehlt? Einfach kostenlos einreichen: www.bilderbogen.de/eventeintrag
URL:https://rheinbogen.net/event/schlemmer-und-abendmarkt-in-rodenkirchen-2025-3
LOCATION:Maternusplatz Rodenkirchen\, Maternusplatz 1\, Köln\, NRW\, 50996\, Deutschland
ATTACH;FMTTYPE=image/png:https://rheinbogen.net/wp-content/uploads/2025/03/Bildschirmfoto-2025-03-18-um-10.30.23-1024x760-1.png
END:VEVENT
BEGIN:VEVENT
DTSTART;TZID=Europe/Berlin:20250624T150000
DTEND;TZID=Europe/Berlin:20250624T220000
DTSTAMP:20260426T022616
CREATED:20250318T100050Z
LAST-MODIFIED:20250318T110055Z
UID:10000800-1750777200-1750802400@rheinbogen.net
SUMMARY:Schlemmer- und Abendmarkt in Rodenkirchen 2025
DESCRIPTION:Jeden letzten Dienstag im Monat können sich Anwohner und Besucher auf dem Schlemmer- und Abendmarkt in Rodenkirchen treffen. Hier gibt’s leckere Speisen und tolle Drinks. Die Stände stehen auf dem Maternusplatz. \n29. April 2025\n27. Mai 2025\n24. Juni 2025\n29. Juli 2025\n26. August 2025\n30. September 2025 \nBildquelle: Rolf Kaus \n\nDieser Eintrag wird Ihnen zur Verfügung gestellt vom Kölner BilderBogen – eines der beliebtesten Stadtmagazine in Köln. Ihr Termin fehlt? Einfach kostenlos einreichen: www.bilderbogen.de/eventeintrag
URL:https://rheinbogen.net/event/schlemmer-und-abendmarkt-in-rodenkirchen-2025-2
LOCATION:Maternusplatz Rodenkirchen\, Maternusplatz 1\, Köln\, NRW\, 50996\, Deutschland
ATTACH;FMTTYPE=image/png:https://rheinbogen.net/wp-content/uploads/2025/03/Bildschirmfoto-2025-03-18-um-10.30.23-1024x760-1.png
END:VEVENT
BEGIN:VEVENT
DTSTART;TZID=Europe/Berlin:20250604T090000
DTEND;TZID=Europe/Berlin:20250604T130000
DTSTAMP:20260426T022616
CREATED:20250424T090057Z
LAST-MODIFIED:20250603T090108Z
UID:10000919-1749027600-1749042000@rheinbogen.net
SUMMARY:Fahrradbeauftragter on Tour
DESCRIPTION:Fahrradbeauftragter on Tour \nVorbeikommen und mehr über das Thema Radverkehr in Köln erfahren  \nDas Team des Fahrradbeauftragten der Stadt Köln steht auch 2025 wieder in allen Stadtbezirken Rede und Antwort. In diesem Jahr sind insgesamt zehn Termine geplant\, an denen das Team im Rahmen von Wochenmärkten über den Radverkehr in Köln informiert und für Fragen und Anregungen zum Radverkehr zur Verfügung steht. Das Team bietet zudem praktisches Zubehör an\, mit dem das Radfahren sicherer und komfortabler wird. Alle sind herzlich eingeladen vorbeizukommen! \n   Mittwoch\, 4. Juni 2025: Wochenmarkt Rodenkirchen \n\nDieser Eintrag wird Ihnen zur Verfügung gestellt vom Kölner BilderBogen – eines der beliebtesten Stadtmagazine in Köln. Ihr Termin fehlt? Einfach kostenlos einreichen: www.bilderbogen.de/eventeintrag
URL:https://rheinbogen.net/event/fahrradbeauftragter-on-tour
LOCATION:Maternusplatz Rodenkirchen\, Maternusplatz 1\, Köln\, NRW\, 50996\, Deutschland
ATTACH;FMTTYPE=image/png:https://rheinbogen.net/wp-content/uploads/2025/06/ChatGPT-Image-3.-Juni-2025-09_38_09-1024x683-1.png
END:VEVENT
BEGIN:VEVENT
DTSTART;TZID=Europe/Berlin:20250527T150000
DTEND;TZID=Europe/Berlin:20250527T220000
DTSTAMP:20260426T022616
CREATED:20250318T100048Z
LAST-MODIFIED:20250521T090057Z
UID:10000799-1748358000-1748383200@rheinbogen.net
SUMMARY:Schlemmer- und Abendmarkt in Rodenkirchen 2025
DESCRIPTION:Jeden letzten Dienstag im Monat können sich Anwohner und Besucher auf dem Schlemmer- und Abendmarkt in Rodenkirchen treffen. Hier gibt’s leckere Speisen und tolle Drinks. Die Stände stehen auf dem Maternusplatz. \n27. Mai 2025\n24. Juni 2025\n29. Juli 2025\n26. August 2025\n30. September 2025 \nFoto: Rolf Kaus \n\nDieser Eintrag wird Ihnen zur Verfügung gestellt vom Kölner BilderBogen – eines der beliebtesten Stadtmagazine in Köln. Ihr Termin fehlt? Einfach kostenlos einreichen: www.bilderbogen.de/eventeintrag
URL:https://rheinbogen.net/event/schlemmer-und-abendmarkt-in-rodenkirchen-2025
LOCATION:Maternusplatz Rodenkirchen\, Maternusplatz 1\, Köln\, NRW\, 50996\, Deutschland
ATTACH;FMTTYPE=image/png:https://rheinbogen.net/wp-content/uploads/2025/03/Bildschirmfoto-2025-03-18-um-10.30.23-1024x760-1.png
END:VEVENT
BEGIN:VEVENT
DTSTART;TZID=Europe/Berlin:20250429T150000
DTEND;TZID=Europe/Berlin:20250429T220000
DTSTAMP:20260426T022616
CREATED:20250318T100046Z
LAST-MODIFIED:20250318T110045Z
UID:10000798-1745938800-1745964000@rheinbogen.net
SUMMARY:1. Schlemmer- und Abendmarkt in Rodenkirchen 2025
DESCRIPTION:Jeden letzten Dienstag im Monat können sich Anwohner und Besucher auf dem Schlemmer- und Abendmarkt in Rodenkirchen treffen. Hier gibt’s leckere Speisen und tolle Drinks. Die Stände stehen auf dem Maternusplatz. \n29. April 2025\n27. Mai 2025\n24. Juni 2025\n29. Juli 2025\n26. August 2025\n30. September 2025 \nBildquelle: Rolf Kaus \n\nDieser Eintrag wird Ihnen zur Verfügung gestellt vom Kölner BilderBogen – eines der beliebtesten Stadtmagazine in Köln. Ihr Termin fehlt? Einfach kostenlos einreichen: www.bilderbogen.de/eventeintrag
URL:https://rheinbogen.net/event/1-schlemmer-und-abendmarkt-in-rodenkirchen-2025
LOCATION:Maternusplatz Rodenkirchen\, Maternusplatz 1\, Köln\, NRW\, 50996\, Deutschland
ATTACH;FMTTYPE=image/png:https://rheinbogen.net/wp-content/uploads/2025/03/Bildschirmfoto-2025-03-18-um-10.30.23-1024x760-1.png
END:VEVENT
BEGIN:VEVENT
DTSTART;TZID=Europe/Berlin:20250427T140000
DTEND;TZID=Europe/Berlin:20250427T170000
DTSTAMP:20260426T022616
CREATED:20250424T130045Z
LAST-MODIFIED:20250424T130045Z
UID:10000920-1745762400-1745773200@rheinbogen.net
SUMMARY:Street Art auf dem Maternusplatz
DESCRIPTION:Auch in diesem Jahr lädt der Treffpunkt Rodenkirchen am Sonntag\, den 27. April\, zum Auftakt der KUNSTMEILE wieder zur beliebten Street Art Aktion ein. Einfach mitmachen! Kreide wird kostenlos zu Verfügung gestellt. \nBenutze deinen Lebensraum Maternusplatz als Leinwand und zeige uns\, was dir gefällt. \nVielleicht habt ihr Lust ein einzigartiges Klassengemälde entstehen zu lassen oder ihr wolltet schon immer mal den Urwald nach Rodenkirchen holen?! Verbindet eure Projekte und lasst sie zu einem riesigen\, einmaligen\, vergänglichen Gemeinschaftskunstwerk werden!  Ihr seid ein Verein und wolltet den Maternusplatz schon immer mal verschönern? \nJetzt ist eure Chance an einem riesigen Kunstprojekt teilzunehmen! \nIhr braucht keine Anmeldung\, nur gute Laune und schönes Wetter. \nAm 27.04.2025 in der Zeit von 14 Uhr bis 17 Uhr ist der Maternusplatz für alle große und kleinen Künstler und Künstlerinnen zur freien Gestaltung geöffnet. Der Verein „Treffpunkt Rodenkirchen“ stellt kostenlos Kreide zur Verfügung. Ihr könnt aber auch eure eigene mitbringen\, sie muß nur wasserlöslich sein. Also ab auf die Knie und ran an die Kreide! Rodenkirchen soll noch schöner werden! \n\nDieser Eintrag wird Ihnen zur Verfügung gestellt vom Kölner BilderBogen – eines der beliebtesten Stadtmagazine in Köln. Ihr Termin fehlt? Einfach kostenlos einreichen: www.bilderbogen.de/eventeintrag
URL:https://rheinbogen.net/event/street-art-auf-dem-maternusplatz
LOCATION:Maternusplatz Rodenkirchen\, Maternusplatz 1\, Köln\, NRW\, 50996\, Deutschland
ATTACH;FMTTYPE=image/png:https://rheinbogen.net/wp-content/uploads/2025/04/KUMEI_street_art_2025-863x1024-1.png
ORGANIZER;CN="Treffpunkt Rodenkirchen":MAILTO:info@treffpunkt-rodenkirchen.de
END:VEVENT
BEGIN:VEVENT
DTSTART;TZID=Europe/Berlin:20250427T130000
DTEND;TZID=Europe/Berlin:20250427T180000
DTSTAMP:20260426T022616
CREATED:20250317T120046Z
LAST-MODIFIED:20250317T120046Z
UID:10000791-1745758800-1745776800@rheinbogen.net
SUMMARY:Entdeckungsreise Fotoausstellung Rodenkirchen
DESCRIPTION:Zur Fotoausstellung Rodenkirchen mit einem Special zu „50 Jahre Eingemeindung Rodenkirchen“ lädt die Bürgervereinigung Rodenkirchen im Rahmen der 23. Kunstmeile ein. \nAm Sonntag\, 27. April 2025 zeigt die Bürgervereinigung an ihrem Stand von 13 bis 18 Uhr in ihrer Fotoausstellung am Maternusplatz zahlreiche historische Foto-Schätze aus dem alten Rodenkirchen und setzt sie in Kontrast zu den heutigen Ansichten. \nUnser Special erinnert auch an ein Ereignis\, das nun 50 Jahre her ist. Das damals heftig umstrittene Geschehnis der Eingemeindung Rodenkirchen zur Stadt Köln im Jahr 1975. Auch zu diesem Thema gibt es auf unserer Fotoausstellung am 27.4. fotografische Objekte und Dokumente zu sehen. \nEntdeckungsreise Fotoausstellung Rodenkirchen\nUnsere alten Fotos aus Rodenkirchen zeigen einzigartige historische Ansichten aus Rodenkirchen. Sie werden in Bezug gesetzt zu Fotos den aktuellen Ansichten. Viele alte und sehr alte Fotos sind dieses und letztes Jahr für die Kunstmeile neu aufbereitet und mit Bildern von heute ergänzt. Zahlreiche Fotoschätze hat uns Frau Karin Ahrens aus ihren privaten Alben zur Verfügung gestellt. Dafür danken wir ihr herzlich. Andere Aufnahmen sind aus dem Archiv-Bestand der Bürgervereinigung Rodenkirchen. \n\nDieser Eintrag wird Ihnen zur Verfügung gestellt vom Kölner BilderBogen – eines der beliebtesten Stadtmagazine in Köln. Ihr Termin fehlt? Einfach kostenlos einreichen: www.bilderbogen.de/eventeintrag
URL:https://rheinbogen.net/event/entdeckungsreise-fotoausstellung-rodenkirchen
LOCATION:Maternusplatz Rodenkirchen\, Maternusplatz 1\, Köln\, NRW\, 50996\, Deutschland
ATTACH;FMTTYPE=image/png:https://rheinbogen.net/wp-content/uploads/2025/03/Bildschirmfoto-2025-03-17-um-12.19.22.png
ORGANIZER;CN="B%C3%BCrgervereinigung Rodenkirchen e.V.":MAILTO:info@www.buergervereinigung-rodenkirchen.de
END:VEVENT
BEGIN:VEVENT
DTSTART;TZID=Europe/Berlin:20250222T110000
DTEND;TZID=Europe/Berlin:20250222T170000
DTSTAMP:20260426T022616
CREATED:20250115T100046Z
LAST-MODIFIED:20250115T100046Z
UID:10000473-1740222000-1740243600@rheinbogen.net
SUMMARY:Eröffnung Straßenkarneval Köln-Rodenkirchen
DESCRIPTION:Stroossekarneval 2025\nDas Festkomitee Karneval Alt-Gemeinde Rodenkirchen von 1973 e.V. freut sich\, dass wir am 22.02.2025 eine Straßenkarnevalseröffnung auf dem Maternusplatz feiern dürfen. \n\n\n\n\n\n\n\n\n\nWir freuen uns auf einen herrlichen Tag mit janz vill Jecke un vill Sunnesching in unserem Veedel.\nSeid dobei\, et jit ze drinke un ze Esse. \n\n\n\n\n\n\n\n\n\nDieser Eintrag wird Ihnen zur Verfügung gestellt vom Kölner BilderBogen – eines der beliebtesten Stadtmagazine in Köln. Ihr Termin fehlt? Einfach kostenlos einreichen: www.bilderbogen.de/eventeintrag
URL:https://rheinbogen.net/event/eroeffnung-strassenkarneval-koeln-rodenkirchen
LOCATION:Maternusplatz Rodenkirchen\, Maternusplatz 1\, Köln\, NRW\, 50996\, Deutschland
ATTACH;FMTTYPE=image/png:https://rheinbogen.net/wp-content/uploads/2025/01/Bildschirmfoto-2025-01-15-um-10.41.36-810x1024-1.png
END:VEVENT
BEGIN:VEVENT
DTSTART;TZID=Europe/Berlin:20240927T110000
DTEND;TZID=Europe/Berlin:20240927T170000
DTSTAMP:20260426T022616
CREATED:20240923T103250Z
LAST-MODIFIED:20240923T131308Z
UID:10000066-1727434800-1727456400@rheinbogen.net
SUMMARY:Gesundheitstag auf dem Maternusplatz
DESCRIPTION:Das Gesundheitsnetzwerk Köln-Süd veranstaltet einen Gesundheitstag auf dem Maternusplatz. \n\nDieser Eintrag wird Ihnen zur Verfügung gestellt vom Kölner BilderBogen – eines der beliebtesten Stadtmagazine in Köln. Ihr Termin fehlt? Einfach kostenlos einreichen: www.bilderbogen.de/eventeintrag
URL:https://rheinbogen.net/event/gesundheitstag-auf-dem-maternusplatz
LOCATION:Maternusplatz Rodenkirchen\, Maternusplatz 1\, Köln\, NRW\, 50996\, Deutschland
ATTACH;FMTTYPE=image/jpeg:https://rheinbogen.net/wp-content/uploads/2024/09/460933275_8924878897545019_2488994206780995659_n-2.jpg
END:VEVENT
END:VCALENDAR