BEGIN:VCALENDAR
VERSION:2.0
PRODID:-//rheinbogen.net - ECPv6.15.17.1//NONSGML v1.0//EN
CALSCALE:GREGORIAN
METHOD:PUBLISH
X-ORIGINAL-URL:https://rheinbogen.net
X-WR-CALDESC:Veranstaltungen für rheinbogen.net
REFRESH-INTERVAL;VALUE=DURATION:PT1H
X-Robots-Tag:noindex
X-PUBLISHED-TTL:PT1H
BEGIN:VTIMEZONE
TZID:Europe/Berlin
BEGIN:DAYLIGHT
TZOFFSETFROM:+0100
TZOFFSETTO:+0200
TZNAME:CEST
DTSTART:20230326T010000
END:DAYLIGHT
BEGIN:STANDARD
TZOFFSETFROM:+0200
TZOFFSETTO:+0100
TZNAME:CET
DTSTART:20231029T010000
END:STANDARD
BEGIN:DAYLIGHT
TZOFFSETFROM:+0100
TZOFFSETTO:+0200
TZNAME:CEST
DTSTART:20240331T010000
END:DAYLIGHT
BEGIN:STANDARD
TZOFFSETFROM:+0200
TZOFFSETTO:+0100
TZNAME:CET
DTSTART:20241027T010000
END:STANDARD
BEGIN:DAYLIGHT
TZOFFSETFROM:+0100
TZOFFSETTO:+0200
TZNAME:CEST
DTSTART:20250330T010000
END:DAYLIGHT
BEGIN:STANDARD
TZOFFSETFROM:+0200
TZOFFSETTO:+0100
TZNAME:CET
DTSTART:20251026T010000
END:STANDARD
BEGIN:DAYLIGHT
TZOFFSETFROM:+0100
TZOFFSETTO:+0200
TZNAME:CEST
DTSTART:20260329T010000
END:DAYLIGHT
BEGIN:STANDARD
TZOFFSETFROM:+0200
TZOFFSETTO:+0100
TZNAME:CET
DTSTART:20261025T010000
END:STANDARD
END:VTIMEZONE
BEGIN:VEVENT
DTSTART;TZID=Europe/Berlin:20251111T093000
DTEND;TZID=Europe/Berlin:20251111T233000
DTSTAMP:20260426T003107
CREATED:20251003T100054Z
LAST-MODIFIED:20251003T100054Z
UID:10001292-1762853400-1762903800@rheinbogen.net
SUMMARY:Elfter Elfter in der Maternus stube im veedel
DESCRIPTION:Dieser Eintrag wird Ihnen zur Verfügung gestellt vom Kölner BilderBogen – eines der beliebtesten Stadtmagazine in Köln. Ihr Termin fehlt? Einfach kostenlos einreichen: www.bilderbogen.de/eventeintrag
URL:https://rheinbogen.net/event/elfter-elfter-in-der-maternus-stube-im-veedel
LOCATION:Maternus Stube im Veedel\, Maternusplatz 9\, Köln\, 50996
ATTACH;FMTTYPE=image/jpeg:https://rheinbogen.net/wp-content/uploads/2025/10/WhatsApp-Image-2025-10-02-at-11.59.04-1024x1024-1.jpeg
END:VEVENT
BEGIN:VEVENT
DTSTART;TZID=Europe/Berlin:20251031T170000
DTEND;TZID=Europe/Berlin:20251031T233000
DTSTAMP:20260426T003107
CREATED:20251003T100049Z
LAST-MODIFIED:20251003T100049Z
UID:10001291-1761930000-1761953400@rheinbogen.net
SUMMARY:Halloween
DESCRIPTION:Normale Öffnungszeiten – Party ab 17 Uhr \n\nDieser Eintrag wird Ihnen zur Verfügung gestellt vom Kölner BilderBogen – eines der beliebtesten Stadtmagazine in Köln. Ihr Termin fehlt? Einfach kostenlos einreichen: www.bilderbogen.de/eventeintrag
URL:https://rheinbogen.net/event/halloween
LOCATION:Maternus Stube im Veedel\, Maternusplatz 9\, Köln\, 50996
ATTACH;FMTTYPE=image/jpeg:https://rheinbogen.net/wp-content/uploads/2025/10/WhatsApp-Image-2025-10-02-at-11.55.44-1024x1010-1.jpeg
END:VEVENT
BEGIN:VEVENT
DTSTART;TZID=Europe/Berlin:20250921T110000
DTEND;TZID=Europe/Berlin:20250921T233000
DTSTAMP:20260426T003107
CREATED:20250903T150113Z
LAST-MODIFIED:20250903T160115Z
UID:10001203-1758452400-1758497400@rheinbogen.net
SUMMARY:O’ZAPFT IS
DESCRIPTION:Übertragung der Eröffnung des Oktoberfests in München.\n20.09.2025: Fassanstich in der Maternusstube um 12 Uhr\n21.09.2025 ab 11 Uhr geöffnet\nAlle herzlich willkommen in Tracht. \n\nDieser Eintrag wird Ihnen zur Verfügung gestellt vom Kölner BilderBogen – eines der beliebtesten Stadtmagazine in Köln. Ihr Termin fehlt? Einfach kostenlos einreichen: www.bilderbogen.de/eventeintrag
URL:https://rheinbogen.net/event/ozapft-is-2
LOCATION:Maternus Stube im Veedel\, Maternusplatz 9\, Köln\, 50996
ATTACH;FMTTYPE=image/png:https://rheinbogen.net/wp-content/uploads/2025/09/Bildschirmfoto-2025-09-03-um-16.24.48-708x1024-1.png
END:VEVENT
BEGIN:VEVENT
DTSTART;TZID=Europe/Berlin:20250920T120000
DTEND;TZID=Europe/Berlin:20250920T233000
DTSTAMP:20260426T003107
CREATED:20250903T150108Z
LAST-MODIFIED:20250903T160111Z
UID:10001202-1758369600-1758411000@rheinbogen.net
SUMMARY:O’ZAPFT IS
DESCRIPTION:Übertragung der Eröffnung des Oktoberfests in München.\n20.09.2025: Fassanstich in der Maternusstube um 12 Uhr\n21.09.2025 ab 11 Uhr geöffnet\nAlle herzlich willkommen in Tracht. \n\nDieser Eintrag wird Ihnen zur Verfügung gestellt vom Kölner BilderBogen – eines der beliebtesten Stadtmagazine in Köln. Ihr Termin fehlt? Einfach kostenlos einreichen: www.bilderbogen.de/eventeintrag
URL:https://rheinbogen.net/event/ozapft-is
LOCATION:Maternus Stube im Veedel\, Maternusplatz 9\, Köln\, 50996
ATTACH;FMTTYPE=image/png:https://rheinbogen.net/wp-content/uploads/2025/09/Bildschirmfoto-2025-09-03-um-16.24.48-708x1024-1.png
END:VEVENT
BEGIN:VEVENT
DTSTART;TZID=Europe/Berlin:20250430T190000
DTEND;TZID=Europe/Berlin:20250501T010000
DTSTAMP:20260426T003107
CREATED:20250423T090059Z
LAST-MODIFIED:20250423T100047Z
UID:10000914-1746039600-1746061200@rheinbogen.net
SUMMARY:Tanz in den Mai – Maternusstube Köln-Rodenkirchen
DESCRIPTION:Dieser Eintrag wird Ihnen zur Verfügung gestellt vom Kölner BilderBogen – eines der beliebtesten Stadtmagazine in Köln. Ihr Termin fehlt? Einfach kostenlos einreichen: www.bilderbogen.de/eventeintrag
URL:https://rheinbogen.net/event/tanz-in-den-mai-maternusstube-koeln-rodenkirchen
LOCATION:Maternus Stube im Veedel\, Maternusplatz 9\, Köln\, 50996
ATTACH;FMTTYPE=image/png:https://rheinbogen.net/wp-content/uploads/2025/04/Bildschirmfoto-2025-04-23-um-10.53.19-1024x1024-1.png
ORGANIZER;CN="MS Gastro UG":MAILTO:info@maternusstube.koeln
END:VEVENT
BEGIN:VEVENT
DTSTART;TZID=Europe/Berlin:20250215T100000
DTEND;TZID=Europe/Berlin:20250215T233000
DTSTAMP:20260426T003107
CREATED:20250121T160054Z
LAST-MODIFIED:20250121T160054Z
UID:10000496-1739613600-1739662200@rheinbogen.net
SUMMARY:Après Ski Wochenende
DESCRIPTION:Wir feiern Après Ski Wochenende am 14. und 15.02.2025 täglich ab 10.00 Uhr. \nNatürlich übertragen wir das Finalwochenende der FIS ALPINE SKI WELTMEISTERSCHAFTEN 2025 aus SAALBACH. \nAm Freitag übertragen wir auch das Spiel unseres 1. FC Köln. \n\nDieser Eintrag wird Ihnen zur Verfügung gestellt vom Kölner BilderBogen – eines der beliebtesten Stadtmagazine in Köln. Ihr Termin fehlt? Einfach kostenlos einreichen: www.bilderbogen.de/eventeintrag
URL:https://rheinbogen.net/event/apres-ski-wochenende-2
LOCATION:Maternus Stube im Veedel\, Maternusplatz 9\, Köln\, 50996
ATTACH;FMTTYPE=image/png:https://rheinbogen.net/wp-content/uploads/2025/01/Bildschirmfoto-2025-01-21-um-16.01.09-710x1024-2.png
END:VEVENT
BEGIN:VEVENT
DTSTART;TZID=Europe/Berlin:20250214T100000
DTEND;TZID=Europe/Berlin:20250214T233000
DTSTAMP:20260426T003107
CREATED:20250121T160051Z
LAST-MODIFIED:20250121T160051Z
UID:10000495-1739527200-1739575800@rheinbogen.net
SUMMARY:Après Ski Wochenende
DESCRIPTION:Wir feiern Après Ski Wochenende am 14. und 15.02.2025 täglich ab 10.00 Uhr. \nNatürlich übertragen wir das Finalwochenende der FIS ALPINE SKI WELTMEISTERSCHAFTEN 2025 aus SAALBACH. \nAm Freitag übertragen wir auch das Spiel unseres 1. FC Köln. \n\nDieser Eintrag wird Ihnen zur Verfügung gestellt vom Kölner BilderBogen – eines der beliebtesten Stadtmagazine in Köln. Ihr Termin fehlt? Einfach kostenlos einreichen: www.bilderbogen.de/eventeintrag
URL:https://rheinbogen.net/event/apres-ski-wochenende
LOCATION:Maternus Stube im Veedel\, Maternusplatz 9\, Köln\, 50996
ATTACH;FMTTYPE=image/png:https://rheinbogen.net/wp-content/uploads/2025/01/Bildschirmfoto-2025-01-21-um-16.01.09-710x1024-1.png
END:VEVENT
BEGIN:VEVENT
DTSTART;TZID=Europe/Berlin:20241231T103000
DTEND;TZID=Europe/Berlin:20250101T020000
DTSTAMP:20260426T003107
CREATED:20241119T120111Z
LAST-MODIFIED:20241119T120111Z
UID:10000379-1735641000-1735696800@rheinbogen.net
SUMMARY:Sylvester in der Maternusstube
DESCRIPTION:Dieser Eintrag wird Ihnen zur Verfügung gestellt vom Kölner BilderBogen – eines der beliebtesten Stadtmagazine in Köln. Ihr Termin fehlt? Einfach kostenlos einreichen: www.bilderbogen.de/eventeintrag
URL:https://rheinbogen.net/event/sylvester-in-der-maternusstube
LOCATION:Maternus Stube im Veedel\, Maternusplatz 9\, Köln\, 50996
ATTACH;FMTTYPE=image/png:https://rheinbogen.net/wp-content/uploads/2024/11/Bildschirmfoto-2024-11-19-um-12.05.14-1024x671-2.png
ORGANIZER;CN="MS Gastro UG":MAILTO:info@maternusstube.koeln
END:VEVENT
BEGIN:VEVENT
DTSTART;TZID=Europe/Berlin:20241224T103000
DTEND;TZID=Europe/Berlin:20241224T170000
DTSTAMP:20260426T003107
CREATED:20241119T120107Z
LAST-MODIFIED:20241119T120107Z
UID:10000378-1735036200-1735059600@rheinbogen.net
SUMMARY:Weihnachten in der Maternusstube
DESCRIPTION:  \n  \n  \n  \n\nDieser Eintrag wird Ihnen zur Verfügung gestellt vom Kölner BilderBogen – eines der beliebtesten Stadtmagazine in Köln. Ihr Termin fehlt? Einfach kostenlos einreichen: www.bilderbogen.de/eventeintrag
URL:https://rheinbogen.net/event/weihnachten-in-der-maternusstube
LOCATION:Maternus Stube im Veedel\, Maternusplatz 9\, Köln\, 50996
ATTACH;FMTTYPE=image/png:https://rheinbogen.net/wp-content/uploads/2024/11/Bildschirmfoto-2024-11-19-um-12.05.14-1024x671-1.png
ORGANIZER;CN="MS Gastro UG":MAILTO:info@maternusstube.koeln
END:VEVENT
END:VCALENDAR