BEGIN:VCALENDAR
VERSION:2.0
PRODID:-//rheinbogen.net - ECPv6.15.17.1//NONSGML v1.0//EN
CALSCALE:GREGORIAN
METHOD:PUBLISH
X-WR-CALNAME:rheinbogen.net
X-ORIGINAL-URL:https://rheinbogen.net
X-WR-CALDESC:Veranstaltungen für rheinbogen.net
REFRESH-INTERVAL;VALUE=DURATION:PT1H
X-Robots-Tag:noindex
X-PUBLISHED-TTL:PT1H
BEGIN:VTIMEZONE
TZID:Europe/Berlin
BEGIN:DAYLIGHT
TZOFFSETFROM:+0100
TZOFFSETTO:+0200
TZNAME:CEST
DTSTART:20230326T010000
END:DAYLIGHT
BEGIN:STANDARD
TZOFFSETFROM:+0200
TZOFFSETTO:+0100
TZNAME:CET
DTSTART:20231029T010000
END:STANDARD
BEGIN:DAYLIGHT
TZOFFSETFROM:+0100
TZOFFSETTO:+0200
TZNAME:CEST
DTSTART:20240331T010000
END:DAYLIGHT
BEGIN:STANDARD
TZOFFSETFROM:+0200
TZOFFSETTO:+0100
TZNAME:CET
DTSTART:20241027T010000
END:STANDARD
BEGIN:DAYLIGHT
TZOFFSETFROM:+0100
TZOFFSETTO:+0200
TZNAME:CEST
DTSTART:20250330T010000
END:DAYLIGHT
BEGIN:STANDARD
TZOFFSETFROM:+0200
TZOFFSETTO:+0100
TZNAME:CET
DTSTART:20251026T010000
END:STANDARD
BEGIN:DAYLIGHT
TZOFFSETFROM:+0100
TZOFFSETTO:+0200
TZNAME:CEST
DTSTART:20260329T010000
END:DAYLIGHT
BEGIN:STANDARD
TZOFFSETFROM:+0200
TZOFFSETTO:+0100
TZNAME:CET
DTSTART:20261025T010000
END:STANDARD
END:VTIMEZONE
BEGIN:VEVENT
DTSTART;TZID=Europe/Berlin:20250815T110000
DTEND;TZID=Europe/Berlin:20250815T140000
DTSTAMP:20260426T055130
CREATED:20250707T090036Z
LAST-MODIFIED:20250708T110036Z
UID:10001038-1755255600-1755266400@rheinbogen.net
SUMMARY:Fan-Andacht zum kölschen Doppeljubiläum – 77 Jahre FC & 777 Jahre Kölner Dom
DESCRIPTION:Im Jahr der durch die Zahl sieben geprägten kölschen Jubiläen sind alle Fußballfreunde zum Start in die neue Saison 2025/26 zu einem ökumenischen Wortgottesdienst in den Kölner Dom eingeladen. Die feierliche Andacht beginnt am Freitag\, 15. August um 12 Uhr\, Einlass ab 11 Uhr. \nAuf den Tag genau 777 Jahre nach der Grundsteinlegung des Kölner Domes am 15. August 1248 und im Jahr des 77. Geburtstags des 1. FC Köln kommen Fußballfreunde zum bereits elften Mal in der Kathedrale zusammen\, um Gott um seinen Segen für eine gute Saison und einen fairen Umgang zwischen allen Spielern\, Mannschaften\, Schiedsrichtern und Fans zu bitten. \nFans dürfen sich auf besondere Überraschungen freuen \nAufgrund des besonderen Anlasses findet die Fan-Andacht in diesem Jahr ausnahmsweise am Jahrestag der Dom-Grundsteinlegung und nicht unmittelbar vor dem ersten Saison-Heimspiel des FC gegen den SC Freiburg am letzten August-Wochenende\, sondern bereits vor dem ersten Pflichtspiel im DFB-Pokal beim SSV Jahn Regensburg (Sonntag\, 17. August 2025\, Anstoß 15.30 Uhr) statt. \nWie in den vergangenen Jahren werden wieder zahlreiche FC-Fans in Trikots und mit Fan-Schals zur Fan-Andacht im Kölner Dom erwartet\, aber natürlich sind auch die Fans aller anderen Fußballvereine herzlich eingeladen\, den Gottesdienst mitzufeiern. Alle Fans und vor allem die Besucherinnen und Besucher der Andacht im Dom dürfen sich anlässlich der historischen Dimension des Jubiläums auf besondere Überraschungen freuen. \nDer Liturgie stehen Dom- und Stadtdechant Msgr. Robert Kleine und Stadtsuperintendent Bernhard Seiger vor. Ein besonderes Highlight: die FC-Hymne\, gespielt an der Domorgel. \nDie Andacht wird von DOMRADIO.DE und auf dem Facebook-Kanal des Kölner Domes live übertragen. \nFC bittet um Unterstützung für den Zentral-Dombau-Verein zu Köln \nDamit der Kölner Dom auch zukünftigen Generationen in all seiner Pracht erhalten bleibt\, ruft der 1. FC Köln die FC-Familie anlässlich des Jubiläums zur finanziellen Unterstützung des Zentral-Dombau-Verein zu Köln (ZDV) auf. Für den baulichen Erhalt benötigt das Kölner Wahrzeichen jährlich sieben bis acht Millionen Euro\, rund 60 Prozent dieser Summe steuert der ZDV bei. \nWer den ZDV unterstützen möchte\, kann dies durch eine Mitgliedschaft oder eine Spende tun. Alle Infos dazu gibt’s auf der Homepage des ZDV. \nSpendenkonto \nZentral-Dombau-Verein zu Köln \nCommerzbank AG Köln\, IBAN:  DE51 3704 0044 0508 7655 00\,  BIC:  COBADEFFXXX \n\nDieser Eintrag wird Ihnen zur Verfügung gestellt vom Kölner BilderBogen – eines der beliebtesten Stadtmagazine in Köln. Ihr Termin fehlt? Einfach kostenlos einreichen: www.bilderbogen.de/eventeintrag
URL:https://rheinbogen.net/event/fan-andacht-zum-koelschen-doppeljubilaeum-77-jahre-fc-777-jahre-koelner-dom
LOCATION:Dom
END:VEVENT
BEGIN:VEVENT
DTSTART;TZID=Europe/Berlin:20241208T143000
DTEND;TZID=Europe/Berlin:20241208T160000
DTSTAMP:20260426T055130
CREATED:20240924T030047Z
LAST-MODIFIED:20240924T030047Z
UID:10000149-1733668200-1733673600@rheinbogen.net
SUMMARY:Adventmitspielkonzert im Kölner Dom 2024
DESCRIPTION:Zum 15. Mal musizieren wir mit den Höhnern am 2. Advent im Kölner Dom! Wir freuen uns\, wenn Ihr wieder dabei seid: \nKölner Dom\, 8. Dezember 2024\, Beginn 14:30 Uhr bis 16:00 Uhr\, Einlass ab 13:45 Uhr. \nWer nicht live dabei sein kann: www.domradio.de überträgt live aus dem Kölner Dom\, BibelTV und EWTN übernehmen das Signal \nDie Anmeldung wird am Montag\, den 7. Oktober 2024 um 10 Uhr freigeschaltet unter www.adventmitspielkonzert.de. \nAuf dieser Seite werdet ihr dann auch die Noten und Texte finden. Einfach herunterladen\, ausdrucken und fleißig üben! \nWir bitten Euch\, dass sich ausschließlich Instrumentalisten\, Sängerinnen und Sänger zum Konzert anmelden. Aufgrund der großen Nachfrage können wir leider keine Plätze für Zuschauerinnen und Zuschauer anbieten. \nBild: Robert Becker \n\nDieser Eintrag wird Ihnen zur Verfügung gestellt vom Kölner BilderBogen – eines der beliebtesten Stadtmagazine in Köln. Ihr Termin fehlt? Einfach kostenlos einreichen: www.bilderbogen.de/eventeintrag
URL:https://rheinbogen.net/event/adventmitspielkonzert-im-koelner-dom-2024
LOCATION:Dom
END:VEVENT
END:VCALENDAR