BEGIN:VCALENDAR
VERSION:2.0
PRODID:-//rheinbogen.net - ECPv6.15.17.1//NONSGML v1.0//EN
CALSCALE:GREGORIAN
METHOD:PUBLISH
X-ORIGINAL-URL:https://rheinbogen.net
X-WR-CALDESC:Veranstaltungen für rheinbogen.net
REFRESH-INTERVAL;VALUE=DURATION:PT1H
X-Robots-Tag:noindex
X-PUBLISHED-TTL:PT1H
BEGIN:VTIMEZONE
TZID:Europe/Berlin
BEGIN:DAYLIGHT
TZOFFSETFROM:+0100
TZOFFSETTO:+0200
TZNAME:CEST
DTSTART:20250330T010000
END:DAYLIGHT
BEGIN:STANDARD
TZOFFSETFROM:+0200
TZOFFSETTO:+0100
TZNAME:CET
DTSTART:20251026T010000
END:STANDARD
BEGIN:DAYLIGHT
TZOFFSETFROM:+0100
TZOFFSETTO:+0200
TZNAME:CEST
DTSTART:20260329T010000
END:DAYLIGHT
BEGIN:STANDARD
TZOFFSETFROM:+0200
TZOFFSETTO:+0100
TZNAME:CET
DTSTART:20261025T010000
END:STANDARD
BEGIN:DAYLIGHT
TZOFFSETFROM:+0100
TZOFFSETTO:+0200
TZNAME:CEST
DTSTART:20270328T010000
END:DAYLIGHT
BEGIN:STANDARD
TZOFFSETFROM:+0200
TZOFFSETTO:+0100
TZNAME:CET
DTSTART:20271031T010000
END:STANDARD
END:VTIMEZONE
BEGIN:VEVENT
DTSTART;TZID=Europe/Berlin:20260430T190000
DTEND;TZID=Europe/Berlin:20260501T010000
DTSTAMP:20260425T160749
CREATED:20260314T170107Z
LAST-MODIFIED:20260314T180056Z
UID:10001650-1777575600-1777597200@rheinbogen.net
SUMMARY:Schlager in den Mai
DESCRIPTION:Wir tanzen mit Schlager in den Mai – Live mit dabei sind Achim Petry\, Nadine Sieben und Torben Klein. Zwischen den Live-Auftritten legt DJ Lenni den richtigen Schlager-Sound auf. Ein stimmungsvoller Abend\, perfekt für Mitsing-Momente und beschwingte Begegnungen. \nBitte beachten Sie die Altersregelung\, die Veranstaltung ist für Personen ab 18 Jahren. Die Plätze sind frei wählbar; der Raum ist teilbestuhlt mit züftigen Sitzbänken\, wie man sie von Karneval und Oktoberfesten kennt. \nEinlass am 30.04.2026 19:00 Uhr bis 21:00 Uhr \nBildquelle: Achim Zedler/Fiesta Records (A. Petry)\, Patrizia Doubek (N. Sieben)\, privat (T. Klein\, DJ Lenni) \n\nDieser Eintrag wird Ihnen zur Verfügung gestellt vom Kölner BilderBogen – eines der beliebtesten Stadtmagazine in Köln. Ihr Termin fehlt? Einfach kostenlos einreichen: www.bilderbogen.de/eventeintrag
URL:https://rheinbogen.net/event/schlager-in-den-mai
LOCATION:Bürgerhaus Stollwerk\, Dreikönigenstraße 23\, Köln\, 50678\, Deutschland
ATTACH;FMTTYPE=image/jpeg:https://rheinbogen.net/wp-content/uploads/2026/03/webp.jpg.jpeg
END:VEVENT
END:VCALENDAR