BEGIN:VCALENDAR
VERSION:2.0
PRODID:-//rheinbogen.net - ECPv6.15.17.1//NONSGML v1.0//EN
CALSCALE:GREGORIAN
METHOD:PUBLISH
X-WR-CALNAME:rheinbogen.net
X-ORIGINAL-URL:https://rheinbogen.net
X-WR-CALDESC:Veranstaltungen für rheinbogen.net
REFRESH-INTERVAL;VALUE=DURATION:PT1H
X-Robots-Tag:noindex
X-PUBLISHED-TTL:PT1H
BEGIN:VTIMEZONE
TZID:Europe/Berlin
BEGIN:DAYLIGHT
TZOFFSETFROM:+0100
TZOFFSETTO:+0200
TZNAME:CEST
DTSTART:20240331T010000
END:DAYLIGHT
BEGIN:STANDARD
TZOFFSETFROM:+0200
TZOFFSETTO:+0100
TZNAME:CET
DTSTART:20241027T010000
END:STANDARD
BEGIN:DAYLIGHT
TZOFFSETFROM:+0100
TZOFFSETTO:+0200
TZNAME:CEST
DTSTART:20250330T010000
END:DAYLIGHT
BEGIN:STANDARD
TZOFFSETFROM:+0200
TZOFFSETTO:+0100
TZNAME:CET
DTSTART:20251026T010000
END:STANDARD
BEGIN:DAYLIGHT
TZOFFSETFROM:+0100
TZOFFSETTO:+0200
TZNAME:CEST
DTSTART:20260329T010000
END:DAYLIGHT
BEGIN:STANDARD
TZOFFSETFROM:+0200
TZOFFSETTO:+0100
TZNAME:CET
DTSTART:20261025T010000
END:STANDARD
END:VTIMEZONE
BEGIN:VEVENT
DTSTART;TZID=Europe/Berlin:20251025T153000
DTEND;TZID=Europe/Berlin:20251025T183000
DTSTAMP:20260425T173920
CREATED:20251023T100046Z
LAST-MODIFIED:20251023T100046Z
UID:10001367-1761406200-1761417000@rheinbogen.net
SUMMARY:Seminar Frauengesundheit – interaktiv
DESCRIPTION:Dieses Seminar bietet Frauen ab 40 Jahren wertvolles Wissen für Ihren Weg zu Gesundheit und Wohlbefinden. Die Themen sind: essentielle Mikronährstoffe richtig einsetzen\, Lithium nach M. Nehls\, Schlaf\, Hormone\, Energie\, Freude und Antrieb.\nDas Seminar leitet Dr. Nina Fuchs\, ganzheitliche Medizinerin. \n\nDieser Eintrag wird Ihnen zur Verfügung gestellt vom Kölner BilderBogen – eines der beliebtesten Stadtmagazine in Köln. Ihr Termin fehlt? Einfach kostenlos einreichen: www.bilderbogen.de/eventeintrag
URL:https://rheinbogen.net/event/seminar-frauengesundheit-interaktiv
LOCATION:Bürgerhaus Stollwerk\, Dreikönigenstraße 23\, Köln\, 50678\, Deutschland
ATTACH;FMTTYPE=image/png:https://rheinbogen.net/wp-content/uploads/2025/10/Bildschirmfoto-2025-10-23-um-11.17.41-722x1024-1.png
END:VEVENT
BEGIN:VEVENT
DTSTART;TZID=Europe/Berlin:20250823T140000
DTEND;TZID=Europe/Berlin:20250823T200000
DTSTAMP:20260425T173920
CREATED:20250707T090038Z
LAST-MODIFIED:20250707T100040Z
UID:10001039-1755957600-1755979200@rheinbogen.net
SUMMARY:Veedels- und Demokratiefest am Bürgerhaus Stollwerck
DESCRIPTION:Am Samstag\, den 23.08.2025 findet am Bürgerhaus Stollwerck das diesjährige Veedels- und Demokratiefest statt. Die Feier wird gemeinsam mit dem Fördervereindes Bürgerhauses und mit Unterstützung des Fördervereins der Sparkasse KölnBonn e.V. ausgerichtet. Die Veranstaltung bildet den Höhepunkt verschiedener Aktionen\, die im Rahmen des Projekts „Köln wählt Demokratie“ der „Kölner Elf“\, dem Zusammenschluss der Kölner Bürgerhäuser und Bürgerzentren\, stattfinden. \nDie Besucherinnen und Besucher erwartet ein buntes Programm\, das für alle Interessierten etwas zu bieten hat. Neben Aktionen für Kinder und Jugendliche wird es ein kulturelles Programm geben. Unter Moderation von Helmut Frangenberg werden die Oberbürgermeisterkandidat:innen der in der Innenstadt vertretenen Parteien an einer Podiumsdiskussion teilnehmen und sich zu allgemeinen kommunalpolitischen Themen\, aber auch zu Themen\, die das Veedel und die Bürgerhäuser betreffen\, äußern. \nDas Programm ist folgendermaßen geplant: \n14:00 Uhr – Eröffnung \n14:30 Uhr – Kreativworkshop \n15:30 Uhr – Talk mit den OB-Kandidati:innen \nModeration: Helmut Frangenberg \n16:30 Uhr – Thilo Seibel / Kabarett \n18-20 Uhr – Live-Musik mit „Buntes Herz“ \nDas Team des Bürgerhauses und des Fördervereins wird einen Pop-up-Biergarten und eine Hüpfburg einrichten. Mit Food-Trucks wird für das leibliche Wohl gesorgt. Haben Sie Interesse an Demokratie? An Kultur? An Nachbarschaft und geselligem Beisammensein? Kommen Sie gerne am 23.08.2025 ab 14:00 Uhr zum Bürgerhaus Stollwerck. Die Beteiligten freuen sich über alle Menschen\, die die Veranstaltung durch ihre Anwesenheit und ihre Beiträge bereichern. \n\nDieser Eintrag wird Ihnen zur Verfügung gestellt vom Kölner BilderBogen – eines der beliebtesten Stadtmagazine in Köln. Ihr Termin fehlt? Einfach kostenlos einreichen: www.bilderbogen.de/eventeintrag
URL:https://rheinbogen.net/event/veedels-und-demokratiefest-am-buergerhaus-stollwerck
LOCATION:Bürgerhaus Stollwerk\, Dreikönigenstraße 23\, Köln\, 50678\, Deutschland
END:VEVENT
BEGIN:VEVENT
DTSTART;TZID=Europe/Berlin:20250201T200000
DTEND;TZID=Europe/Berlin:20250201T220000
DTSTAMP:20260425T173920
CREATED:20241205T150044Z
LAST-MODIFIED:20241205T150044Z
UID:10000400-1738440000-1738447200@rheinbogen.net
SUMMARY:Schöne Lieder\, vol. 3 – Klavierkabarett mit Emil Bach
DESCRIPTION:Emil Bach hat ein Problem: Seine Freundin hat sich in einen Toaster verwandelt. Wie kommt man damit klar? Am besten schreibt man ein Lied darüber\, dann hat das Publikum wenigstens auch etwas davon. Denn Emil Bach ist ein außergewöhnlicher Liedermacher\, dessen Werke durch sprachliche Raffinesse und musikalische Vielseitigkeit bestechen. Die Lieder des promovierten Linguisten vereinen intelligenten Humor mit tiefgründiger Nachdenklichkeit und entziehen sich einer klaren Kategorisierung. Er spielt nicht nur eigenwillige Klavierbegleitungen\, sondern auch mit den großen und kleinen Fragen des Alltags. Ob er über schwule Pinguine\, Pizzalieferungen nach Atlantis oder Nudeln mit Ketchup singt – jedes Lied überrascht und entfaltet seine volle Wirkung oft erst in seinem Verlauf bis zum Ende hin. Ob in Wien oder Berlin\, in München oder Cham\, in Stuttgart oder Weimar: Mit seinem Debütprogramm “Schöne Lieder\, vol. 3” begeistert der im Westerwald aufgewachsene und inzwischen im niederbayerischen Exil lebende Kleinkünstler ein stetig wachsendes Publikum. Nach der gelungenen Premiere im Theater509 im Mai 2024 ist er nun erneut dort zu Gast. \n\nDieser Eintrag wird Ihnen zur Verfügung gestellt vom Kölner BilderBogen – eines der beliebtesten Stadtmagazine in Köln. Ihr Termin fehlt? Einfach kostenlos einreichen: www.bilderbogen.de/eventeintrag
URL:https://rheinbogen.net/event/schoene-lieder-vol-3-klavierkabarett-mit-emil-bach
LOCATION:Bürgerhaus Stollwerk\, Dreikönigenstraße 23\, Köln\, 50678\, Deutschland
ATTACH;FMTTYPE=image/png:https://rheinbogen.net/wp-content/uploads/2024/12/Emil-Bach2025_Koeln_Insta-1024x1024-1.png
END:VEVENT
END:VCALENDAR