BEGIN:VCALENDAR
VERSION:2.0
PRODID:-//rheinbogen.net - ECPv6.15.17.1//NONSGML v1.0//EN
CALSCALE:GREGORIAN
METHOD:PUBLISH
X-WR-CALNAME:rheinbogen.net
X-ORIGINAL-URL:https://rheinbogen.net
X-WR-CALDESC:Veranstaltungen für rheinbogen.net
REFRESH-INTERVAL;VALUE=DURATION:PT1H
X-Robots-Tag:noindex
X-PUBLISHED-TTL:PT1H
BEGIN:VTIMEZONE
TZID:Europe/Berlin
BEGIN:DAYLIGHT
TZOFFSETFROM:+0100
TZOFFSETTO:+0200
TZNAME:CEST
DTSTART:20230326T010000
END:DAYLIGHT
BEGIN:STANDARD
TZOFFSETFROM:+0200
TZOFFSETTO:+0100
TZNAME:CET
DTSTART:20231029T010000
END:STANDARD
BEGIN:DAYLIGHT
TZOFFSETFROM:+0100
TZOFFSETTO:+0200
TZNAME:CEST
DTSTART:20240331T010000
END:DAYLIGHT
BEGIN:STANDARD
TZOFFSETFROM:+0200
TZOFFSETTO:+0100
TZNAME:CET
DTSTART:20241027T010000
END:STANDARD
BEGIN:DAYLIGHT
TZOFFSETFROM:+0100
TZOFFSETTO:+0200
TZNAME:CEST
DTSTART:20250330T010000
END:DAYLIGHT
BEGIN:STANDARD
TZOFFSETFROM:+0200
TZOFFSETTO:+0100
TZNAME:CET
DTSTART:20251026T010000
END:STANDARD
END:VTIMEZONE
BEGIN:VEVENT
DTSTART;TZID=Europe/Berlin:20241113T200000
DTEND;TZID=Europe/Berlin:20241113T230000
DTSTAMP:20260422T234108
CREATED:20241007T160047Z
LAST-MODIFIED:20241007T160047Z
UID:10000294-1731528000-1731538800@rheinbogen.net
SUMMARY:Rolly & Benjamin Brings
DESCRIPTION:„Lück sin och Minsche“\nLeeder\, Sprüch un Verzällcher op Kölsch \n\nDieser Eintrag wird Ihnen zur Verfügung gestellt vom Kölner BilderBogen – eines der beliebtesten Stadtmagazine in Köln. Ihr Termin fehlt? Einfach kostenlos einreichen: www.bilderbogen.de/eventeintrag
URL:https://rheinbogen.net/event/rolly-benjamin-brings
LOCATION:bistro verde\, Maternusstraße 6\, Köln\, NRW\, 50996\, Deutschland
ATTACH;FMTTYPE=image/png:https://rheinbogen.net/wp-content/uploads/2024/10/Rolly_Brings_13_11_2024.png
END:VEVENT
BEGIN:VEVENT
DTSTART;TZID=Europe/Berlin:20241108T200000
DTEND;TZID=Europe/Berlin:20241108T220000
DTSTAMP:20260422T234108
CREATED:20240923T200049Z
LAST-MODIFIED:20240923T200049Z
UID:10000125-1731096000-1731103200@rheinbogen.net
SUMMARY:“Antigua” im Bistro Verde
DESCRIPTION:ANTIGUA\n\n\n08. November 2024\n20:00 Uhr – 20 € \nbistro verde in der alten Schmiede\nMaternusstraße 6 | 50996 Köln\nTickets unter 0221 93550417 oder info@walterscheidt.net \nElsa Johanna Mohr – Gesang\, Percussion | Frank Brempel – Geige | José Díaz de León – Gitarre\, Gesang | Stefan Berger – Kontrabass \nFoto: Herand Müller-Scholtes \n\n\nDieser Eintrag wird Ihnen zur Verfügung gestellt vom Kölner BilderBogen – eines der beliebtesten Stadtmagazine in Köln. Ihr Termin fehlt? Einfach kostenlos einreichen: www.bilderbogen.de/eventeintrag
URL:https://rheinbogen.net/event/antigua-im-bistro-verde
LOCATION:bistro verde\, Maternusstraße 6\, Köln\, NRW\, 50996\, Deutschland
ORGANIZER;CN="Bistro Verde":MAILTO:info@walterscheidt.net
END:VEVENT
BEGIN:VEVENT
DTSTART;TZID=Europe/Berlin:20241009T200000
DTEND;TZID=Europe/Berlin:20241009T223000
DTSTAMP:20260422T234108
CREATED:20240923T130044Z
LAST-MODIFIED:20240923T130044Z
UID:10000092-1728504000-1728513000@rheinbogen.net
SUMMARY:50 Jahre Peter Nonn Blues Band
DESCRIPTION:Peter Nonn – Gitarre\, Ukulele\, Mundharmonika\, Gesang | Tom Schäfer – Drums\, Percussion | Frank Weber – Akkordeon\, keyboards | Uwe Sönnichsen – Bass\, Ukulele\, Gesang | Ralf Grottian – Mundharmonika\, Gesang | Tom Reinke – Dobro\, Ukulele\, Mandoline\, Gitarre\, Banjo\, Gesang \nTickets unter 0221 93550417 oder info@walterscheidt.net \n1 Jahr nach AC/DC und The Kiss wurde 1974 die Punkband The Ramones in Queens und die Peter Nonn Bluesband in Leverkusen gegründet und sie ist still alive.\nDer Beginn lag in Atzlenbach bei dem damals noch eigenständigen Bergisch Neukirchen: Dort taten sich Peter Nonn und seine ersten Mitstreiter Erhard Hirt (Gitarre)\, Hans Schneider (Bass) und Schlagzeuger Rüdiger Willms zusammen\, um Rock’n’Roll\, Blues und Spielarten dieser Genres zu spielen. Blues begleitet die Musiker ihr ganzes leben und sie leben ihn auch.\nDer Blues ist zwar nicht die Wurzel allen Übels\, aber die Grundlage für viele schöne Lieder. Ob Country\, Reggae\, Folk\, Rock\, was auch immer\, der Blues ist stets enthalten. Dies spiegelt sich auch im Repertoire der Peter Nonn Blues Band wieder. Entsprechend bunt und vielfältig ist nicht nur die Instrumentierung der Band.\nMan kann die Peter Nonn Band eine Blues Band nennen. In Wirklichkeit ist sie viel mehr: Die Peter Nonn Band lädt uns für einen Abend lang ein\, zu einer großen musikalischen Reise auf den Pfaden der AMERICAN ROOTS MUSIC. \nAus der « Anthology of good contemporary music » von Harlin Wolf\, N.Y. 1994 :\n“Der Blues ist höchstwahrscheinlich eine der wenigen tradierten Geisteshaltungen\, die niemals auf der roten Liste der aussterbenden Arten stehen werden; jedenfalls nicht\, solange es wie auch immer gefärbte Menschen gibt. Denn von 3 haben mindestens 2\,5 Pech: schwarze Magie.\nIn Wirklichkeit aber ist der Blues keine Geisteshaltung\, sondern ein Tier\, das einen überfällt\, wie ein Dieb: wenn man es nämlich gar nicht will.\nDieses Tier lebt nicht nur in Chicago.\nEs versteckt sich auch nicht nur in den Baumwollfeldern des Südens.\nEs kann schwimmen!\nEs schwamm etwa zur Zeit der McCarthy-Ära nach Osten bis in die Hauptstadt des Aspirins\, wo die ganz blassen Menschen wohnen (Menschen wie der Winter). Dort biss es sich fest im größten Bauch\, den es finden konnte: dem von Peter Nonn\, damals noch ein zartes Kind.\nDieser unerschütterliche Mensch trug es mit sich wie einen lieben Freund über viele gemeinsame Jahre und die beiden komponierten später gemeinsam so herzzerreißende Balladen wie „My belly is over the ocean“\, „Stopp missing around“ oder „If a hammer had me“.\nHeute ist dieser ziemlich ausgewachsene Mann höchstwahrscheinlich der größte lebende Bluesmusiker seiner mit Sonne und Baumwolle und Bourbon leider nicht gesegneten Heimat; – zumindestens der schwerwiegendste.“\n(Aus dem Amerikanischen übersetzt von Buddy Sacher) \nPeter Nonn\nFür Peter Nonn fing alles mit „Muddy Waters live at Newport“ an. Er erinnert sich: „Diese Platte bekam ich zu meinem 13. Geburtstag. Das war Musik\, die ich noch nie gehört hatte und die mich faszinierte.“ An die Anfänge seines eigenen musikalischen Schaffens kann sich Peter Nonn genau erinnern: „Im Keller meiner Eltern habe ich mit Rüdiger Willems herumprobiert.“ 1979 landete er bei den „Grand Savannah Jug Stompers“\, mit dabei Dieter Otto Schröer\, Holger Lührig\, Harald Grobusch und Christoph Steinhaus. Gastmusiker halfen mitunter aus: Josef Endres\, Fanny van Acken oder Russell Woodley. Seit 50 Jahren\, also seit 1974 spielt die Peter Nonn Band den Blues. \nRalf Grottian\nRalf Grottian ist wohl einer der versiertesten Mundharmonika und Blues-Harp Spieler des Landes. Ihn braucht man im bistro verde nicht vorzustellen. Er begeisterte schon zusammen mit Richard Bargel. Ralf Grottian stand schon mit etlichen Grössen der Bluesszene auf der Bühne\, u.a. Andy Just(Ford Blues Band)\, Ron Williams\, Luther Allison\, B.B. King\, Jeff Healey\, Roy Herrington\, Louisiana Red Ron Williams Blues Band\, Louisiana Red Blues Band\, Andy Just & The Blue Joint\, Steve Baker\, Harptime Blues Duo\, Paul Shigihara & Andreas Lonardoni\, Mit Paul Shigihara von der WDR Big Band spielte er Studioproduktionen für diverse Filmmusik für Funk und Fernsehen ein. Seit 2014 spielt und singt er in der Peter Nonn Blues Band und seit einer halben Ewigkeit spielt er die Harp bei der Working Blues Band\, den Bluescats und Billy Bob Buddha. \nTom Reinke\nspielt seit 2006 die Dobroguitar\, das 5str. Banjo\, die Mandoline und Ukulele in der Peter Nonn Blues Band. \nUwe Sönnichsen\nspielt den Blues mit der Band seit 1980 \nTom Schäfer am Schlagzeug und Frank Weber spielt Akkordeon und Keyboards. \nWeitere Infos unter:\nhttp://www.bluenotes-koeln.de \nFoto: Peter Nonn \n\nDieser Eintrag wird Ihnen zur Verfügung gestellt vom Kölner BilderBogen – eines der beliebtesten Stadtmagazine in Köln. Ihr Termin fehlt? Einfach kostenlos einreichen: www.bilderbogen.de/eventeintrag
URL:https://rheinbogen.net/event/50-jahre-peter-nonn-blues-band
LOCATION:bistro verde\, Maternusstraße 6\, Köln\, NRW\, 50996\, Deutschland
ATTACH;FMTTYPE=image/jpeg:https://rheinbogen.net/wp-content/uploads/2024/09/Peter-Nonn-bluesband-1024x613-1.jpg
END:VEVENT
END:VCALENDAR