BEGIN:VCALENDAR
VERSION:2.0
PRODID:-//rheinbogen.net - ECPv6.15.17.1//NONSGML v1.0//EN
CALSCALE:GREGORIAN
METHOD:PUBLISH
X-WR-CALNAME:rheinbogen.net
X-ORIGINAL-URL:https://rheinbogen.net
X-WR-CALDESC:Veranstaltungen für rheinbogen.net
REFRESH-INTERVAL;VALUE=DURATION:PT1H
X-Robots-Tag:noindex
X-PUBLISHED-TTL:PT1H
BEGIN:VTIMEZONE
TZID:Europe/Berlin
BEGIN:DAYLIGHT
TZOFFSETFROM:+0100
TZOFFSETTO:+0200
TZNAME:CEST
DTSTART:20250330T010000
END:DAYLIGHT
BEGIN:STANDARD
TZOFFSETFROM:+0200
TZOFFSETTO:+0100
TZNAME:CET
DTSTART:20251026T010000
END:STANDARD
BEGIN:DAYLIGHT
TZOFFSETFROM:+0100
TZOFFSETTO:+0200
TZNAME:CEST
DTSTART:20260329T010000
END:DAYLIGHT
BEGIN:STANDARD
TZOFFSETFROM:+0200
TZOFFSETTO:+0100
TZNAME:CET
DTSTART:20261025T010000
END:STANDARD
BEGIN:DAYLIGHT
TZOFFSETFROM:+0100
TZOFFSETTO:+0200
TZNAME:CEST
DTSTART:20270328T010000
END:DAYLIGHT
BEGIN:STANDARD
TZOFFSETFROM:+0200
TZOFFSETTO:+0100
TZNAME:CET
DTSTART:20271031T010000
END:STANDARD
END:VTIMEZONE
BEGIN:VEVENT
DTSTART;TZID=Europe/Berlin:20260426T150000
DTEND;TZID=Europe/Berlin:20260426T160000
DTSTAMP:20260426T041401
CREATED:20260423T110056Z
LAST-MODIFIED:20260423T120054Z
UID:10001779-1777215600-1777219200@rheinbogen.net
SUMMARY:Kinderlesung: Mimi und der Bestimmertag
DESCRIPTION:Lesung aus dem Kinderbuch „Mimi und der Bestimmertag“ (Autorin: Anna Lisicki-Hehn) \nDarum geht’s:\nMimi hat genug – denn ständig bestimmen andere über sie. Ihre Mama hat eine wunderbare Idee und schenkt ihr einen ganz besonderen Tag: einen Bestimmertag\, an dem Mimi selbst entscheiden darf\, was passiert. Die Kinder begleiten Mimi bei der Lesung durch diesen Tag und erleben\, wie sie auf dem Spielplatz ganz viele Sandkuchen baut\, sich beim Bäcker ihr Lieblingsbrot aussucht und so lange badet\, wie sie möchte. \nFreut euch auf eine gemütliche Atmosphäre und ein schönes Mitmachprogramm\, bei dem die Kinder aktiv eingebunden werden. \nEin Ticket berechtigt zum Eintritt für ein Kind (ab 4 Jahre) inklusive einer Begleitperson. \nTicket kaufen \n\nDieser Eintrag wird Ihnen zur Verfügung gestellt vom Kölner BilderBogen – eines der beliebtesten Stadtmagazine in Köln. Ihr Termin fehlt? Einfach kostenlos einreichen: www.bilderbogen.de/eventeintrag
URL:https://rheinbogen.net/event/kinderlesung-mimi-und-der-bestimmertag
LOCATION:ABOUT:EVENTS\, Barbarastraße 15-17\, Köln\, NRW\, 50996\, Deutschland
ATTACH;FMTTYPE=image/png:https://rheinbogen.net/wp-content/uploads/2026/04/Bilderbogen-Terminkalender-1-1024x576-1.png
END:VEVENT
END:VCALENDAR