BEGIN:VCALENDAR
VERSION:2.0
PRODID:-//rheinbogen.net - ECPv6.15.17.1//NONSGML v1.0//EN
CALSCALE:GREGORIAN
METHOD:PUBLISH
X-WR-CALNAME:rheinbogen.net
X-ORIGINAL-URL:https://rheinbogen.net
X-WR-CALDESC:Veranstaltungen für rheinbogen.net
REFRESH-INTERVAL;VALUE=DURATION:PT1H
X-Robots-Tag:noindex
X-PUBLISHED-TTL:PT1H
BEGIN:VTIMEZONE
TZID:Europe/Berlin
BEGIN:DAYLIGHT
TZOFFSETFROM:+0100
TZOFFSETTO:+0200
TZNAME:CEST
DTSTART:20240331T010000
END:DAYLIGHT
BEGIN:STANDARD
TZOFFSETFROM:+0200
TZOFFSETTO:+0100
TZNAME:CET
DTSTART:20241027T010000
END:STANDARD
BEGIN:DAYLIGHT
TZOFFSETFROM:+0100
TZOFFSETTO:+0200
TZNAME:CEST
DTSTART:20250330T010000
END:DAYLIGHT
BEGIN:STANDARD
TZOFFSETFROM:+0200
TZOFFSETTO:+0100
TZNAME:CET
DTSTART:20251026T010000
END:STANDARD
BEGIN:DAYLIGHT
TZOFFSETFROM:+0100
TZOFFSETTO:+0200
TZNAME:CEST
DTSTART:20260329T010000
END:DAYLIGHT
BEGIN:STANDARD
TZOFFSETFROM:+0200
TZOFFSETTO:+0100
TZNAME:CET
DTSTART:20261025T010000
END:STANDARD
END:VTIMEZONE
BEGIN:VEVENT
DTSTART;TZID=Europe/Berlin:20250627T110000
DTEND;TZID=Europe/Berlin:20250627T160000
DTSTAMP:20260425T211431
CREATED:20250422T100054Z
LAST-MODIFIED:20250422T110050Z
UID:10000913-1751022000-1751040000@rheinbogen.net
SUMMARY:Senioren-Informations-Tag in Rodenkirchen
DESCRIPTION:Lebendig\, unterhaltsam & informativ – Die Seniorenvertretung Rodenkirchen und der Runde Tisch Seniorenarbeit Rodenkirchen laden alle Interessierten zu einem vergnüglichen Tag mit Information zu Themen und Angeboten für ein gutes Leben im Alter ein. \nThemenpavillons\,  Beratung & Seniorenvertretung \n\nWohnen\nPflege & Betreuung\nEhrenamt\, Zivilgesellschaft\n& Nachbarschaft\nBildung & Digitales\nKultur & Kunst\nDemenz\nKörper & Seele\nStadt Köln\nBewegung & Hilfsmittel\n\nSenioren-Infotag 2025 \nProgramm: \n11:00 Uhr \nEröffnung mit Manfred Giesen (Bezirksbürgermeister) und Petra Gehrken (Seniorenvertretung) \n11:15 Uhr \nChurch Rocking mit kölsche Lieder \n12:00 Uhr \nRockchor 60+ der [MA] Music Academy \n12:45 Uhr \nLudwig Sebus eingeladen vom Demenznetz Rodenkirchen \n13:30 Uhr \nLas Mimosas\, Tangoduo mit Geige und Akkordeon \n14:00 Uhr \nIn Bewegung mit Gabriele Röhn\, Übungsleiterin \n14:30 Uhr \nDirk Bell & Lothar Segeler\, Gitarrenduo \n15:15 Uhr \nKölsche Sketche der Fründe vun der Akademie for uns kölsche Sproch e.V. \n15:30 Uhr \nTanzen mit Georg\, Tanzschule Stallnig-Nierhaus \nIllustration: Gerda Laufenberg\, Rodenkirchen \n  \n  \n\nDieser Eintrag wird Ihnen zur Verfügung gestellt vom Kölner BilderBogen – eines der beliebtesten Stadtmagazine in Köln. Ihr Termin fehlt? Einfach kostenlos einreichen: www.bilderbogen.de/eventeintrag
URL:https://rheinbogen.net/event/senioren-informations-tag-in-rodenkirchen
LOCATION:Matenusplatz Rodenkirchen
ATTACH;FMTTYPE=image/png:https://rheinbogen.net/wp-content/uploads/2025/04/Bildschirmfoto-2025-04-22-um-11.28.50.png
END:VEVENT
END:VCALENDAR