BEGIN:VCALENDAR
VERSION:2.0
PRODID:-//rheinbogen.net - ECPv6.15.17.1//NONSGML v1.0//EN
CALSCALE:GREGORIAN
METHOD:PUBLISH
X-ORIGINAL-URL:https://rheinbogen.net
X-WR-CALDESC:Veranstaltungen für rheinbogen.net
REFRESH-INTERVAL;VALUE=DURATION:PT1H
X-Robots-Tag:noindex
X-PUBLISHED-TTL:PT1H
BEGIN:VTIMEZONE
TZID:Europe/Berlin
BEGIN:DAYLIGHT
TZOFFSETFROM:+0100
TZOFFSETTO:+0200
TZNAME:CEST
DTSTART:20230326T010000
END:DAYLIGHT
BEGIN:STANDARD
TZOFFSETFROM:+0200
TZOFFSETTO:+0100
TZNAME:CET
DTSTART:20231029T010000
END:STANDARD
BEGIN:DAYLIGHT
TZOFFSETFROM:+0100
TZOFFSETTO:+0200
TZNAME:CEST
DTSTART:20240331T010000
END:DAYLIGHT
BEGIN:STANDARD
TZOFFSETFROM:+0200
TZOFFSETTO:+0100
TZNAME:CET
DTSTART:20241027T010000
END:STANDARD
BEGIN:DAYLIGHT
TZOFFSETFROM:+0100
TZOFFSETTO:+0200
TZNAME:CEST
DTSTART:20250330T010000
END:DAYLIGHT
BEGIN:STANDARD
TZOFFSETFROM:+0200
TZOFFSETTO:+0100
TZNAME:CET
DTSTART:20251026T010000
END:STANDARD
BEGIN:DAYLIGHT
TZOFFSETFROM:+0100
TZOFFSETTO:+0200
TZNAME:CEST
DTSTART:20260329T010000
END:DAYLIGHT
BEGIN:STANDARD
TZOFFSETFROM:+0200
TZOFFSETTO:+0100
TZNAME:CET
DTSTART:20261025T010000
END:STANDARD
END:VTIMEZONE
BEGIN:VEVENT
DTSTART;TZID=Europe/Berlin:20251003T140000
DTEND;TZID=Europe/Berlin:20251003T230000
DTSTAMP:20260426T055331
CREATED:20250924T110104Z
LAST-MODIFIED:20250924T110104Z
UID:10001273-1759500000-1759532400@rheinbogen.net
SUMMARY:Summer Closing-Party\, Rhein-Roxy
DESCRIPTION:Der Sommer hat uns unvergessliche Momente geschenkt  – doch nun klopft der Herbst  schon an die Tür. Bevor wir die Sonnenbrillen gegen Schals eintauschen\, heißt es: ein letztes Mal Vollgas geben!  Unser großes Summer Closing 2025!  Freitag 03.10.2025 Start: 14:00 Uhr Outdoor Vibes zum Anstoßen & Genießen Später geht’s indoor weiter – bis open end!  Sichert euch jetzt euren Tisch  und feiert mit uns die letzte große Sommer Party des Jahres!Wir freuen uns riesig auf euch – let’s make it unforgettable!  \n\nDieser Eintrag wird Ihnen zur Verfügung gestellt vom Kölner BilderBogen – eines der beliebtesten Stadtmagazine in Köln. Ihr Termin fehlt? Einfach kostenlos einreichen: www.bilderbogen.de/eventeintrag
URL:https://rheinbogen.net/event/summer-closing-party-rhein-roxy
LOCATION:Rhein Roxy Köln
ATTACH;FMTTYPE=image/png:https://rheinbogen.net/wp-content/uploads/2025/09/Bildschirmfoto-2025-09-24-um-12.33.14-818x1024-1.png
END:VEVENT
BEGIN:VEVENT
DTSTART;TZID=Europe/Berlin:20250302T170000
DTEND;TZID=Europe/Berlin:20250303T010000
DTSTAMP:20260426T055331
CREATED:20250113T120047Z
LAST-MODIFIED:20250113T120047Z
UID:10000453-1740934800-1740963600@rheinbogen.net
SUMMARY:KARNEVALSSONNTAG – DIE AFTER ZOCH PARTY – Rhein Roxy
DESCRIPTION:Leev Fründe! \nUnser absolutes Karnevalshighlight am Karnevalssonntag: Die After-Zoch-Party! Schnappt euch eure schnellsten Brillen und Hawaii-Hemden und seid bereit für Malle Anja\, die euch mit Hits wie „Der Zug hat keine Bremsen“\, „Das erste Bier“ und vielen weiteren Tracks richtig einheizen wird! \n\nDieser Eintrag wird Ihnen zur Verfügung gestellt vom Kölner BilderBogen – eines der beliebtesten Stadtmagazine in Köln. Ihr Termin fehlt? Einfach kostenlos einreichen: www.bilderbogen.de/eventeintrag
URL:https://rheinbogen.net/event/karnevalssonntag-die-after-zoch-party-rhein-roxy
LOCATION:Rhein Roxy Köln
ATTACH;FMTTYPE=image/png:https://rheinbogen.net/wp-content/uploads/2025/01/Bildschirmfoto-2025-01-13-um-12.10.41.png
END:VEVENT
BEGIN:VEVENT
DTSTART;TZID=Europe/Berlin:20250301T180000
DTEND;TZID=Europe/Berlin:20250302T010000
DTSTAMP:20260426T055331
CREATED:20250113T120045Z
LAST-MODIFIED:20250113T120045Z
UID:10000452-1740852000-1740877200@rheinbogen.net
SUMMARY:Karnevalssamstag auf dem Rhein Roxy
DESCRIPTION:Feiert mit uns den Karnevalssamstag auf dem Rhein Roxy!\nWann: 01.03.2024\, ab 18 UhrWo: Eventschiff Rhein RoxyEintritt VVK.: 10\n\nFeiert mit uns in bester Karnevalsstimmung! Sichert euch eure Tickets im Vorverkauf und feiert mit uns. Wir freuen uns auf euch!\n\nDieser Eintrag wird Ihnen zur Verfügung gestellt vom Kölner BilderBogen – eines der beliebtesten Stadtmagazine in Köln. Ihr Termin fehlt? Einfach kostenlos einreichen: www.bilderbogen.de/eventeintrag
URL:https://rheinbogen.net/event/karnevalssamstag-auf-dem-rhein-roxy
LOCATION:Rhein Roxy Köln
ATTACH;FMTTYPE=image/png:https://rheinbogen.net/wp-content/uploads/2025/01/Bildschirmfoto-2025-01-13-um-12.10.16.png
END:VEVENT
BEGIN:VEVENT
DTSTART;TZID=Europe/Berlin:20250227T140000
DTEND;TZID=Europe/Berlin:20250227T233000
DTSTAMP:20260426T055331
CREATED:20250113T120042Z
LAST-MODIFIED:20250113T120042Z
UID:10000451-1740664800-1740699000@rheinbogen.net
SUMMARY:Weiberfastnacht 2025 – Rhein Roxy
DESCRIPTION:Feiert mit uns die ausgelassene Weiberfastnacht 2025 an Bord des Rhein Roxy! Am 27. Februar erwartet euch ein unvergesslicher Tag mit Top-Partybeats\, kölschem Karneval und jeder Menge Spaß. Kostüme sind Pflicht – lasst euch von der Karnevals-Stimmung anstecken! Ab 14 Uhr geht’s los\, und bis in den Abend wird gefeiert. \n\nDieser Eintrag wird Ihnen zur Verfügung gestellt vom Kölner BilderBogen – eines der beliebtesten Stadtmagazine in Köln. Ihr Termin fehlt? Einfach kostenlos einreichen: www.bilderbogen.de/eventeintrag
URL:https://rheinbogen.net/event/weiberfastnacht-2025-rhein-roxy
LOCATION:Rhein Roxy Köln
ATTACH;FMTTYPE=image/png:https://rheinbogen.net/wp-content/uploads/2025/01/Bildschirmfoto-2025-01-13-um-12.09.14.png
END:VEVENT
BEGIN:VEVENT
DTSTART;TZID=Europe/Berlin:20250131T190000
DTEND;TZID=Europe/Berlin:20250201T030000
DTSTAMP:20260426T055331
CREATED:20241114T140054Z
LAST-MODIFIED:20241114T140054Z
UID:10000375-1738350000-1738378800@rheinbogen.net
SUMMARY:Roxy Alaaf – Party
DESCRIPTION:🎉 Roxy Alaaf auf dem Eventschiff Rhein Roxy 🎉 \nKöln\, seid ihr bereit für eine unvergessliche Partynacht? Dann kommt am 31. Januar 2024 an Bord der Rhein Roxy und feiert mit uns die Karnevalssession in vollen Zügen! 🚢 \nWann? Einlass ab 19 Uhr \nLive-Auftritte: \n\nBläck Fööss\nEldorado\nTacheles\n\nNach den Live-Auftritten geht die Party weiter – unser DJ sorgt bis 3 Uhr morgens für beste Karnevalsmusik! 💃🕺 \n\nDieser Eintrag wird Ihnen zur Verfügung gestellt vom Kölner BilderBogen – eines der beliebtesten Stadtmagazine in Köln. Ihr Termin fehlt? Einfach kostenlos einreichen: www.bilderbogen.de/eventeintrag
URL:https://rheinbogen.net/event/roxy-alaaf-party
LOCATION:Rhein Roxy Köln
ATTACH;FMTTYPE=image/png:https://rheinbogen.net/wp-content/uploads/2024/11/Bildschirmfoto-2024-11-14-um-11.03.19-1024x676-1.png
END:VEVENT
BEGIN:VEVENT
DTSTART;TZID=Europe/Berlin:20241221T210000
DTEND;TZID=Europe/Berlin:20241222T030000
DTSTAMP:20260426T055331
CREATED:20241114T140048Z
LAST-MODIFIED:20241114T140048Z
UID:10000373-1734814800-1734836400@rheinbogen.net
SUMMARY:Roxy’s Christmas Party
DESCRIPTION:🎄 Roxy’s Christmas Party 🎄\nFeier mit uns die festlichste Zeit des Jahres auf dem Rhein Roxy! \nAm Samstag\, den 21.12. ab 21 Uhr laden wir dich zur Christmas Party auf unser Partyschiff ein.\nFreu dich auf heiße Beats\, Glühwein und jede Menge Weihnachtsstimmung! \nTickets gibt’s im Vorverkauf für 10 €. \n\nDieser Eintrag wird Ihnen zur Verfügung gestellt vom Kölner BilderBogen – eines der beliebtesten Stadtmagazine in Köln. Ihr Termin fehlt? Einfach kostenlos einreichen: www.bilderbogen.de/eventeintrag
URL:https://rheinbogen.net/event/roxys-christmas-party
LOCATION:Rhein Roxy Köln
ATTACH;FMTTYPE=image/png:https://rheinbogen.net/wp-content/uploads/2024/11/Bildschirmfoto-2024-11-14-um-11.13.28.png
END:VEVENT
BEGIN:VEVENT
DTSTART;TZID=Europe/Berlin:20241206T200000
DTEND;TZID=Europe/Berlin:20241207T030000
DTSTAMP:20260426T055331
CREATED:20240924T030043Z
LAST-MODIFIED:20240924T030043Z
UID:10000147-1733515200-1733540400@rheinbogen.net
SUMMARY:Ü 40 Nikolausparty auf dem legänderen Partyschiff Rhein Roxy
DESCRIPTION:Feiern sie mit uns einmal im Monat auf dem legendären Partyschiff mit Top DJ´s. Hier wird getanzt auf alles  \nwas Spaß macht. Wir sind seit über 20 Jahren die Top Location auf dem Wasser vor den Toren Kölns \nEintritt 15\,- zzgl. 15\,- mind. Verzehr  \nKarten an der Abendkasse  \nGruppenreservierungen bitte per mail an office@rhein-.roxy.de \n\nDieser Eintrag wird Ihnen zur Verfügung gestellt vom Kölner BilderBogen – eines der beliebtesten Stadtmagazine in Köln. Ihr Termin fehlt? Einfach kostenlos einreichen: www.bilderbogen.de/eventeintrag
URL:https://rheinbogen.net/event/ue-40-nikolausparty-auf-dem-legaenderen-partyschiff-rhein-roxy
LOCATION:Rhein Roxy Köln
ATTACH;FMTTYPE=image/png:https://rheinbogen.net/wp-content/uploads/2024/09/Bildschirmfoto-2024-09-18-um-12.08.48-1024x390-1.png
END:VEVENT
BEGIN:VEVENT
DTSTART;TZID=Europe/Berlin:20241111T110000
DTEND;TZID=Europe/Berlin:20241111T233000
DTSTAMP:20260426T055331
CREATED:20240923T210050Z
LAST-MODIFIED:20240923T210050Z
UID:10000130-1731322800-1731367800@rheinbogen.net
SUMMARY:11.11 Em Rhein Roxy
DESCRIPTION:Sessionseröffnung Karneval auf dem Rhein Roxy – 11.11. \nDie fünfte Jahreszeit startet! Am 11. November feiern wir gemeinsam die Eröffnung der Karnevalssession auf dem Eventschiff Rhein Roxy. Freut euch auf kölsche Stimmung\, Musik und gute Laune. Der Einlass beginnt ab 11:00 Uhr\, also seid pünktlich und sichert euch die besten Plätze an Bord. \nLasst uns gemeinsam den Rhein rocken und die neue Session gebührend einläuten! Kostüme sind natürlich herzlich willkommen. Alaaf! \nFeiert mit uns die grandiose Sessionseröffnung am 11.11. in Köln! \n🚢 Location: Das Rhein Roxy Eventschiff wird zur Jecken-Hochburg\, wenn wir die Karnevalssaison offiziell einläuten! \n🕚 Startzeit: Um 11 Uhr geht’s los! \n💰 Eintritt: 15€ zzgl. der VVK. Gebühren (Early Bird)\n17€ zzgl. der VVK. Gebühren (Regulär) \n\nDieser Eintrag wird Ihnen zur Verfügung gestellt vom Kölner BilderBogen – eines der beliebtesten Stadtmagazine in Köln. Ihr Termin fehlt? Einfach kostenlos einreichen: www.bilderbogen.de/eventeintrag
URL:https://rheinbogen.net/event/11-11-em-rhein-roxy
LOCATION:Rhein Roxy Köln
ATTACH;FMTTYPE=image/png:https://rheinbogen.net/wp-content/uploads/2024/09/Bildschirmfoto-2024-09-18-um-11.57.24-1024x1014-1.png
END:VEVENT
END:VCALENDAR