BEGIN:VCALENDAR
VERSION:2.0
PRODID:-//rheinbogen.net - ECPv6.15.17.1//NONSGML v1.0//EN
CALSCALE:GREGORIAN
METHOD:PUBLISH
X-WR-CALNAME:rheinbogen.net
X-ORIGINAL-URL:https://rheinbogen.net
X-WR-CALDESC:Veranstaltungen für rheinbogen.net
REFRESH-INTERVAL;VALUE=DURATION:PT1H
X-Robots-Tag:noindex
X-PUBLISHED-TTL:PT1H
BEGIN:VTIMEZONE
TZID:Europe/Berlin
BEGIN:DAYLIGHT
TZOFFSETFROM:+0100
TZOFFSETTO:+0200
TZNAME:CEST
DTSTART:20230326T010000
END:DAYLIGHT
BEGIN:STANDARD
TZOFFSETFROM:+0200
TZOFFSETTO:+0100
TZNAME:CET
DTSTART:20231029T010000
END:STANDARD
BEGIN:DAYLIGHT
TZOFFSETFROM:+0100
TZOFFSETTO:+0200
TZNAME:CEST
DTSTART:20240331T010000
END:DAYLIGHT
BEGIN:STANDARD
TZOFFSETFROM:+0200
TZOFFSETTO:+0100
TZNAME:CET
DTSTART:20241027T010000
END:STANDARD
BEGIN:DAYLIGHT
TZOFFSETFROM:+0100
TZOFFSETTO:+0200
TZNAME:CEST
DTSTART:20250330T010000
END:DAYLIGHT
BEGIN:STANDARD
TZOFFSETFROM:+0200
TZOFFSETTO:+0100
TZNAME:CET
DTSTART:20251026T010000
END:STANDARD
BEGIN:DAYLIGHT
TZOFFSETFROM:+0100
TZOFFSETTO:+0200
TZNAME:CEST
DTSTART:20260329T010000
END:DAYLIGHT
BEGIN:STANDARD
TZOFFSETFROM:+0200
TZOFFSETTO:+0100
TZNAME:CET
DTSTART:20261025T010000
END:STANDARD
END:VTIMEZONE
BEGIN:VEVENT
DTSTART;TZID=Europe/Berlin:20250910T120000
DTEND;TZID=Europe/Berlin:20250910T160000
DTSTAMP:20260426T002319
CREATED:20250903T100103Z
LAST-MODIFIED:20250903T100103Z
UID:10001193-1757505600-1757520000@rheinbogen.net
SUMMARY:Tag der offenen Tür | fns:köln Grundschule
DESCRIPTION:Kommt vorbei und lernt die Grundschule der fns:köln kennen! \nEs gibt ein abwechslungsreiches Programm für die Familie:\n– Einblicke in Unterrichtseinheiten\n– buntes Spielprogramm für Kinder auf dem Schulhof\n– Lagerfeuer & Stockbrot\n– uvm. \nIn unserem Café Krümel wird für das leibliche Wohl gesorgt und das Schülerlädchen (Vintage) lädt zum Stöbern ein. \nWir freuen uns auf Euch! \nBildquelle: Firma „Vivimos ganzheitliche Lebensräume gUG“ \n\nDieser Eintrag wird Ihnen zur Verfügung gestellt vom Kölner BilderBogen – eines der beliebtesten Stadtmagazine in Köln. Ihr Termin fehlt? Einfach kostenlos einreichen: www.bilderbogen.de/eventeintrag
URL:https://rheinbogen.net/event/tag-der-offenen-tuer-fnskoeln-grundschule
LOCATION:Freie Naturschule Köln\, An der Wachsfabrik 25\, Köln\, 50996
ATTACH;FMTTYPE=image/png:https://rheinbogen.net/wp-content/uploads/2025/09/Bildschirmfoto-2025-09-03-um-11.45.04.png
END:VEVENT
BEGIN:VEVENT
DTSTART;TZID=Europe/Berlin:20250704T130000
DTEND;TZID=Europe/Berlin:20250704T180000
DTSTAMP:20260426T002319
CREATED:20250605T120049Z
LAST-MODIFIED:20250605T120049Z
UID:10001006-1751634000-1751652000@rheinbogen.net
SUMMARY:Sommerfest der Freien Naturschule Köln
DESCRIPTION:Die Freien Naturschulen Köln gibt es jetzt 3 Jahre! \nEs gibt ein spannendes Programm für Groß und Klein: Leckereien gibt es im Café Krümel und zum Stöbern und Shoppen schaut ihr bei dem Schülerlädchen (Vinted Markt) und den Ausstellern vorbei. \n\n  \n\n\nGeeignete Altersgruppe(n): \nBaby / Kleinkind\nKita\nGrundschule\n9 – 12 Jahre\nTeenager\nErwachsene\nFamilie\n\n\nBildquelle: DAPA Images\n\nDieser Eintrag wird Ihnen zur Verfügung gestellt vom Kölner BilderBogen – eines der beliebtesten Stadtmagazine in Köln. Ihr Termin fehlt? Einfach kostenlos einreichen: www.bilderbogen.de/eventeintrag
URL:https://rheinbogen.net/event/sommerfest-der-freien-naturschule-koeln
LOCATION:Freie Naturschule Köln\, An der Wachsfabrik 25\, Köln\, 50996
ATTACH;FMTTYPE=image/png:https://rheinbogen.net/wp-content/uploads/2025/06/Bildschirmfoto-2025-06-05-um-11.02.32-1024x612-1.png
END:VEVENT
BEGIN:VEVENT
DTSTART;TZID=Europe/Berlin:20241007T110000
DTEND;TZID=Europe/Berlin:20241007T130000
DTSTAMP:20260426T002319
CREATED:20240930T110045Z
LAST-MODIFIED:20240930T110045Z
UID:10000265-1728298800-1728306000@rheinbogen.net
SUMMARY:Infoveranstaltung “Anmeldung Grundschule” – Freie Naturschule Köln
DESCRIPTION:Infoverantaltung “Anmeldung Grundschule” in der Aula der Freien Naturschulen Köln.\nAdresse: An der Wachsfabrik 25\, 50996 Köln\nBitte zur Veranstaltung anmelden unter Schulplatz \n\nDieser Eintrag wird Ihnen zur Verfügung gestellt vom Kölner BilderBogen – eines der beliebtesten Stadtmagazine in Köln. Ihr Termin fehlt? Einfach kostenlos einreichen: www.bilderbogen.de/eventeintrag
URL:https://rheinbogen.net/event/infoveranstaltung-anmeldung-grundschule-freie-naturschule-koeln
LOCATION:Freie Naturschule Köln\, An der Wachsfabrik 25\, Köln\, 50996
END:VEVENT
END:VCALENDAR