BEGIN:VCALENDAR
VERSION:2.0
PRODID:-//rheinbogen.net - ECPv6.15.17.1//NONSGML v1.0//EN
CALSCALE:GREGORIAN
METHOD:PUBLISH
X-ORIGINAL-URL:https://rheinbogen.net
X-WR-CALDESC:Veranstaltungen für rheinbogen.net
REFRESH-INTERVAL;VALUE=DURATION:PT1H
X-Robots-Tag:noindex
X-PUBLISHED-TTL:PT1H
BEGIN:VTIMEZONE
TZID:Europe/Berlin
BEGIN:DAYLIGHT
TZOFFSETFROM:+0100
TZOFFSETTO:+0200
TZNAME:CEST
DTSTART:20230326T010000
END:DAYLIGHT
BEGIN:STANDARD
TZOFFSETFROM:+0200
TZOFFSETTO:+0100
TZNAME:CET
DTSTART:20231029T010000
END:STANDARD
BEGIN:DAYLIGHT
TZOFFSETFROM:+0100
TZOFFSETTO:+0200
TZNAME:CEST
DTSTART:20240331T010000
END:DAYLIGHT
BEGIN:STANDARD
TZOFFSETFROM:+0200
TZOFFSETTO:+0100
TZNAME:CET
DTSTART:20241027T010000
END:STANDARD
BEGIN:DAYLIGHT
TZOFFSETFROM:+0100
TZOFFSETTO:+0200
TZNAME:CEST
DTSTART:20250330T010000
END:DAYLIGHT
BEGIN:STANDARD
TZOFFSETFROM:+0200
TZOFFSETTO:+0100
TZNAME:CET
DTSTART:20251026T010000
END:STANDARD
BEGIN:DAYLIGHT
TZOFFSETFROM:+0100
TZOFFSETTO:+0200
TZNAME:CEST
DTSTART:20260329T010000
END:DAYLIGHT
BEGIN:STANDARD
TZOFFSETFROM:+0200
TZOFFSETTO:+0100
TZNAME:CET
DTSTART:20261025T010000
END:STANDARD
END:VTIMEZONE
BEGIN:VEVENT
DTSTART;TZID=Europe/Berlin:20251102T163000
DTEND;TZID=Europe/Berlin:20251102T190000
DTSTAMP:20260426T035300
CREATED:20251021T090103Z
LAST-MODIFIED:20251021T090103Z
UID:10001353-1762101000-1762110000@rheinbogen.net
SUMMARY:Romantik ist am Rhein zu Hause\, Konzert im Rahmen der MUSIK IN DER ERLÖSERKIRCHE
DESCRIPTION:Am 2.November um 16.30 Uhr erklingt im großen Saal neben der Erlöserkirche Rodenkirchen\, Sürther Str.34 unter dem Titel „Romantik ist am Rhein zu Hause…“ ein Konzert für Violine und Klavier mit Kostbarkeiten romantischer Musik\, die im Umfeld des Rheinlandes entstanden ist. Eine Fülle der schönsten Musik stammt aus dieser Zeit. Gudrun Höbold\, Violine und Eri Uchino am Flügel gastieren als erfahrene Interpretinnen\, beide haben Lehrauftrage an der Kölner Musikhochschule inne und sind ein gut aufeinander abgestimmtes Duo \, im großen Saal. \nRobert Schumann wirkte in Düsseldorf als Städtischer Musikdirektor\, durch ihn und Clara Schumann\, geb. Wieck\, hatte auch Johannes Brahms eine enge Beziehung zum Rheinland. Max Bruch\, einer der bekanntesten Komponisten der Romantik\, stammt aus Köln. Ebenso sind viele andere Komponisten im Rheinland beheimatet: Engelbert Humperdinck\, der Komponist der Märchenoper „Hänsel und Gretel“; stammt aus Siegburg\, Johann Wilhelm Willms aus Witzhelden bei Leichlingen und Ewald Straesser\, der Spätromantiker\, aus Burscheid. \nDer Eintritt ist frei. Spenden für die MUSIK IN DER ERLÖSERKIRCHE sind willkommen. \n\nDieser Eintrag wird Ihnen zur Verfügung gestellt vom Kölner BilderBogen – eines der beliebtesten Stadtmagazine in Köln. Ihr Termin fehlt? Einfach kostenlos einreichen: www.bilderbogen.de/eventeintrag
URL:https://rheinbogen.net/event/romantik-ist-am-rhein-zu-hause-konzert-im-rahmen-der-musik-in-der-erloeserkirche
LOCATION:Erlöserkirche Rodenkirchen (Saal)\, Sürther Straße 34\, Köln\, 50996\, Deutschland
ATTACH;FMTTYPE=image/png:https://rheinbogen.net/wp-content/uploads/2025/10/Bildschirmfoto-2025-10-21-um-10.08.59-710x1024-1.png
END:VEVENT
BEGIN:VEVENT
DTSTART;TZID=Europe/Berlin:20250914T173000
DTEND;TZID=Europe/Berlin:20250914T193000
DTSTAMP:20260426T035300
CREATED:20250811T110053Z
LAST-MODIFIED:20250811T110053Z
UID:10001124-1757871000-1757878200@rheinbogen.net
SUMMARY:Musikalisch-literarischer Salon : Goethe und Beethoven
DESCRIPTION:Zum ersten Mal findet im großen Saal neben der Erlöserkirche ein Musikalisch-Literarischer Salon für alle Freunde von Literatur und Musik statt. Er stellt Goethe und Beethoven in den Mittelpunkt. \nProf. Dr. Manfred Osten spricht als ausgewiesener Goethekenner und begeisternder Vermittler zur Aktualität des Goetheschen Beethovenverständnisses unter dem Leitgedanken  „ Energischer\, inniger\, zusammengeraffter habe ich noch keinen Künstler gesehen“. \nProf. Ilja Scheps spielt Beethovens Klaviersonaten „Sonata quasi una Fantasia“ op. 27 Nr. 2 und die Klaviersonate „Grande Sonate Pathétique“ op. 13 . \nDas inspirierend angelegte Format findet statt am Sonntag 14.9.2025\, um 17.30 Uhr im Saal neben der Erlöserkirche\, Sürther Str.34. Karten sind an der Tageskasse erhältlich zu 15\,-€. Schüler und Studierende zahlen 5\,-€. Die Veranstaltung findet in Zusammenarbeit mit dem Lions-Hilfswerk Köln-Caligula e.V. statt. \n\nDieser Eintrag wird Ihnen zur Verfügung gestellt vom Kölner BilderBogen – eines der beliebtesten Stadtmagazine in Köln. Ihr Termin fehlt? Einfach kostenlos einreichen: www.bilderbogen.de/eventeintrag
URL:https://rheinbogen.net/event/musikalisch-literarischer-salon-goethe-und-beethoven
LOCATION:Ev. Kirche Rodenkirchen Gemeindesaal\, Sürther Straße 34\, Köln\, NRW\, 50996\, Deutschland
ATTACH;FMTTYPE=image/png:https://rheinbogen.net/wp-content/uploads/2025/08/Bildschirmfoto-2025-08-11-um-12.33.09-726x1024-1.png
END:VEVENT
BEGIN:VEVENT
DTSTART;TZID=Europe/Berlin:20250906T140000
DTEND;TZID=Europe/Berlin:20250906T190000
DTSTAMP:20260426T035300
CREATED:20250903T110100Z
LAST-MODIFIED:20250903T110100Z
UID:10001194-1757167200-1757185200@rheinbogen.net
SUMMARY:Gemeindefest in Rodenkirchen Musik\, Spiel\, Andacht und Begegnung für Jung und Alt
DESCRIPTION:Am Samstag\, 6. September\, ab 14 Uhr lädt die Evangelische Kirchengemeinde Rodenkirchen herzlich zum Gemeindefest auf die Wiese und den Kindergartenparkplatz an der Erlöserkirche\, Sürther Straße 34 ein. Bei Andacht\, Musik und einem abwechslungsreichen Programm für alle Altersgruppen wird bis in den Abend gemeinsam gefeiert. Freuen können sich die Gäste auf Kaffee und Kuchen\, Pommes und Würstchen\, Spiel und Spaß für Kinder\, eine Hüpfburg\, Bingo sowie verschiedene Musik-Acts. Das Fest bietet viele Gelegenheiten zur Begegnung und zum geselligen Miteinander.www.erloeserkirche-rodenkirchen.de \n\nDieser Eintrag wird Ihnen zur Verfügung gestellt vom Kölner BilderBogen – eines der beliebtesten Stadtmagazine in Köln. Ihr Termin fehlt? Einfach kostenlos einreichen: www.bilderbogen.de/eventeintrag
URL:https://rheinbogen.net/event/gemeindefest-in-rodenkirchen-musik-spiel-andacht-und-begegnung-fuer-jung-und-alt
LOCATION:Erlöserkirche Rodenkirchen\, Sürther Str. 34\, Köln\, 50996
END:VEVENT
BEGIN:VEVENT
DTSTART;TZID=Europe/Berlin:20250628T180000
DTEND;TZID=Europe/Berlin:20250628T210000
DTSTAMP:20260426T035300
CREATED:20250520T110057Z
LAST-MODIFIED:20250520T130053Z
UID:10000971-1751133600-1751144400@rheinbogen.net
SUMMARY:Tango de Cologne-Rheinisches Temperament trifft Argentinisches Corazon!
DESCRIPTION:Rheinisches Temperament trifft Argentinisches Corazon am Samstag\, 28.Juni 2025 um 18 Uhr bei einem Konzert im Saal neben der Erlöserkirche\, Sürther Str. 34. „Tango de Cologne“ hat sich mittlerweile zu einem der gefragtesten Tango-Ensembles in Deutschland entwickelt. Das liegt nicht zuletzt an der ganz eigenen Note\, die das Ensemble in den Tango einbringt. Hier erklingen nicht nur argentinische Tangos in höchster Virtuosität\, sondern auch der rheinische Tango\, der von diesem Ensemble kreiert wurde. Der Tango in seiner konzertanten Form wird ebenso brilliant serviert wie auch die tanzbaren\, klassischen Tangos. Spontane Tanzeinlagen der Zuschauer werden gerne gesehen – eine Freude für das Publikum und auch für die Künstler. \nHenrik Albrecht hat als Reisender zwischen Buenos Aires und Köln beide Tango-Kulturen in seinen rheinischen Tangobearbeitungen vereint. Den Pianisten Stefan Thomas verschlägt es in seinen Tangoarrangements an andere Teile des Rheins zum Beispiel nach St. Goarshausen. Wolfgang Richter\, vormals Mitglied des Gürzenichorchesters bereichert das Ensemble um den edlen Klang der Kölner Orchester Kultur. Seit seinem letzten Konzert in der Erlöserkirche-da noch als Ensemble „Tango para Ti-hat die Formation virtuosen Zuwachs bekommen\, in Form des neuen Bassisten Markus Gantenberg\, der vielen Rodenkirchenern auch aus seiner anderen Profession bekannt ist. \nDer Eintritt zu diesem Konzert ist frei. Spenden für die MUSIK IN DER ERLÖSERKIRCHE sind willkommen. \n\nDieser Eintrag wird Ihnen zur Verfügung gestellt vom Kölner BilderBogen – eines der beliebtesten Stadtmagazine in Köln. Ihr Termin fehlt? Einfach kostenlos einreichen: www.bilderbogen.de/eventeintrag
URL:https://rheinbogen.net/event/tango-de-cologne-rheinisches-temperament-trifft-argentinisches-corazon
LOCATION:Ev. Kirche Rodenkirchen Gemeindesaal\, Sürther Straße 34\, Köln\, NRW\, 50996\, Deutschland
ATTACH;FMTTYPE=image/png:https://rheinbogen.net/wp-content/uploads/2025/05/Bildschirmfoto-2025-05-20-um-11.18.19.png
END:VEVENT
BEGIN:VEVENT
DTSTART;TZID=Europe/Berlin:20250525T170000
DTEND;TZID=Europe/Berlin:20250525T190000
DTSTAMP:20260426T035300
CREATED:20250506T100102Z
LAST-MODIFIED:20250506T110054Z
UID:10000939-1748192400-1748199600@rheinbogen.net
SUMMARY:Orgelszene International- Orgelmusik aus Großbritannien\, den USA\, Finnland und den Niederlanden
DESCRIPTION:Orgelszene International- Orgelmusik aus Großbritannien\, den USA\, Finnland und den Niederlanden \nWerke von Gordon Young\, Charles Callahan\, Marko Hakanpää\, Margaretha Christina de Jong und anderen\nan der Orgel: Jens-Peter Enk \nDer Eintritt ist frei. Spenden für die MUSIK IN DER ERLÖSERKIRCHE sind willkommen. \nAttraktive\, häufig virtuose Stücke der Orgel-Szene  Großbritanniens\, der Vereinigten Staaten Amerikas\, Finnlands und der Niederlande stehen auf dem Programm. Zuhörende  können sich  auf ein Programm-Bukett der besonderen Art freuen.\nDer Interpret Jens-Peter Enk wurde 1971 in Braunschweig geboren und erlernte mit sieben Jahren zunächst das Klavier- und mit elf Jahren das Orgelspiel. Bereits mit 13 Jahren war er Organist einer Kirchengemeinde im Kreis Peine bei Hannover. Sein Studium der evangelischen Kirchenmusik schloss er mit dem A-Examen ab. Konzertreisen führten ihn ins In – und Ausland. Nach Stationen als zweiter Kirchenmusiker an der St. Andreas-Kirche in Hildesheim\, wo sich die größte Orgel Niedersachsens befindet\, und als Kantor und Organist an der Christuskirche in Düsseldorf\, wurde er 2012 bis 2018 als Leiter in die Arbeitsstelle Kirchenmusik im Theologischen Zentrum der Evangelischen Kirche im Rheinland\, Wuppertal\, berufen. Daneben bekleidet er die A-Stelle an der Evangelischen Kirchengemeinde in Wuppertal-Unterbarmen. 2017 wurde er von der Kirchenleitung der evangelischen Kirche im Rheinland zum Kirchenmusikdirektor ernannt.Seit 2019 ist Jens-Peter Enk als Kreiskantor des evangelischen Kirchenkreises Wuppertal tätig und leitet das Referat „Kirche\, Kultur und Musik“ für den Kirchenkreis Wuppertal. \n\nDieser Eintrag wird Ihnen zur Verfügung gestellt vom Kölner BilderBogen – eines der beliebtesten Stadtmagazine in Köln. Ihr Termin fehlt? Einfach kostenlos einreichen: www.bilderbogen.de/eventeintrag
URL:https://rheinbogen.net/event/orgelszene-international-orgelmusik-aus-grossbritannien-den-usa-finnland-und-den-niederlanden
LOCATION:Erlöserkirche Rodenkirchen\, Sürther Str. 34\, Köln\, 50996
ATTACH;FMTTYPE=image/png:https://rheinbogen.net/wp-content/uploads/2025/05/Bildschirmfoto-2025-05-06-um-11.21.27-734x1024-1.png
END:VEVENT
BEGIN:VEVENT
DTSTART;TZID=Europe/Berlin:20250330T100000
DTEND;TZID=Europe/Berlin:20250330T160000
DTSTAMP:20260426T035300
CREATED:20250211T110038Z
LAST-MODIFIED:20250211T110038Z
UID:10000710-1743328800-1743350400@rheinbogen.net
SUMMARY:Bazar Kleiderkammer Erlöserkirche Rodenkirchen
DESCRIPTION:Dieser Eintrag wird Ihnen zur Verfügung gestellt vom Kölner BilderBogen – eines der beliebtesten Stadtmagazine in Köln. Ihr Termin fehlt? Einfach kostenlos einreichen: www.bilderbogen.de/eventeintrag
URL:https://rheinbogen.net/event/bazar-kleiderkammer-erloeserkirche-rodenkirchen
LOCATION:Ev. Kirche Rodenkirchen Gemeindesaal\, Sürther Straße 34\, Köln\, NRW\, 50996\, Deutschland
END:VEVENT
BEGIN:VEVENT
DTSTART;TZID=Europe/Berlin:20250309T163000
DTEND;TZID=Europe/Berlin:20250309T183000
DTSTAMP:20260426T035300
CREATED:20250211T120036Z
LAST-MODIFIED:20250211T120036Z
UID:10000711-1741537800-1741545000@rheinbogen.net
SUMMARY:Konzert im Saal – Musik und Literatur
DESCRIPTION:Sonntag\, 9. März 2025\, 16.30 Uhr \nKonzert im Saal Musik und Literatur \nSturm und Drang: Johann Wolfgang von Goethe und Ludwig van Beethoven Prof. Dr. Leo Kreutzer\, Lesung Prof. Ilja Scheps\, Klavier (Foto rechte Seite) Lassen Sie sich einladen zu einem neuen Format: Musik begegnet Literatur\, an diesem Nachmittag interpretiert und vorgestellt von zwei Experten und Meistern ihres jeweiligen Faches. Eintritt: 10 Euro; Schüler\, Studenten 5 Euro. Die Veranstaltung findet in Zusammenarbeit mit dem Lions-Hilfswerk Köln-Caligula e.V. statt. \n\nDieser Eintrag wird Ihnen zur Verfügung gestellt vom Kölner BilderBogen – eines der beliebtesten Stadtmagazine in Köln. Ihr Termin fehlt? Einfach kostenlos einreichen: www.bilderbogen.de/eventeintrag
URL:https://rheinbogen.net/event/konzert-im-saal-musik-und-literatur
LOCATION:Erlöserkirche Rodenkirchen (Saal)\, Sürther Straße 34\, Köln\, 50996\, Deutschland
END:VEVENT
BEGIN:VEVENT
DTSTART;TZID=Europe/Berlin:20250213T190000
DTEND;TZID=Europe/Berlin:20250213T213000
DTSTAMP:20260426T035300
CREATED:20250206T110045Z
LAST-MODIFIED:20250206T110045Z
UID:10000634-1739473200-1739482200@rheinbogen.net
SUMMARY:Ein Abend zu Katharina Luther Film und Gespräch in der Erlöserkirche
DESCRIPTION:Pfarrer Simon Manderla stellt am Donnerstag\, 13. Februar\, 19 Uhr bis 21.30 Uhr\, im Gemeindesaal der Erlöserkirche Rodenkirchen\, Sürther Straße 34\, das Leben und Wirken von Katharina Luther vor\, einer Persönlichkeit aus dem Zeitalter der Reformation. Es wird einen kurzen Input geben und ein längerer Film gezeigt. Anschließend gibt es Gelegenheit zum Austausch. An einem weiteren Abend am Donnerstag\, 13. März\, 19 Uhr\, steht Huldrych Zwingli im Mittelpunkt. Der Eintritt ist jeweils frei.www.erloeserkirche-rodenkirchen.de \n\nDieser Eintrag wird Ihnen zur Verfügung gestellt vom Kölner BilderBogen – eines der beliebtesten Stadtmagazine in Köln. Ihr Termin fehlt? Einfach kostenlos einreichen: www.bilderbogen.de/eventeintrag
URL:https://rheinbogen.net/event/ein-abend-zu-katharina-luther-film-und-gespraech-in-der-erloeserkirche
LOCATION:Erlöserkirche Rodenkirchen (Saal)\, Sürther Straße 34\, Köln\, 50996\, Deutschland
END:VEVENT
BEGIN:VEVENT
DTSTART;TZID=Europe/Berlin:20250126T160000
DTEND;TZID=Europe/Berlin:20250126T180000
DTSTAMP:20260426T035300
CREATED:20241218T120055Z
LAST-MODIFIED:20241218T120055Z
UID:10000436-1737907200-1737914400@rheinbogen.net
SUMMARY:Le rouge chante:  französische Lieder und Gedichte\, Erlöserkirche Rodenkirchen
DESCRIPTION:Le rouge chante:  französische Lieder und Gedichte \nAm Sonntag 26.Januar 2025\, 16 Uhr bringt Sylvain Pesenti unter dem Titel „ Le rouge chante“ im großen Saal neben der Erlöserkirche mit dem Vortrag französischer Lieder und seiner Chanterue ( einer Art Leierkasten) und seiner Gitarre ein Stück Frankreich nach Rodenkirchen. Er trägt Chansons und Gedichte über Liebe\, Kunst und Freundschaft in französischer und deutscher Sprache vor. Der Eintritt ist frei. Spenden für die MUSIK IN DER ERLÖSERKIRCHE sind willkommen. \nSonntag\, 26.Januar 2025\, 16 Uhr \nErlöserkirche\, großer Saal \nFranzösische Chansons und Gedichte \nmit Sylvain Pesenti \nDer Eintritt ist frei. Spenden für die MUSIK IN DER ERLÖSERKIRCHE sind willkommen. \nBildquelle: evangelische Kirchengemeinde Rodenkirchen \n\nDieser Eintrag wird Ihnen zur Verfügung gestellt vom Kölner BilderBogen – eines der beliebtesten Stadtmagazine in Köln. Ihr Termin fehlt? Einfach kostenlos einreichen: www.bilderbogen.de/eventeintrag
URL:https://rheinbogen.net/event/le-rouge-chante-franzoesische-lieder-und-gedichte-erloeserkirche-rodenkirchen
LOCATION:Erlöserkirche Rodenkirchen (Saal)\, Sürther Straße 34\, Köln\, 50996\, Deutschland
ATTACH;FMTTYPE=image/png:https://rheinbogen.net/wp-content/uploads/2024/12/Bildschirmfoto-2024-12-18-um-12.14.28-828x1024-1.png
END:VEVENT
BEGIN:VEVENT
DTSTART;TZID=Europe/Berlin:20241208T163000
DTEND;TZID=Europe/Berlin:20241208T180000
DTSTAMP:20260426T035300
CREATED:20241114T090045Z
LAST-MODIFIED:20241114T090045Z
UID:10000371-1733675400-1733680800@rheinbogen.net
SUMMARY:Singet fröhlich im Advent-offenes Singen alter und neuerer Advents- Lieder
DESCRIPTION:Am Sonntag 8.12.2024\, 16.30 Uhr  lädt die Evangelische Kirchengemeinde Rodenkirchen  zu einem offenen Singen bekannter und neuerer Adventslieder in die Erlöserkirche \, Sürther Str.34\, ein.  Mit Unterstützung der Kantorei Rodenkirchen werden bekannte und neuere Adventslieder gesungen. Zu dem stimmungsvollen Format bei Kerzenschein und am Adventskranz sind ebenso herzlich alle eingeladen\, die gerne adventliche Musik hören\, aber nicht gerne singen. Die Moderation liegt bei Kantorin Barbara Mulack. Zugleich ist Gelegenheit vor und nach dem Konzert \, die in der Erlöserkirche Station machende Gesangbuchausstellung im Rahmen des Festjahres „ 500 Jahre Evangelisches Gesangbuch“ mit alten und neuen Büchern anzuschauen. Der Eintritt ist frei. Spenden für die MUSIK IN DER ERLÖSERKIRCHE sind willkommen. \n\nDieser Eintrag wird Ihnen zur Verfügung gestellt vom Kölner BilderBogen – eines der beliebtesten Stadtmagazine in Köln. Ihr Termin fehlt? Einfach kostenlos einreichen: www.bilderbogen.de/eventeintrag
URL:https://rheinbogen.net/event/singet-froehlich-im-advent-offenes-singen-alter-und-neuerer-advents-lieder
LOCATION:Erlöserkirche Rodenkirchen\, Sürther Str. 34\, Köln\, 50996
ATTACH;FMTTYPE=image/png:https://rheinbogen.net/wp-content/uploads/2024/11/Bildschirmfoto-2024-11-14-um-09.49.40-742x1024-1.png
END:VEVENT
BEGIN:VEVENT
DTSTART;TZID=Europe/Berlin:20241206T150000
DTEND;TZID=Europe/Berlin:20241206T190000
DTSTAMP:20260426T035300
CREATED:20241128T080052Z
LAST-MODIFIED:20241128T080052Z
UID:10000392-1733497200-1733511600@rheinbogen.net
SUMMARY:Nikolausfest an der Evangelischen Kirche
DESCRIPTION:Von 15.00-19.00 Uhr gibt es Waffeln\, Kinderpunsch\, Glühwein\, Bratwürstchen und Kölsch auf dem Kirchenvorplatz. Die Kinder des Kindergartens bereiten einen Programmpunkt vor und um 16.00 Uhr kommt der Nikolaus vorbei. \nWir freuen uns auf einen schönes Nikolausfest! \n\nDieser Eintrag wird Ihnen zur Verfügung gestellt vom Kölner BilderBogen – eines der beliebtesten Stadtmagazine in Köln. Ihr Termin fehlt? Einfach kostenlos einreichen: www.bilderbogen.de/eventeintrag
URL:https://rheinbogen.net/event/nikolausfest-an-der-evangelischen-kirche
LOCATION:Erlöserkirche Rodenkirchen\, Sürther Str. 34\, Köln\, 50996
ATTACH;FMTTYPE=image/png:https://rheinbogen.net/wp-content/uploads/2024/11/Bildschirmfoto-2024-11-28-um-08.21.43-730x1024-1.png
END:VEVENT
BEGIN:VEVENT
DTSTART;TZID=Europe/Berlin:20241124T163000
DTEND;TZID=Europe/Berlin:20241124T183000
DTSTAMP:20260426T035300
CREATED:20241017T090101Z
LAST-MODIFIED:20241017T090101Z
UID:10000314-1732465800-1732473000@rheinbogen.net
SUMMARY:Mehrchörige Musik der Renaissance- und Barockzeit- Erlöserkirche Rodenkirchen
DESCRIPTION:Werke von G.Gabrieli\, C.Monteverdi\, G.Frescobaldi\, H.Schütz\, Marc-Antoine Charpentier u.a. \nNicole Ferrein\, Sopran \nGambenensemble Torben Claes \nCoro Monte Zavelli\, Blockflötenensemble \nLeitung: Katja Beisch \nDer Eintritt ist frei. Spenden für die MUSIK IN DER ERLÖSERKIRCHE sind willkommen. \n500 Jahre Evangelisches Gesangbuch-Ausstellung in der Erlöserkirche \nVom 24.11.2024 bis 8.12.2024 macht in der Erlöserkirche Rodenkirchen anläßlich des Festjahres „ 500 Jahre Evangelisches Gesangbuch“ eine interessante Gesangbuchausstellung Station. Sechs KirchenmusikerInnen des Kirchenkreises Köln-Süd haben ihre Gesangbuchschätze zusammengetragen\, um sie für eine interessierte Öffentlichkeit aufzuschließen. Ausgestellt werden Faksimiles historischer Gesangbücher aus dem 16. bis 18. Jahrhundert – darunter natürlich das Achtliederbuch – so wie Originalausgaben seit dem 19. Jahrhundert. Sie werden durch eröffnende Texte vorgestellt und eingeführt und laden einfach zum Blättern ein. QR-Codes zu Aufnahmen bestimmter Lieder machen das Gelesene „anhörlicher“.Sitzgelegenheiten laden dazu ein auch längere Zeit in einem bestimmten Buch zu versinken. Als Kuriosum gibt es Nachbildungen sogenannter Liedertische zu sehen: Im Original sind dies Kalksteintische\, in die Partituren bzw. Psalmlieder eingeätzt sind zum direkten Ablesen. Auch Hintergrundliteratur zur Lied- und Gesangbuchgeschichte sowie Verweise auf das in Entstehung befindliche neue Gesangbuch runden die Ausstellung ab. \nDie Besucher können alle Exponate in die Hand nehmen und darin stöbern. Die Ausstellung ist am 24.11.2024 ab 15.30 Uhr und nach dem Konzert\, ebenfalls am Mittwoch 27.11.2024 und Mittwoch 4.12.2024 in der Zeit von 16.30 bis 18.30 Uhr sowie vor und nach den Sonntagsgottesdiensten geöffnet. Weitere Besichtigungs-Zeiten können mit Kantorin Barbara Mulack barbara.mulack@ekir.de vereinbart werden. \n\nDieser Eintrag wird Ihnen zur Verfügung gestellt vom Kölner BilderBogen – eines der beliebtesten Stadtmagazine in Köln. Ihr Termin fehlt? Einfach kostenlos einreichen: www.bilderbogen.de/eventeintrag
URL:https://rheinbogen.net/event/mehrchoerige-musik-der-renaissance-und-barockzeit-erloeserkirche-rodenkirchen
LOCATION:Erlöserkirche Rodenkirchen\, Sürther Str. 34\, Köln\, 50996
END:VEVENT
BEGIN:VEVENT
DTSTART;TZID=Europe/Berlin:20241103T100000
DTEND;TZID=Europe/Berlin:20241103T160000
DTSTAMP:20260426T035300
CREATED:20240923T180053Z
LAST-MODIFIED:20240923T180053Z
UID:10000120-1730628000-1730649600@rheinbogen.net
SUMMARY:Basar der Kleiderkammer Erlöserkirche -Rodenkirchen
DESCRIPTION:Dieser Eintrag wird Ihnen zur Verfügung gestellt vom Kölner BilderBogen – eines der beliebtesten Stadtmagazine in Köln. Ihr Termin fehlt? Einfach kostenlos einreichen: www.bilderbogen.de/eventeintrag
URL:https://rheinbogen.net/event/basar-der-kleiderkammer-erloeserkirche-rodenkirchen
LOCATION:Erlöserkirche Rodenkirchen (Saal)\, Sürther Straße 34\, Köln\, 50996\, Deutschland
END:VEVENT
BEGIN:VEVENT
DTSTART;TZID=Europe/Berlin:20240929T100000
DTEND;TZID=Europe/Berlin:20240929T120000
DTSTAMP:20260426T035300
CREATED:20240924T120050Z
LAST-MODIFIED:20240924T120050Z
UID:10000191-1727604000-1727611200@rheinbogen.net
SUMMARY:Musik in der Erlöserkirche: Bach-Kantaten zum Erntedankfest
DESCRIPTION:Zum Erntedankfest lädt die Evangelische Kirchengemeinde Rodenkirchen zu einem festlichen Kantatengottesdienst mit Kantaten von Johann Sebastian Bach am Sonntag 29.9.2024 um 10 Uhr in der Erlöserkirche Rodenkirchen\, Sürther Str.34 ein. Die Bach-Kantate „ Gelobet sei der Herr“\, BWV 129 und Auszüge aus der Bach-Kantate „Wir danken dir\, Gott\, wir danken dir\, BWV 29 werden erklingen. Bach besetzt beide Kantaten mit Solisten\, Chor und festlich strahlendem Orchester mit drei Trompeten\, Pauken\, Oboen\, Flauto traverso\, Streichern und Basso Continuo. Es wirken mit: Gela Birckenstaedt\, Sopran\, Dorothee Merkel\, Alt\, Gustav Muthmann\, Bass\, die Kantorei Rodenkirchen und das Orchester Rodenkirchener Barock auf Barockinstrumenten. Die musikalische Leitung hat Kantorin Barbara Mulack. \n\nDieser Eintrag wird Ihnen zur Verfügung gestellt vom Kölner BilderBogen – eines der beliebtesten Stadtmagazine in Köln. Ihr Termin fehlt? Einfach kostenlos einreichen: www.bilderbogen.de/eventeintrag
URL:https://rheinbogen.net/event/musik-in-der-erloeserkirche-bach-kantaten-zum-erntedankfest
LOCATION:Erlöserkirche Rodenkirchen\, Sürther Str. 34\, Köln\, 50996
END:VEVENT
END:VCALENDAR