BEGIN:VCALENDAR
VERSION:2.0
PRODID:-//rheinbogen.net - ECPv6.15.17.1//NONSGML v1.0//EN
CALSCALE:GREGORIAN
METHOD:PUBLISH
X-ORIGINAL-URL:https://rheinbogen.net
X-WR-CALDESC:Veranstaltungen für rheinbogen.net
REFRESH-INTERVAL;VALUE=DURATION:PT1H
X-Robots-Tag:noindex
X-PUBLISHED-TTL:PT1H
BEGIN:VTIMEZONE
TZID:Europe/Berlin
BEGIN:DAYLIGHT
TZOFFSETFROM:+0100
TZOFFSETTO:+0200
TZNAME:CEST
DTSTART:20240331T010000
END:DAYLIGHT
BEGIN:STANDARD
TZOFFSETFROM:+0200
TZOFFSETTO:+0100
TZNAME:CET
DTSTART:20241027T010000
END:STANDARD
BEGIN:DAYLIGHT
TZOFFSETFROM:+0100
TZOFFSETTO:+0200
TZNAME:CEST
DTSTART:20250330T010000
END:DAYLIGHT
BEGIN:STANDARD
TZOFFSETFROM:+0200
TZOFFSETTO:+0100
TZNAME:CET
DTSTART:20251026T010000
END:STANDARD
BEGIN:DAYLIGHT
TZOFFSETFROM:+0100
TZOFFSETTO:+0200
TZNAME:CEST
DTSTART:20260329T010000
END:DAYLIGHT
BEGIN:STANDARD
TZOFFSETFROM:+0200
TZOFFSETTO:+0100
TZNAME:CET
DTSTART:20261025T010000
END:STANDARD
END:VTIMEZONE
BEGIN:VEVENT
DTSTART;TZID=Europe/Berlin:20250616T143000
DTEND;TZID=Europe/Berlin:20250616T160000
DTSTAMP:20260422T123507
CREATED:20250414T120102Z
LAST-MODIFIED:20250414T120102Z
UID:10000901-1750084200-1750089600@rheinbogen.net
SUMMARY:Café – Villa AWO
DESCRIPTION:Wir laden Sie herzlich zu einem gemütlichen Nachmittag in die Villa AWO ein.\nEs gibt selbstgebackenen Kuchen und Kaffee. \n\nDieser Eintrag wird Ihnen zur Verfügung gestellt vom Kölner BilderBogen – eines der beliebtesten Stadtmagazine in Köln. Ihr Termin fehlt? Einfach kostenlos einreichen: www.bilderbogen.de/eventeintrag
URL:https://rheinbogen.net/event/cafe-villa-awo-7
LOCATION:Villa AWO\, Walther-Rathenau-Str. 9\, Köln\, NRW\, 50996\, Deutschland
ATTACH;FMTTYPE=image/png:https://rheinbogen.net/wp-content/uploads/2025/04/Bildschirmfoto-2025-04-14-um-10.04.47.png
ORGANIZER;CN="AWO":MAILTO:gemeinsamsindwirstaerker@awo-koeln.de
END:VEVENT
BEGIN:VEVENT
DTSTART;TZID=Europe/Berlin:20250616T190000
DTEND;TZID=Europe/Berlin:20250616T203000
DTSTAMP:20260422T123507
CREATED:20250520T100105Z
LAST-MODIFIED:20250520T100105Z
UID:10000968-1750100400-1750105800@rheinbogen.net
SUMMARY:Lesung: HAIRY QUEEN – Warum Körperbehaarung politisch ist…
DESCRIPTION:Lesung & Gespräch: Franziska Setare Koohestani ist freie Autorin und Journalistin\, die regelmäßig für SZ Jetzt\, das junge Online-Magazin der Süddeutschen Zeitung\, schreibt. In ihrem Buch „Hairy Queen“\, das im Frühjahr 2024 beim Ullstein Verlag erschienen ist\, taucht sie mit uns ein in die faszinierende und nicht minder problematische Welt der Schönheitsnormen\, der Pop- und Subkultur sowie der Körper- und Gesellschaftspolitik.\nAußerdem diskutiert sie verschiedene Diskriminierungsformen und ihre Arbeit im Kontext von Anti-Rassismus und Feminismus. \nFranziska teilt ihre persönlichen Erfahrungen und untersucht mit einem interdisziplinären Blick auf medizinische\, kulturhistorische und soziologische Quellen\, was Körperbehaarung wirklich mit Biologie\, gesellschaftlichen Normen\, Rassismus\, Kapitalismus und Geschlecht zu tun hat. Sie gibt uns auch einen Ausblick darauf\, wie ein zukunftsweisender Umgang mit Körperbehaarung aussehen könnte. \nBildquelle: © N. Schweiß \nTickets via E-Mail oder vor Ort: kleinepausepodcast@gmail.com \n\nDieser Eintrag wird Ihnen zur Verfügung gestellt vom Kölner BilderBogen – eines der beliebtesten Stadtmagazine in Köln. Ihr Termin fehlt? Einfach kostenlos einreichen: www.bilderbogen.de/eventeintrag
URL:https://rheinbogen.net/event/lesung-hairy-queen-warum-koerperbehaarung-politisch-ist
LOCATION:Kaiserin-Augusta-Schule (Städt. Gymnasium Köln)\, Georgsplatz 10\, Köln\, NRW\, 50676\, Deutschland
ATTACH;FMTTYPE=image/png:https://rheinbogen.net/wp-content/uploads/2025/05/Bildschirmfoto-2025-05-20-um-10.14.18.png
END:VEVENT
BEGIN:VEVENT
DTSTART;TZID=Europe/Berlin:20250616T190000
DTEND;TZID=Europe/Berlin:20250616T220000
DTSTAMP:20260422T123507
CREATED:20250324T090050Z
LAST-MODIFIED:20250324T090050Z
UID:10000825-1750100400-1750111200@rheinbogen.net
SUMMARY:Bla Bla & Dei Dei Es gibt keine normalen Menschen — es gibt nur die Menschen
DESCRIPTION:Das Konzert auch im Gedenken an Frank Hocker wurde noch nie in Köln gespielt!\nVorgestern die Kasse aufgemacht und schon weit über die Hälfte der Karten gegen Spenden an den Vringstreff e.V. vergeben können!\nMontag\, den 16.Juni 2025 von 19 – 22 Uhr. Einlaß 18:30 Uhr.\n\nBenefitkonzert zu Gunsten des Vringstreff e.V. mit Gerd „Jächt“ Köster im Pfarrsaal von St.Severin.\nKarten gibt es aktuell bei mir über Facebook\, oder auf „Zuruf“ über meine Mailadresse\, schreibt mir und dann macht Eure Spende und ich setze Euch auf die Gäste-Spendeliste:-)\n\nSpendenhöhe für die Karte(n) nach Eurem Gusto\, alles zwischen 25 – 99 Euro(uns mehr;-) )  ist willkommen und hilft dem Vringstreff sein wichtige Arbeit zu leisten.\nwww.vringstreff.de\n\n\nBla Bla & Dei Dei\nEs gibt keine normalen Menschen —\nes gibt nur die Menschen.\nBlues\, Balladen und Krätzjen von Köster/Hocker und\n„The Piano has been drinking“\,\ndazu einige kölsche Gedichte\, Geschichten und Anekdoten\nmit Gerd Köster\, Stimme\nPete Haaser Keyboards\, Akkordeon\nPascal Pohlscheidt Gitarren\, Körper-Atem-Stimme\n\n\nDieser Eintrag wird Ihnen zur Verfügung gestellt vom Kölner BilderBogen – eines der beliebtesten Stadtmagazine in Köln. Ihr Termin fehlt? Einfach kostenlos einreichen: www.bilderbogen.de/eventeintrag
URL:https://rheinbogen.net/event/bla-bla-dei-dei-es-gibt-keine-normalen-menschen-es-gibt-nur-die-menschen
LOCATION:St. Severin\, Im Ferkulum 29\, Köln\, 50678
ATTACH;FMTTYPE=image/png:https://rheinbogen.net/wp-content/uploads/2025/03/Bildschirmfoto-2025-03-24-um-09.48.55.png
END:VEVENT
BEGIN:VEVENT
DTSTART;TZID=Europe/Berlin:20250617T160000
DTEND;TZID=Europe/Berlin:20250617T170000
DTSTAMP:20260422T123507
CREATED:20250526T080053Z
LAST-MODIFIED:20250526T090053Z
UID:10000981-1750176000-1750179600@rheinbogen.net
SUMMARY:Vorlesen mit dem Kamishibai-Erzähltheater / Stadtteilbibliothek Rodenkirchen
DESCRIPTION:Für Kinder von 4 bis 6 Jahren.\nWarum ist das Kamishibai ein Erzähltheater ? Weil es sich um eine kleine Erzählbühne handelt\, die aus einem Holzkasten mit Flügeltüren\, Vorhang und Bildkarten besteht. Die Bildkarten mit den Orginalillustrationen des Buches erhöhen die Aufmerksamkeit und die Konzentration auf die Geschichte\, die wir erzählen. Im Anschluss können die Kinder immer Bilder\, die zur Geschichte passen\, ausmalen.\nTeilnahme kostenlos\nAnmeldung erforderlich unter rodenkirchen@stbib-koeln.de \nBildquelle:Stadtbibliothek Köln \n  \n\nDieser Eintrag wird Ihnen zur Verfügung gestellt vom Kölner BilderBogen – eines der beliebtesten Stadtmagazine in Köln. Ihr Termin fehlt? Einfach kostenlos einreichen: www.bilderbogen.de/eventeintrag
URL:https://rheinbogen.net/event/vorlesen-mit-dem-kamishibai-erzaehltheater-stadtteilbibliothek-rodenkirchen-3
LOCATION:Stadtteil-Bibliothek Rodenkirchen\, Schillingsrotter Str. 38\, Köln\, NRW\, 50996\, Deutschland
ATTACH;FMTTYPE=image/png:https://rheinbogen.net/wp-content/uploads/2025/05/Bildschirmfoto-2025-05-26-um-09.26.44-1024x660-1.png
END:VEVENT
BEGIN:VEVENT
DTSTART;TZID=Europe/Berlin:20250617T173000
DTEND;TZID=Europe/Berlin:20250617T183000
DTSTAMP:20260422T123507
CREATED:20250602T110047Z
LAST-MODIFIED:20250602T110047Z
UID:10000987-1750181400-1750185000@rheinbogen.net
SUMMARY:Kreißsaal Infoabend im Severinsklösterchen
DESCRIPTION:An jedem dritten Dienstag im Juni und Juli finden um 17:45 Infoabende rund um die Geburt bei uns im Cellitinnen-Severinsklösterchen Krankenhaus der Augustinerinnen statt. Am 17. Juni gibt es einen zusätzlichen Termin um 19 Uhr. \nUm auf Ihre Fragen eingehen zu können\, ist die Teilnehmerzahl begrenzt. Bitte melden Sie sich über Doctolib zu dem gewünschten Termin an. \nhttps://www.doctolib.de/krankenhaus/koeln/krankenhaus-der-augustinerinnen-frauenklinik-geburtshilfe \nÜbrigens:\nAn jedem ersten Dienstag im Juni und Juli findet um 18.00 Uhr ein virtueller Infoabend unseres Kreißsaals statt. Da auch hier die Teilnehmerzahl pro Veranstaltung auf 30 Personen bzw. Paare begrenzt ist\, ist eine Anmeldung erforderlich.\nBitte melden Sie sich für den Online-Infoabend bis spätestens montags\, 16 Uhr vor dem jeweiligen Termin bei der Kreißsaalambulanz an: kkreisssaal@severinskloesterchen.de \n\nDieser Eintrag wird Ihnen zur Verfügung gestellt vom Kölner BilderBogen – eines der beliebtesten Stadtmagazine in Köln. Ihr Termin fehlt? Einfach kostenlos einreichen: www.bilderbogen.de/eventeintrag
URL:https://rheinbogen.net/event/kreisssaal-infoabend-im-severinskloesterchen
LOCATION:Krankenhaus der Augustinerinnen\, Jakobstraße 27–31\, Köln\, NRW\, 50678\, Deutschland
ATTACH;FMTTYPE=image/png:https://rheinbogen.net/wp-content/uploads/2025/06/Bildschirmfoto-2025-06-02-um-12.20.02-1-1024x719-1.png
END:VEVENT
BEGIN:VEVENT
DTSTART;TZID=Europe/Berlin:20250617T190000
DTEND;TZID=Europe/Berlin:20250617T200000
DTSTAMP:20260422T123507
CREATED:20250602T110048Z
LAST-MODIFIED:20250602T110048Z
UID:10000988-1750186800-1750190400@rheinbogen.net
SUMMARY:Kreißsaal Infoabend im Severinsklösterchen
DESCRIPTION:An jedem dritten Dienstag im Juni und Juli finden um 17:45 Infoabende rund um die Geburt bei uns im Cellitinnen-Severinsklösterchen Krankenhaus der Augustinerinnen statt. Am 17. Juni gibt es einen zusätzlichen Termin um 19 Uhr. \nUm auf Ihre Fragen eingehen zu können\, ist die Teilnehmerzahl begrenzt. Bitte melden Sie sich über Doctolib zu dem gewünschten Termin an. \nhttps://www.doctolib.de/krankenhaus/koeln/krankenhaus-der-augustinerinnen-frauenklinik-geburtshilfe \nÜbrigens:\nAn jedem ersten Dienstag im Juni und Juli findet um 18.00 Uhr ein virtueller Infoabend unseres Kreißsaals statt. Da auch hier die Teilnehmerzahl pro Veranstaltung auf 30 Personen bzw. Paare begrenzt ist\, ist eine Anmeldung erforderlich.\nBitte melden Sie sich für den Online-Infoabend bis spätestens montags\, 16 Uhr vor dem jeweiligen Termin bei der Kreißsaalambulanz an: kkreisssaal@severinskloesterchen.de \n\nDieser Eintrag wird Ihnen zur Verfügung gestellt vom Kölner BilderBogen – eines der beliebtesten Stadtmagazine in Köln. Ihr Termin fehlt? Einfach kostenlos einreichen: www.bilderbogen.de/eventeintrag
URL:https://rheinbogen.net/event/kreisssaal-infoabend-im-severinskloesterchen-2
LOCATION:Krankenhaus der Augustinerinnen\, Jakobstraße 27–31\, Köln\, NRW\, 50678\, Deutschland
ATTACH;FMTTYPE=image/png:https://rheinbogen.net/wp-content/uploads/2025/06/Bildschirmfoto-2025-06-02-um-12.20.02-1-1024x719-1.png
END:VEVENT
BEGIN:VEVENT
DTSTART;VALUE=DATE:20250619
DTEND;VALUE=DATE:20250621
DTSTAMP:20260422T123507
CREATED:20250114T120054Z
LAST-MODIFIED:20250114T120054Z
UID:10000464-1750291200-1750463999@rheinbogen.net
SUMMARY:Frühlingsmarkt – Rodenkirchen
DESCRIPTION:Dieser Eintrag wird Ihnen zur Verfügung gestellt vom Kölner BilderBogen – eines der beliebtesten Stadtmagazine in Köln. Ihr Termin fehlt? Einfach kostenlos einreichen: www.bilderbogen.de/eventeintrag
URL:https://rheinbogen.net/event/fruehlingsmarkt-rodenkirchen
LOCATION:Matenusplatz Rodenkirchen
ATTACH;FMTTYPE=image/png:https://rheinbogen.net/wp-content/uploads/2025/01/Bildschirmfoto-2025-01-14-um-12.04.00-736x1024-3.png
ORGANIZER;CN="Treffpunkt Rodenkirchen":MAILTO:info@treffpunkt-rodenkirchen.de
END:VEVENT
BEGIN:VEVENT
DTSTART;TZID=Europe/Berlin:20250620T150000
DTEND;TZID=Europe/Berlin:20250620T220000
DTSTAMP:20260422T123507
CREATED:20250515T150110Z
LAST-MODIFIED:20250621T110050Z
UID:10000956-1750431600-1750456800@rheinbogen.net
SUMMARY:Sommerfest 2025 – 20 Jahre SANTOS
DESCRIPTION:Liebe Grillfans\, \nam 28. Juni 2025 ist es endlich wieder soweit: Wir feiern von 15 bis 22 Uhr das SANTOS Sommerfest 2025 in Köln und freuen uns riesig auf Euch! An diesem Tag wird gefeiert\, gegrillt & gechillt! In diesem Jahr sind wir in besonderer Feierlaune\, denn: SANTOS wird 20 und wir wollen unser Jubiläum mit Euch feiern! \nDas erwartet Euch:\n\nGrillen & Chillen mit Euch – unseren Freunden\, Grillenthusiasten und besten Kunden!\nUnsere Santos Grillmeister moderieren das Event von Tag bis Abend\nZahlreiche Hersteller sind vor Ort und zaubern auf ihren Grills unverwechselbare Köstlichkeiten\nEisfahrrad und Foodtruck aus der Santos Familie\nLivemusik von Ben Randerath und den The Stompin‘ Gents\nEine Tombola mit starken Preisen (unter anderem 20x unser S418 im Wert von 1249 € sowie Pizzaöfen\, Grillzubehör und Co.)\nViel Platz für jeden Gast\, viel Auswahl\, k(l)eine Schlangen an den Ständen 😉\n\nFür unsere kleinen Grillfans:\n\nDas große Santos Kindergrillen\nSuperhelden-Schminken\nDer zauberhafte Magier Astro Aldino\nRitterhüpfburg zum Erobern\n\n\nDieser Eintrag wird Ihnen zur Verfügung gestellt vom Kölner BilderBogen – eines der beliebtesten Stadtmagazine in Köln. Ihr Termin fehlt? Einfach kostenlos einreichen: www.bilderbogen.de/eventeintrag
URL:https://rheinbogen.net/event/sommerfest-2025-20-jahre-santos
LOCATION:Santos\, Hafenstraße 1\, Köln\, NRW\, 51063\, Deutschland
ATTACH;FMTTYPE=image/png:https://rheinbogen.net/wp-content/uploads/2025/05/Bildschirmfoto-2025-05-15-um-14.53.34-725x1024-1.png
END:VEVENT
BEGIN:VEVENT
DTSTART;TZID=Europe/Berlin:20250620T160000
DTEND;TZID=Europe/Berlin:20250620T170000
DTSTAMP:20260422T123507
CREATED:20250526T080055Z
LAST-MODIFIED:20250526T080055Z
UID:10000982-1750435200-1750438800@rheinbogen.net
SUMMARY:MINT-Zeit: Vorlesen und Experimentieren / Stadtteilbibliothek Rodenkirchen
DESCRIPTION:Für Kinder von 6 bis 8 Jahren.\nIn der MINT-Zeit regen wir Kinder an\, sich kreativ mit MINT-Themen zu beschäftigen. Nach einem Vorlesen zur Einführung in das Thema der Stunde können die Kinder eigene kleine Experimente machen.\nTeilnahme kostenlos\nAnmeldung erforderlich unter rodenkirchen@stbib-koeln.de \nBildquelle: Stadtbibliothek Köln \n  \n\nDieser Eintrag wird Ihnen zur Verfügung gestellt vom Kölner BilderBogen – eines der beliebtesten Stadtmagazine in Köln. Ihr Termin fehlt? Einfach kostenlos einreichen: www.bilderbogen.de/eventeintrag
URL:https://rheinbogen.net/event/mint-zeit-vorlesen-und-experimentieren-stadtteilbibliothek-rodenkirchen-3
LOCATION:Stadtteil-Bibliothek Rodenkirchen\, Schillingsrotter Str. 38\, Köln\, NRW\, 50996\, Deutschland
ATTACH;FMTTYPE=image/png:https://rheinbogen.net/wp-content/uploads/2025/05/Bildschirmfoto-2025-05-26-um-09.26.44-1024x660-1.png
END:VEVENT
BEGIN:VEVENT
DTSTART;TZID=Europe/Berlin:20250621T140000
DTEND;TZID=Europe/Berlin:20250621T220000
DTSTAMP:20260422T123507
CREATED:20241210T140051Z
LAST-MODIFIED:20241210T140051Z
UID:10000426-1750514400-1750543200@rheinbogen.net
SUMMARY:Sommerfest der KG Kapelle Jonge Köln-Weiss von 1947 e.V.
DESCRIPTION:Unser großes Familiensommerfest in Weiß. \nEs erwarten Euch:\nAuftritt des Tanzcorps der KG Kapelle Jonge\nviele Spielstationen\nÜberraschungsacts\nKöstlichkeiten \nBild: Christian Pieck\, Presse- u. Öffentlichkeitsarbeit KG Kapelle Jonge \n\nDieser Eintrag wird Ihnen zur Verfügung gestellt vom Kölner BilderBogen – eines der beliebtesten Stadtmagazine in Köln. Ihr Termin fehlt? Einfach kostenlos einreichen: www.bilderbogen.de/eventeintrag
URL:https://rheinbogen.net/event/sommerfest-der-kg-kapelle-jonge-koeln-weiss-von-1947-e-v
LOCATION:Albert-Schweitzer-Grundschule\, Zum Hedelsberg 13\, Köln\, NRW\, 50999\, Deutschland
ATTACH;FMTTYPE=image/png:https://rheinbogen.net/wp-content/uploads/2024/12/Bildschirmfoto-2024-12-10-um-12.22.31-1024x708-1.png
ORGANIZER;CN="Kapelle Jonge":MAILTO:info@kapelle-jonge.de
END:VEVENT
BEGIN:VEVENT
DTSTART;TZID=Europe/Berlin:20250621T150000
DTEND;TZID=Europe/Berlin:20250621T200000
DTSTAMP:20260422T123507
CREATED:20250521T090105Z
LAST-MODIFIED:20250521T090105Z
UID:10000975-1750518000-1750536000@rheinbogen.net
SUMMARY:Kleingärtnerverein „KGV Sonnenhang e.V.“ feiert 90. Jubiläum – Ein knappes Jahrhundert grüner Gemeinschaft
DESCRIPTION:Der Kleingärtnerverein „KGV Sonnenhang e.V.“ feiert am 21.06.2025 das 90-jährige Bestehen mit einem großen Jubiläumsfest an der Schillingsrotter Str. 70. \nDer Kleingärtnerverein blickt stolz auf eine beeindruckende Geschichte zurück: Vor 90 Jahren wurde der Verein gegründet\, um Menschen jeden Alters die Freude am Gärtnern\, die Gemeinschaft und die Natur näherzubringen. Dieses bedeutende Jubiläum wird am 21.06.2025 ab 15:00 Uhr mit einer festlichen Veranstaltung auf dem Vereinsgelände gefeiert. \nDas Jubiläumsjahr steht ganz im Zeichen der Erinnerung an die Vergangenheit und der Ausblick auf eine weiterhin blühende Zukunft. Neben einem bunten Programm für Jung und Alt\, das unter anderem musikalische Darbietungen von lokalen Künstlern beinhaltet\, wird es die wohl größte Tombola geben\, die je in Rodenkirchen stattgefunden hat. Für das kulinarische Wohl ist ebenfalls ausreichend gesorgt\, unsere Gäste können leckere Grillspezialitäten und erfrischende Getränke unter freiem Himmel genießen. \nDer Vorstand des KGV Sonnenhang e.V. lädt alle Mitglieder\, Freunde\, Förderer und Interessierte herzlich ein\, gemeinsam diesen besonderen Tag unvergesslich werden zu lassen. Bezirksbürgermeister Manfred Giesen hat sein Kommen bereits zugesagt. \nÜber den Kleingärtnerverein KGV Sonnenhang e.V. \nSeit 1935 bietet der KGV Sonnenhang e.V. eine grüne Oase für Menschen die Freude am Gärtnern haben. Mit seinen knapp 180 Mitgliedern ist er ein wichtiger Bestandteil der Gemeinschaft in Köln Rodenkirchen und zudem ein wichtiger und ganzjähriger Anlauf- und Erholungspunkt für Jung und Alt. \n\nDieser Eintrag wird Ihnen zur Verfügung gestellt vom Kölner BilderBogen – eines der beliebtesten Stadtmagazine in Köln. Ihr Termin fehlt? Einfach kostenlos einreichen: www.bilderbogen.de/eventeintrag
URL:https://rheinbogen.net/event/kleingaertnerverein-kgv-sonnenhang-e-v-feiert-90-jubilaeum-ein-knappes-jahrhundert-gruener-gemeinschaft
LOCATION:Vereinheim Kleingartenanlage Sonnenhang\, Schillingsrotter Str. 70\, Köln\, 50996
END:VEVENT
BEGIN:VEVENT
DTSTART;TZID=Europe/Berlin:20250622T063000
DTEND;TZID=Europe/Berlin:20250622T163000
DTSTAMP:20260422T123507
CREATED:20250424T140054Z
LAST-MODIFIED:20250424T140054Z
UID:10000921-1750573800-1750609800@rheinbogen.net
SUMMARY:Radttouristkfahrt (RTF) des Radtouristikclub Rodenkirchen
DESCRIPTION:Ausgeschilderte Radtouren für Hobby RennradfahrerInnen im Rahmen der KölnChallange www.koelnchallange.de Die Strecken sind 45 – 210 km lang. KInder fahren im Rahmen des Kids-Cup eine kurze Strecke; geführte Ladys Tour; unterwegs gibt es Verpflegungsstationen mit Getränken und Snacks\, die im Preis enthalten sind. \n6 €  bis 12 €; je nach gewählter Tourenlänge \n\nDieser Eintrag wird Ihnen zur Verfügung gestellt vom Kölner BilderBogen – eines der beliebtesten Stadtmagazine in Köln. Ihr Termin fehlt? Einfach kostenlos einreichen: www.bilderbogen.de/eventeintrag
URL:https://rheinbogen.net/event/radttouristkfahrt-rtf-des-radtouristikclub-rodenkirchen
LOCATION:Berufsbildungswerk Michaelshoven\, Martinsweg 11\, Köln\, NRW\, 50999\, Deutschland
ATTACH;FMTTYPE=image/jpeg:https://rheinbogen.net/wp-content/uploads/2025/04/KoelnChallenge-1-scaled-1-461x1024-1.jpg
END:VEVENT
END:VCALENDAR