BEGIN:VCALENDAR
VERSION:2.0
PRODID:-//rheinbogen.net - ECPv6.15.17.1//NONSGML v1.0//EN
CALSCALE:GREGORIAN
METHOD:PUBLISH
X-WR-CALNAME:rheinbogen.net
X-ORIGINAL-URL:https://rheinbogen.net
X-WR-CALDESC:Veranstaltungen für rheinbogen.net
REFRESH-INTERVAL;VALUE=DURATION:PT1H
X-Robots-Tag:noindex
X-PUBLISHED-TTL:PT1H
BEGIN:VTIMEZONE
TZID:Europe/Berlin
BEGIN:DAYLIGHT
TZOFFSETFROM:+0100
TZOFFSETTO:+0200
TZNAME:CEST
DTSTART:20240331T010000
END:DAYLIGHT
BEGIN:STANDARD
TZOFFSETFROM:+0200
TZOFFSETTO:+0100
TZNAME:CET
DTSTART:20241027T010000
END:STANDARD
BEGIN:DAYLIGHT
TZOFFSETFROM:+0100
TZOFFSETTO:+0200
TZNAME:CEST
DTSTART:20250330T010000
END:DAYLIGHT
BEGIN:STANDARD
TZOFFSETFROM:+0200
TZOFFSETTO:+0100
TZNAME:CET
DTSTART:20251026T010000
END:STANDARD
BEGIN:DAYLIGHT
TZOFFSETFROM:+0100
TZOFFSETTO:+0200
TZNAME:CEST
DTSTART:20260329T010000
END:DAYLIGHT
BEGIN:STANDARD
TZOFFSETFROM:+0200
TZOFFSETTO:+0100
TZNAME:CET
DTSTART:20261025T010000
END:STANDARD
END:VTIMEZONE
BEGIN:VEVENT
DTSTART;TZID=Europe/Berlin:20250609T110000
DTEND;TZID=Europe/Berlin:20250609T150000
DTSTAMP:20260420T193918
CREATED:20250603T100044Z
LAST-MODIFIED:20250603T100044Z
UID:10000998-1749466800-1749481200@rheinbogen.net
SUMMARY:Der ADLER Modellspielzeugmarkt in der Stadthalle Köln
DESCRIPTION:Die Welt der Modellspielzeuge wird lebendig! \nAuf dem ADLER Modellspielzeugmarkt am Pfingstmontag den 09. Juni 2025 in der Stadthalle Köln\, Mülheim\, Jan-Wellem-Str.2\,  von 11:00 bis 15:00 Uhr\, finden Spielzeugliebhaber und Modelleisenbahn-Enthusiasten alles\, was das Herz begehrt. Ob Modelleisenbahnen\, Modellautos\, traditionelles Blechspielzeug oder die neuesten Elektronikbauteile\, wir haben eine riesige Auswahl an qualitativ hochwertigen Produkten. Besonders praktisch: Unsere multifunktionale Testanlage! \nHier können Sie die Eisenbahnmodelle vor dem Kauf in Aktion erleben. Kein lästiger Blindkauf mehr wie im Internet\, bei uns haben Sie die Möglichkeit\, die Modelle auszuprobieren und Ihren perfekten Schatz zu finden. \nDer Eintritt für Erwachsene beträgt nur 7\,00 EUR\, während Kinder bis einschließlich 14 Jahre freien Eintritt haben! \nAlso bringen Sie die ganze Familie mit und tauchen Sie ein in die faszinierende Welt des Modellspielzeugs. \nWir freuen uns auf Ihren Besuch auf dem ADLER Modellspielzeugmarkt. \nEin Erlebnis\, das Sie nicht verpassen sollten! \nFür weitere Informationen stehen wir Ihnen jederzeit gerne zur Verfügung\, alle Infos unter www.adler-maerkte.de \n\nDieser Eintrag wird Ihnen zur Verfügung gestellt vom Kölner BilderBogen – eines der beliebtesten Stadtmagazine in Köln. Ihr Termin fehlt? Einfach kostenlos einreichen: www.bilderbogen.de/eventeintrag
URL:https://rheinbogen.net/event/der-adler-modellspielzeugmarkt-in-der-stadthalle-koeln
LOCATION:Stadthalle Köln- Mühlheim\, Jan-Wellem-Straße 2\, 51065 Köln\, Deutschland
ATTACH;FMTTYPE=image/png:https://rheinbogen.net/wp-content/uploads/2025/06/Bildschirmfoto-2025-06-03-um-10.55.52.png
END:VEVENT
BEGIN:VEVENT
DTSTART;TZID=Europe/Berlin:20250610T150000
DTEND;TZID=Europe/Berlin:20250610T220000
DTSTAMP:20260420T193918
CREATED:20250511T140058Z
LAST-MODIFIED:20250511T150101Z
UID:10000952-1749567600-1749592800@rheinbogen.net
SUMMARY:Sunset BBQ Market
DESCRIPTION:Macht Euch bereit für ein kulinarisches Highlight in Köln! Ab Mai eröffnen wir den SANTOS Sunset BBQ Market\, einen einzigartigen Afterwork-Feierabendmarkt am malerischen Mülheimer Hafen auf unserem Gelände\, Hafenstraße 1\, 51063 Köln. \nKommt vorbei und lasst Euch jeden zweiten Dienstag im Monat von Mai bis September von einer Vielzahl an wechselnden Foodtrucks wie u.a. Raphs BBQ\, Green Smoke Cologne\, Locura eG\, Mr. N’Ice und vielen weiteren von ihren leckeren Grillspezialitäten verwöhnen. Der Eintritt ist frei\, Speisen und Getränke bekommt Ihr zu moderaten Preisen. \nWas erwartet Euch?\n\nKulinarische Vielfalt: Entdeckt die besten Streetfood-Kreationen – von saftigen Grillspezialitäten bis hin zu regionalen Köstlichkeiten.\nEntspannte Atmosphäre: Genießt den Feierabend in gemütlicher Umgebung mit Industrie-Charm.\nShoppen bei Sonnenuntergang: Stöbert durch unsere Grill-Ausstellung\, entdeckt Neuheiten und stattet Euch mit Grillzubehör für die Saison aus. Wir öffnen den SANTOS Grillshop an den Event-Tagen bis 20 Uhr für Euch.\nAfterwork-Vibes: Perfekt für alle\, die nach der Arbeit noch etwas Leckeres essen und den Abend in geselliger Runde ausklingen lassen möchten.\n\nWann und wo findet das Event statt?\n\nWann: Jeden zweiten Dienstag im Monat\, von Mai bis September (Daten: 13. Mai\, 10. Juni\, 08. Juli\, 12. August\, 09. September)\nWo: Mülheimer Hafen\, Hafenstraße 1\, 51063 Köln\nZeiten: 15:00 – 22:00 Uhr (Unser Shop hat an diesen Tagen bis 20 Uhr geöffnet)\n\nDer SANTOS Sunset BBQ Market: shoppen\, genießen\, feiern\nKommt vorbei\, dreht eine Runde durch den Shop\, entdeckt unsere Ausstellung an Grills\, Zubehör und Außenküchen und probiert Euch durch die kulinarische Vielfalt der Foodtrucks vor Ort. Genießt dabei die entspannte Atmosphäre bei einem kühlen Getränk! \nWir freuen uns darauf\, gemeinsam mit Euch den Feierabend zu feiern! \nMehr Infos hier:\nhttps://www.santosgrills.de/grill-magazin/grillnews/santos-sunset-bbq-market-ab-13-mai/ \n\nDieser Eintrag wird Ihnen zur Verfügung gestellt vom Kölner BilderBogen – eines der beliebtesten Stadtmagazine in Köln. Ihr Termin fehlt? Einfach kostenlos einreichen: www.bilderbogen.de/eventeintrag
URL:https://rheinbogen.net/event/sunset-bbq-market-3
LOCATION:Santos\, Hafenstraße 1\, Köln\, NRW\, 51063\, Deutschland
ATTACH;FMTTYPE=image/jpeg:https://rheinbogen.net/wp-content/uploads/2025/05/Post-Flyer-Vorderseite-A4-jpg-1-721x1024-1.jpg
END:VEVENT
BEGIN:VEVENT
DTSTART;TZID=Europe/Berlin:20250612T160000
DTEND;TZID=Europe/Berlin:20250612T173000
DTSTAMP:20260420T193918
CREATED:20250506T110108Z
LAST-MODIFIED:20250506T110108Z
UID:10000945-1749744000-1749749400@rheinbogen.net
SUMMARY:Kreatives Malen – AWO Villa
DESCRIPTION:Egal\, ob Anfängerin oder Fortgeschrittener – alle sind willkommen! Melde dich jetzt an und sichere dir deinen Platz! \nAnmeldung & Info: gemeinsamsindwirstaerker@awo-koeln.de\noder unter 0178 1463796\nWir freuen uns über Spenden fürs Material. \n\nDieser Eintrag wird Ihnen zur Verfügung gestellt vom Kölner BilderBogen – eines der beliebtesten Stadtmagazine in Köln. Ihr Termin fehlt? Einfach kostenlos einreichen: www.bilderbogen.de/eventeintrag
URL:https://rheinbogen.net/event/kreatives-malen-awo-villa-4
LOCATION:Villa AWO\, Walther-Rathenau-Str. 9\, Köln\, NRW\, 50996\, Deutschland
ATTACH;FMTTYPE=image/png:https://rheinbogen.net/wp-content/uploads/2025/05/Bildschirmfoto-2025-05-06-um-10.54.31.png
ORGANIZER;CN="AWO":MAILTO:gemeinsamsindwirstaerker@awo-koeln.de
END:VEVENT
BEGIN:VEVENT
DTSTART;TZID=Europe/Berlin:20250613T000000
DTEND;TZID=Europe/Berlin:20250614T235959
DTSTAMP:20260420T193918
CREATED:20250603T090111Z
LAST-MODIFIED:20250612T090042Z
UID:10000993-1749772800-1749945599@rheinbogen.net
SUMMARY:Bildungsfestival in der Kölner Wachsfabrik –  Das Light Up Festival!
DESCRIPTION:Am 13. und 14. Juni 2025 feiert das LIGHT UP FESTIVAL seine Premiere – und die Kölner Wachsfabrik wird zum Schauplatz für Ideen\, Visionen und geballte Bildungseuphorie. Hier trifft mutige Bildungsreform auf kreative Energie\, große Namen auf junge Talente. Mit dabei: Die Kultband Planschelmalöör\, die den Besucher:innen mit Karnevalsbeats einheitzt – Mitsingen ausdrücklich erwünscht! Doch nicht nur die Musik setzt Zeichen: Mit Prof. Karim Fereidooni und Margret Rasfeld kommen zwei der einflussreichsten Stimmen der deutschen Bildungslandschaft auf die Bühne. Ihre Keynotes zeigen eindrucksvoll\, wie Zukunft gelingen kann\, wenn Schule neu gedacht wird. Ein Festival voller Inspiration\, Leidenschaft – und echter Veränderung. \nRaum für junge Visionen \nAuch der Nachwuchs kommt beim LIGHT UP FESTIVAL zu Wort: Im FUTURE MAKERS SPACE entwickeln Jugendliche eigene Lösungen für reale Herausforderungen – unterstützt von erfahrenen Coaches und Mentor:innen. Ein starkes Zeichen dafür\, dass junge Menschen mehr als bereit sind\, Zukunft mitzugestalten. \nBildung zum Anfassen – Inspiration zum Mitnehmen \nDas LIGHT UP FESTIVAL 2025 ist kein gewöhnliches Event – es ist ein Aufbruch\, ein Erlebnis\, ein Statement! Wer Bildung neu erleben und selbst mitgestalten möchte\, sollte dieses Wochenende nicht verpassen. \nNoch gibt es Tickets – alle Infos und das komplette Programm auf: \n👉 www.light-up-festival.de \nKontakt für Presse Partner:innen\, Unterstützer:innen und alle Interessierten: Maaike Tiedge \nMail: Light-Up-Festival@gmx.de \n\nDieser Eintrag wird Ihnen zur Verfügung gestellt vom Kölner BilderBogen – eines der beliebtesten Stadtmagazine in Köln. Ihr Termin fehlt? Einfach kostenlos einreichen: www.bilderbogen.de/eventeintrag
URL:https://rheinbogen.net/event/bildungsfestival-in-der-koelner-wachsfabrik-das-light-up-festival
LOCATION:Wachsfabrik\, Industriestraße 170\, Köln\, 50999\, Deutschland
ATTACH;FMTTYPE=image/png:https://rheinbogen.net/wp-content/uploads/2025/06/ligthup-724x1024-1.png
END:VEVENT
BEGIN:VEVENT
DTSTART;TZID=Europe/Berlin:20250613T190000
DTEND;TZID=Europe/Berlin:20250613T210000
DTSTAMP:20260420T193918
CREATED:20250428T090123Z
LAST-MODIFIED:20250428T090123Z
UID:10000926-1749841200-1749848400@rheinbogen.net
SUMMARY:„Fototermin“\, Betroffenen ein Gesicht geben
DESCRIPTION:Mein Sohn\, Philipp Radermacher (13.06.1997 – 21.08.2021) war ein Weißer Junge\, der seine letzte Ruhestätte auf dem kleinen Friedhof in Weiß gefunden hat.\nEr starb 2021 bei einem Verkehrsunfall. \nUnd er ist nicht der einzige junge Mensch\, der viel zu früh aus unseren Reihen gerissen wurde\, und viele zurückgelassen hat\, die ihn kannten\, liebten und vermissen. \nAuch die Eltern von Antoine Aléno haben ihren Sohn durch einen Verkehrsunfall verloren\, in Paris.\nSie haben eine Stiftung gegründet\, die Familien unterstützt\, die dasselbe Schicksal teilen.\nZudem möchten sie mit dem beauftragten Kunstprojekt all denen ein Gesicht geben\, die um junge Verkehrsopfer trauern\, an sie denken\, sie vermissen.\nEine außergewöhnliche Aktion\, bei der die Möglichkeit besteht\, zusammen zu kommen und an unsere Verstorbenen zu denken\, über sie zu sprechen\, und Geschichten auszutauschen. \nAndrea Radermacher \n\nDieser Eintrag wird Ihnen zur Verfügung gestellt vom Kölner BilderBogen – eines der beliebtesten Stadtmagazine in Köln. Ihr Termin fehlt? Einfach kostenlos einreichen: www.bilderbogen.de/eventeintrag
URL:https://rheinbogen.net/event/fototermin-betroffenen-ein-gesicht-geben
LOCATION:Bestattung Brodesser\, Auf der Ruhr 84
ATTACH;FMTTYPE=image/png:https://rheinbogen.net/wp-content/uploads/2025/04/Bildschirmfoto-2025-04-28-um-10.16.44-703x1024-1.png
END:VEVENT
BEGIN:VEVENT
DTSTART;TZID=Europe/Berlin:20250613T200000
DTEND;TZID=Europe/Berlin:20250613T223000
DTSTAMP:20260420T193918
CREATED:20250214T150040Z
LAST-MODIFIED:20250214T150040Z
UID:10000733-1749844800-1749853800@rheinbogen.net
SUMMARY:Brazilian Motions
DESCRIPTION:Tickets im bistro verde unter 0221 93550417 oder info@walterscheidt.net \nMatthias Schriefl – Trompete\, Flügelhorn\, Bassflügelhorn\, Gesang\, Alphorn (Allgäu)  | Henrique Gomide – Klavier\, Perkussion (Brasilien)  | André De Cayres – E-Bass / Kontrabass (Brasilien) | Antoine Duijkers – Drums (Niederlande) \nDer umtriebige Jazztrompeter Matthias Schriefl bringt mit seinem Bandprojekt „Brazilian Motions“ vor allem Eigenkompositionen in vielen brasilianischen Stilen wie Bossa oder Samba zum Klingen und Swingen.\nDie Melodien sind teilweise so schlicht\, dass sie zum Mitsingen einladen. Bei einigen Titeln wiederum herrscht eine derart ernste\, intime Atmosphäre\, dass man nur konzentriert\, mit geschlossenen Augen zuhören möchte. Die sensible Stimmung der Lieder wird durch persönliche Widmungen geprägt sowie durch die deutliche musikalische Formulierung von bekannten Gefühlen: Liebe\, Einsamkeit\, Glück\, Trauer und die einfache Freude am Leben. Die lateinamerikanische Rhythmusgruppe um André de Cayres und Antoine Duykers ersteht es\, immer den richtigen Groove für jedes Stück zu finden und mit einem selbstentwickelten Drumset aus vielen Djembes mit viel Spielfreude zu interagieren.\nIn der Band treffen sich drei Nationalitäten ( Brasilianisch – Niederländisch – Allgäurisch) aber nur eine Mentalität: Eine Menge Charme\, technische Brillanz und ehrliche Kölsche Lust an Musik. \nFoto: Sven Thielmann \n\nDieser Eintrag wird Ihnen zur Verfügung gestellt vom Kölner BilderBogen – eines der beliebtesten Stadtmagazine in Köln. Ihr Termin fehlt? Einfach kostenlos einreichen: www.bilderbogen.de/eventeintrag
URL:https://rheinbogen.net/event/brazilian-motions
LOCATION:bistro verde\, Maternusstraße 6\, Köln\, NRW\, 50996\, Deutschland
ATTACH;FMTTYPE=image/jpeg:https://rheinbogen.net/wp-content/uploads/2025/02/Matthias-Schriefl-20.2.2024-109-1024x681-1.jpg
END:VEVENT
BEGIN:VEVENT
DTSTART;TZID=Europe/Berlin:20250614T000000
DTEND;TZID=Europe/Berlin:20250615T235959
DTSTAMP:20260420T193918
CREATED:20250415T100114Z
LAST-MODIFIED:20250613T100050Z
UID:10000908-1749859200-1750031999@rheinbogen.net
SUMMARY:Südstadt Fest
DESCRIPTION:Vom 14. bis zum 15. Juni 2025 findet wieder das alljährliche Veedelsfest in der Kölner Südstadt statt und lädt alle Besucher zu einem unvergesslichen Sommerwochenende ein.\n\n\n\n\nDie Bonner Straße verwandelt sich während des Festes in eine bunte Flaniermeile\, auf der Besucherinnen und Besucher ausgelassen feiern und tanzen können. Das Angebot ist vielfältig und reicht von einer leckeren Street-Food-Meile über lokale Südstadt-Manufakturen\, die ihre ‚Made-in-der-Südstadt‘-Produkte präsentieren\, einem abwechslungsreichen Bühnenprogramm mit verschiedenen Live-Acts\, bis hin zu spannenden Kinderprogrammen. \nDas Südstadtfest Köln ist eine beliebte öffentliche Veranstaltung\, die jährlich zahlreiche Besucher anzieht \nDas Stadtfest im Süden ist jedes Jahr ein Highlight in Köln und zieht Besucherinnen und Besucher aus der ganzen Stadt und darüber hinaus an. Nutzen Sie die Gelegenheit\, die Südstadt von ihrer schönsten Seite kennenzulernen und gemeinsam zu feiern. \n\n\n\nDieser Eintrag wird Ihnen zur Verfügung gestellt vom Kölner BilderBogen – eines der beliebtesten Stadtmagazine in Köln. Ihr Termin fehlt? Einfach kostenlos einreichen: www.bilderbogen.de/eventeintrag
URL:https://rheinbogen.net/event/suedstadt-fest
LOCATION:Bonnerstraße
ATTACH;FMTTYPE=image/png:https://rheinbogen.net/wp-content/uploads/2025/06/Bildschirmfoto-2025-06-13-um-11.47.09-1024x583-1.png
END:VEVENT
BEGIN:VEVENT
DTSTART;TZID=Europe/Berlin:20250614T100000
DTEND;TZID=Europe/Berlin:20250614T140000
DTSTAMP:20260420T193918
CREATED:20250521T090103Z
LAST-MODIFIED:20250521T090103Z
UID:10000974-1749895200-1749909600@rheinbogen.net
SUMMARY:Flohmarkt Kita St. Maternus
DESCRIPTION:Der Förderverein der Kita St. Maternus in Köln Rodenkirchen veranstaltet am 14.06.2025 einen bunten Kinder- und Familien-Flohmarkt auf dem Kita-Gelände (Augustastraße 22\, 50996 Köln Rodenkirchen). Kinder und Eltern können in gemütlicher Atmosphäre nach Baby- und Kindersachen stöbern und sich gegen eine Spende am Kaffee- und Kuchenbuffet bedienen. Plätze für Verkäufer sind noch vorhanden. \n  \nBildquelle: Förderverein Kita St. Maternus \n\nDieser Eintrag wird Ihnen zur Verfügung gestellt vom Kölner BilderBogen – eines der beliebtesten Stadtmagazine in Köln. Ihr Termin fehlt? Einfach kostenlos einreichen: www.bilderbogen.de/eventeintrag
URL:https://rheinbogen.net/event/flohmarkt-kita-st-maternus
LOCATION:Kita St. Maternus\, Augustastraße 22\, Köln\, 50996
ATTACH;FMTTYPE=image/png:https://rheinbogen.net/wp-content/uploads/2025/05/Bildschirmfoto-2025-05-21-um-09.16.47-713x1024-1.png
END:VEVENT
BEGIN:VEVENT
DTSTART;TZID=Europe/Berlin:20250614T100000
DTEND;TZID=Europe/Berlin:20250614T160000
DTSTAMP:20260420T193918
CREATED:20250220T090042Z
LAST-MODIFIED:20250220T090042Z
UID:10000758-1749895200-1749916800@rheinbogen.net
SUMMARY:Kölner KinderSportFest
DESCRIPTION:Nach dem rekordverdächtigen Kölner KinderSportFest 2024 freuen wir uns\, wieder einen ganzen Tag voller Sport und Spaß verbringen zu können! Über 40 Vereine und Verbände laden alle Kinder im Alter von 4 bis 11 Jahren und deren Familien ein\, unterschiedliche Sportarten auszuprobieren. Und das Beste: Alle Schnupperangebote sind kostenlos! \nAuf dem Gelände und in den Hallen der Deutschen Sporthochschule Köln\, im NetCologne Leichtathletikstadion sowie im Sportpark Müngersdorf können alle Angebote entdeckt und ausprobiert werden. Alle können mitmachen: Die Sportangebote richten sich an Kinder mit und ohne Behinderung. \nFür die Kinder\, die nicht nur ausprobieren möchten\, sondern sportliche Herausforderungen mögen\, gibt es auch einen sportlichen Wettkampf mit den drei Disziplinen: Weitsprung\, Zielwerfen und Linienlauf. \n\nInfos:\nPreis:\nAlle Sportangebote sind kostenlos\nAnmeldegebühr für den Sportlichen Wettkampf: 6 Euro\n\n  \n\nDieser Eintrag wird Ihnen zur Verfügung gestellt vom Kölner BilderBogen – eines der beliebtesten Stadtmagazine in Köln. Ihr Termin fehlt? Einfach kostenlos einreichen: www.bilderbogen.de/eventeintrag
URL:https://rheinbogen.net/event/koelner-kindersportfest
LOCATION:Sportpark Müngersdorf\, Olympiaweg 7\, Köln\, 50933
ATTACH;FMTTYPE=image/png:https://rheinbogen.net/wp-content/uploads/2025/02/Bildschirmfoto-2025-02-20-um-09.58.00.png
END:VEVENT
BEGIN:VEVENT
DTSTART;TZID=Europe/Berlin:20250614T140000
DTEND;TZID=Europe/Berlin:20250614T180000
DTSTAMP:20260420T193918
CREATED:20250403T100054Z
LAST-MODIFIED:20250409T150052Z
UID:10000866-1749909600-1749924000@rheinbogen.net
SUMMARY:Sommerfest 2025 ASB Service-Wohnen\, Köln-Rodenkirchen
DESCRIPTION:Kommen Sie vorbei\, genießen die Musik der Domstürmer und von Mr. Musik\, lassen sich kulinarisch mit Leckereien vom Grill verwöhnen und verbringen gemeinsam mit uns einen wunderschönen Sommertag! \nAnmeldungen erbitten wir unter 0221/ 66 007 651 \nBildquelle: ASB Alten- & Pflegeheime Köln GmbH \n\nDieser Eintrag wird Ihnen zur Verfügung gestellt vom Kölner BilderBogen – eines der beliebtesten Stadtmagazine in Köln. Ihr Termin fehlt? Einfach kostenlos einreichen: www.bilderbogen.de/eventeintrag
URL:https://rheinbogen.net/event/sommerfest-2025-asb-service-wohnen-koeln-rodenkirchen
LOCATION:ASB Service-Wohnen\, Ringstr. 28\, Köln\, 50996
ATTACH;FMTTYPE=image/png:https://rheinbogen.net/wp-content/uploads/2025/04/Bildschirmfoto-2025-04-08-um-12.32.47.png
END:VEVENT
BEGIN:VEVENT
DTSTART;TZID=Europe/Berlin:20250614T150000
DTEND;TZID=Europe/Berlin:20250614T170000
DTSTAMP:20260420T193918
CREATED:20250428T090125Z
LAST-MODIFIED:20250428T090125Z
UID:10000927-1749913200-1749920400@rheinbogen.net
SUMMARY:„Fototermin“\, Betroffenen ein Gesicht geben
DESCRIPTION:Mein Sohn\, Philipp Radermacher (13.06.1997 – 21.08.2021) war ein Weißer Junge\, der seine letzte Ruhestätte auf dem kleinen Friedhof in Weiß gefunden hat.\nEr starb 2021 bei einem Verkehrsunfall. \nUnd er ist nicht der einzige junge Mensch\, der viel zu früh aus unseren Reihen gerissen wurde\, und viele zurückgelassen hat\, die ihn kannten\, liebten und vermissen. \nAuch die Eltern von Antoine Aléno haben ihren Sohn durch einen Verkehrsunfall verloren\, in Paris.\nSie haben eine Stiftung gegründet\, die Familien unterstützt\, die dasselbe Schicksal teilen.\nZudem möchten sie mit dem beauftragten Kunstprojekt all denen ein Gesicht geben\, die um junge Verkehrsopfer trauern\, an sie denken\, sie vermissen.\nEine außergewöhnliche Aktion\, bei der die Möglichkeit besteht\, zusammen zu kommen und an unsere Verstorbenen zu denken\, über sie zu sprechen\, und Geschichten auszutauschen. \nAndrea Radermacher \n\nDieser Eintrag wird Ihnen zur Verfügung gestellt vom Kölner BilderBogen – eines der beliebtesten Stadtmagazine in Köln. Ihr Termin fehlt? Einfach kostenlos einreichen: www.bilderbogen.de/eventeintrag
URL:https://rheinbogen.net/event/fototermin-betroffenen-ein-gesicht-geben-2
LOCATION:Bestattung Brodesser\, Auf der Ruhr 84
ATTACH;FMTTYPE=image/png:https://rheinbogen.net/wp-content/uploads/2025/04/Bildschirmfoto-2025-04-28-um-10.16.44-703x1024-1.png
END:VEVENT
BEGIN:VEVENT
DTSTART;TZID=Europe/Berlin:20250614T190000
DTEND;TZID=Europe/Berlin:20250614T213000
DTSTAMP:20260420T193918
CREATED:20250414T170059Z
LAST-MODIFIED:20250414T180053Z
UID:10000903-1749927600-1749936600@rheinbogen.net
SUMMARY:Cologne Salon Rockester
DESCRIPTION:Mit einer in Deutschland wohl einzigartiken Idee präsentiert die Band Lieder der 20er bis 50er Jahre und mehr in rockigem Stil der 70er. Die Konzertbesucher fühlen sich schnell zum Mitsingen der bekannten Refrains und auch nicht selten zum Tanzen animiert. Einlass 18 Uhr \nTicket kaufen \n\nDieser Eintrag wird Ihnen zur Verfügung gestellt vom Kölner BilderBogen – eines der beliebtesten Stadtmagazine in Köln. Ihr Termin fehlt? Einfach kostenlos einreichen: www.bilderbogen.de/eventeintrag
URL:https://rheinbogen.net/event/cologne-salon-rockester
LOCATION:Kultur im Hof\, Weißer Hauptstraße 52\, Köln\, NRW\, 50999\, Deutschland
ATTACH;FMTTYPE=image/jpeg:https://rheinbogen.net/wp-content/uploads/2025/04/Band-alpha-13957c9f-1024x850-1.jpg
ORGANIZER;CN="Dorfgemeinschaft Wei%C3%9F 1962 e.V.":MAILTO:info@dorfgemeinschaft-weiss.de
END:VEVENT
BEGIN:VEVENT
DTSTART;TZID=Europe/Berlin:20250615T110000
DTEND;TZID=Europe/Berlin:20250615T180000
DTSTAMP:20260420T193918
CREATED:20250422T090058Z
LAST-MODIFIED:20250422T090058Z
UID:10000910-1749985200-1750010400@rheinbogen.net
SUMMARY:Pfarrfest St. Georg\, Köln-Weiss
DESCRIPTION:Dieser Eintrag wird Ihnen zur Verfügung gestellt vom Kölner BilderBogen – eines der beliebtesten Stadtmagazine in Köln. Ihr Termin fehlt? Einfach kostenlos einreichen: www.bilderbogen.de/eventeintrag
URL:https://rheinbogen.net/event/pfarrfest-st-georg-koeln-weiss
LOCATION:Kirchplatz St. Georg / Weiß\, Kirchplatz 1\, Köln\, NRW\, 50999\, Deutschland
ATTACH;FMTTYPE=image/png:https://rheinbogen.net/wp-content/uploads/2025/04/Bildschirmfoto-2025-04-22-um-10.17.23.png
END:VEVENT
BEGIN:VEVENT
DTSTART;TZID=Europe/Berlin:20250615T130000
DTEND;TZID=Europe/Berlin:20250615T170000
DTSTAMP:20260420T193918
CREATED:20250219T100042Z
LAST-MODIFIED:20250219T100042Z
UID:10000751-1749992400-1750006800@rheinbogen.net
SUMMARY:KulturSonntag KunstKwartier 44
DESCRIPTION:An jedem dritten Sonntag im Monat\, von 13 bis 17 Uhr\, öffnen die Künstler*innen des KunstKwartier 44 ihre Ateliers für die Öffentlichkeit. Schauen Sie vorbei und erleben Sie Malerei\, Fotografie\, Bildhauerei und vieles mehr hautnah! \n18. Mai und 15. Juni 2024: KulturSonntag in Kombination mit den Photoszene-Ausstellungen \nPhotoszene-Ausstellungen im KunstKwartier 44: \n15 Fotograf*innen des KunstKwartier 44 nehmen an der diesjährigen Photoszene teil. In verschiedenen Räumen werden spannende Ausstellungen präsentiert. \n\nÖffnungszeiten:\n\nFr.\, 16.05.\, 18-21 Uhr\nSa.\, 17.05.\, 14-18 Uhr\nSo.\, 18.05.\, 14-18 Uhr (parallel zum KulturSonntag)\nFr.\, 13.06.\, 18-21 Uhr\nSa.\, 14.06.\, 14-18 Uhr\nSo.\, 15.06.\, 14-18 Uhr (parallel zum KulturSonntag)\n\n\n\n\nDieser Eintrag wird Ihnen zur Verfügung gestellt vom Kölner BilderBogen – eines der beliebtesten Stadtmagazine in Köln. Ihr Termin fehlt? Einfach kostenlos einreichen: www.bilderbogen.de/eventeintrag
URL:https://rheinbogen.net/event/kultursonntag-kunstkwartier-44-4
LOCATION:KunstKwartier\, Ringstraße 40\, Köln\, NRW\, 50996\, Deutschland
ATTACH;FMTTYPE=image/png:https://rheinbogen.net/wp-content/uploads/2025/02/Bildschirmfoto-2025-02-19-um-09.48.53-1024x562-4.png
END:VEVENT
END:VCALENDAR