BEGIN:VCALENDAR
VERSION:2.0
PRODID:-//rheinbogen.net - ECPv6.15.17.1//NONSGML v1.0//EN
CALSCALE:GREGORIAN
METHOD:PUBLISH
X-WR-CALNAME:rheinbogen.net
X-ORIGINAL-URL:https://rheinbogen.net
X-WR-CALDESC:Veranstaltungen für rheinbogen.net
REFRESH-INTERVAL;VALUE=DURATION:PT1H
X-Robots-Tag:noindex
X-PUBLISHED-TTL:PT1H
BEGIN:VTIMEZONE
TZID:Europe/Berlin
BEGIN:DAYLIGHT
TZOFFSETFROM:+0100
TZOFFSETTO:+0200
TZNAME:CEST
DTSTART:20220327T010000
END:DAYLIGHT
BEGIN:STANDARD
TZOFFSETFROM:+0200
TZOFFSETTO:+0100
TZNAME:CET
DTSTART:20221030T010000
END:STANDARD
BEGIN:DAYLIGHT
TZOFFSETFROM:+0100
TZOFFSETTO:+0200
TZNAME:CEST
DTSTART:20230326T010000
END:DAYLIGHT
BEGIN:STANDARD
TZOFFSETFROM:+0200
TZOFFSETTO:+0100
TZNAME:CET
DTSTART:20231029T010000
END:STANDARD
BEGIN:DAYLIGHT
TZOFFSETFROM:+0100
TZOFFSETTO:+0200
TZNAME:CEST
DTSTART:20240331T010000
END:DAYLIGHT
BEGIN:STANDARD
TZOFFSETFROM:+0200
TZOFFSETTO:+0100
TZNAME:CET
DTSTART:20241027T010000
END:STANDARD
BEGIN:DAYLIGHT
TZOFFSETFROM:+0100
TZOFFSETTO:+0200
TZNAME:CEST
DTSTART:20250330T010000
END:DAYLIGHT
BEGIN:STANDARD
TZOFFSETFROM:+0200
TZOFFSETTO:+0100
TZNAME:CET
DTSTART:20251026T010000
END:STANDARD
END:VTIMEZONE
BEGIN:VEVENT
DTSTART;TZID=Europe/Berlin:20240726T190000
DTEND;TZID=Europe/Berlin:20240726T213000
DTSTAMP:20260421T065714
CREATED:20240312T173320Z
LAST-MODIFIED:20240313T114602Z
UID:10000059-1722020400-1722029400@rheinbogen.net
SUMMARY:A Trip to Brasil - Bossa\, Latin\, Jazz
DESCRIPTION:Inspiriert von der Tatsache\, daß der Bossanova dieses Jahr 66 Jahre alt wird ist dieses Konzert eine Homage an die Lateinamerikanische Musik. Komponisten wie A.C. Jobim\, Sergo Mendes und Ivan Lins komponierten zeitlos schöne Stücke\, die seit Jahrzehnten zu den weltweiten Favoriten der Radiosender gehören.  \nWolfgang Behrendt & Friends tragen hier ein abwechslungsreiches Programm vor\, daß den unterschiedlichen Stimmungen von brasilianischer Musik gerecht wird. Von melancholisch bis zur überquellenden Stimmung. Gepaart mit einem ordendlichen Schuss Jazz erwartet Euch ein unvergesslicher Abend. \nEinlass: 18:00 Uhr \nBeginn: 19:00 Uhr \nTicket kaufen
URL:https://rheinbogen.net/event/a-trip-to-brasil-bossa-latin-jazz
LOCATION:Kultur im Hof\, Weißer Hauptstraße 52\, Köln\, Nordrhein-Westfalen\, 50999\, Deutschland
CATEGORIES:Jazz,Kultur im Hof,Live-Event,Musik,Musik
ATTACH;FMTTYPE=image/png:https://rheinbogen.net/wp-content/uploads/2024/03/Bildschirmfoto-2024-03-12-um-18.31.45.png
ORGANIZER;CN="Dorfgemeinschaft Wei%C3%9F von 1962 e.V.":MAILTO:info@dorfgemeinschaft-weiss-de
END:VEVENT
BEGIN:VEVENT
DTSTART;TZID=Europe/Berlin:20240622T160000
DTEND;TZID=Europe/Berlin:20240622T173000
DTSTAMP:20260421T065714
CREATED:20240312T172852Z
LAST-MODIFIED:20240313T092902Z
UID:10000058-1719072000-1719077400@rheinbogen.net
SUMMARY:Heimatkunde – mal anders
DESCRIPTION:Die beiden Weißer Autoren Markus Peters und Amir Shaheen lesen satirische\, humorvolle\, nachdenkliche und absurd-komische Texte aus ihren aktuellen Büchern „Irgendwas ist immer“ und „Ich bin kein Ausländer\, ich heiße nur so“. \nEinlass: 15.30 Uhr \nBeginn: 16:00 Uhr \nTicket kaufen\n 
URL:https://rheinbogen.net/event/heimatkunde-mal-anders
LOCATION:Kultur im Hof\, Weißer Hauptstraße 52\, Köln\, Nordrhein-Westfalen\, 50999\, Deutschland
CATEGORIES:Kultur im Hof,Lesung,Lesung
ATTACH;FMTTYPE=image/png:https://rheinbogen.net/wp-content/uploads/2024/03/Bildschirmfoto-2024-03-12-um-18.25.16.png
ORGANIZER;CN="Dorfgemeinschaft Wei%C3%9F von 1962 e.V.":MAILTO:info@dorfgemeinschaft-weiss-de
END:VEVENT
BEGIN:VEVENT
DTSTART;TZID=Europe/Berlin:20240525T160000
DTEND;TZID=Europe/Berlin:20240525T173000
DTSTAMP:20260421T065714
CREATED:20240312T172013Z
LAST-MODIFIED:20240313T090231Z
UID:10000057-1716652800-1716658200@rheinbogen.net
SUMMARY:Kasper und der Räuber
DESCRIPTION:Die Großmutter des Kaspers\, möchte Heidelbeerkuchen backen und schickt Gretel und Kasper in den Wald zum Heidelbeeren pflücken. Plötzlich besucht der Herr Oberwachtmeister Anselm Wirsing\, die Großmutter\, um vor dem gefährlichen Räuber Blasius Wilderich zu warnen\, doch es ist zu spät\, Kasper und Gretel sind schon weg. Es beginnt ein spannendes Abenteuer um einen gestohlenen Korb voller Heidelbeeren\, einem sprechenden Schnittlauchtopf und einem Räuber\, der kein Räuber sein will. Ein spannendes Kasperstück für große und kleine Kinder von 3 – 108 Jahre. \nEinlass: 15.00 Uhr \nBeginn: 16.00 Uhr \nTicket kaufen
URL:https://rheinbogen.net/event/kasper-und-der-raeuber
LOCATION:Kultur im Hof\, Weißer Hauptstraße 52\, Köln\, Nordrhein-Westfalen\, 50999\, Deutschland
CATEGORIES:Kasper-Theater,Kinder,Kultur im Hof
ATTACH;FMTTYPE=image/png:https://rheinbogen.net/wp-content/uploads/2024/03/Bildschirmfoto-2024-03-12-um-18.18.55.png
ORGANIZER;CN="Dorfgemeinschaft Wei%C3%9F von 1962 e.V.":MAILTO:info@dorfgemeinschaft-weiss-de
END:VEVENT
BEGIN:VEVENT
DTSTART;TZID=Europe/Berlin:20230422T160000
DTEND;TZID=Europe/Berlin:20230422T173000
DTSTAMP:20260421T065714
CREATED:20230125T171915Z
LAST-MODIFIED:20230328T144416Z
UID:10000002-1682179200-1682184600@rheinbogen.net
SUMMARY:THEATER | Kasper und die pupsenden Pferde
DESCRIPTION:Kasper-Theater \nSeitdem die grüne Fee verschwunden ist\, fallen alle in der Kasperstadt in Ohnmacht. Wer oder was steckt dahinter? Eine große Aufgabe für Kasper\, denn Kasper der Held er rettet die Welt! (Wer sonst auch) Eine unterhaltsame und lustige Kasperiade für Groß und Klein\, für Jung und Alt. \nDie Aufführung dauert etwa 45 Minuten. Empfohlenes Alter ab 3 Jahre. \nTicket kaufen
URL:https://rheinbogen.net/event/kasper-und-die-pupsenden-pferde
LOCATION:Kultur im Hof\, Weißer Hauptstraße 52\, Köln\, Nordrhein-Westfalen\, 50999\, Deutschland
CATEGORIES:Kasper-Theater,Kultur im Hof
ATTACH;FMTTYPE=image/jpeg:https://rheinbogen.net/wp-content/uploads/2023/01/kasper_sternkundt-scaled.jpg
ORGANIZER;CN="Dorfgemeinschaft Wei%C3%9F von 1962 e.V.":MAILTO:info@dorfgemeinschaft-weiss-de
END:VEVENT
END:VCALENDAR