BEGIN:VCALENDAR
VERSION:2.0
PRODID:-//rheinbogen.net - ECPv6.15.17.1//NONSGML v1.0//EN
CALSCALE:GREGORIAN
METHOD:PUBLISH
X-ORIGINAL-URL:https://rheinbogen.net
X-WR-CALDESC:Veranstaltungen für rheinbogen.net
REFRESH-INTERVAL;VALUE=DURATION:PT1H
X-Robots-Tag:noindex
X-PUBLISHED-TTL:PT1H
BEGIN:VTIMEZONE
TZID:Europe/Berlin
BEGIN:DAYLIGHT
TZOFFSETFROM:+0100
TZOFFSETTO:+0200
TZNAME:CEST
DTSTART:20220327T010000
END:DAYLIGHT
BEGIN:STANDARD
TZOFFSETFROM:+0200
TZOFFSETTO:+0100
TZNAME:CET
DTSTART:20221030T010000
END:STANDARD
BEGIN:DAYLIGHT
TZOFFSETFROM:+0100
TZOFFSETTO:+0200
TZNAME:CEST
DTSTART:20230326T010000
END:DAYLIGHT
BEGIN:STANDARD
TZOFFSETFROM:+0200
TZOFFSETTO:+0100
TZNAME:CET
DTSTART:20231029T010000
END:STANDARD
BEGIN:DAYLIGHT
TZOFFSETFROM:+0100
TZOFFSETTO:+0200
TZNAME:CEST
DTSTART:20240331T010000
END:DAYLIGHT
BEGIN:STANDARD
TZOFFSETFROM:+0200
TZOFFSETTO:+0100
TZNAME:CET
DTSTART:20241027T010000
END:STANDARD
END:VTIMEZONE
BEGIN:VEVENT
DTSTART;TZID=Europe/Berlin:20230205T111100
DTEND;TZID=Europe/Berlin:20230205T140000
DTSTAMP:20260425T142953
CREATED:20230125T174147Z
LAST-MODIFIED:20230201T112544Z
UID:10000004-1675595460-1675605600@rheinbogen.net
SUMMARY:Mer für üch - zesamme in Rudekirche
DESCRIPTION:Karnevalistisches Familienfest\nEldorado  \nDomstädter \nDreigestirn \nNothberger Fanfahrentrompeter \nFidele Geister \nHannes Blum \nDe Pänz us dem ahle Kölle \nHellige Pänz \nKapelle Jonge \nDe Höppemötzjer \nVeedel for 12\, Kölschrockband \nHüpfburg & Kinderkarussell (gratis) \nGetränke & Foodtruck \nBitte daran denken:\nKeine Flaschen\, kein Glas auf dem Maternusplatz\, während der Veranstaltung.
URL:https://rheinbogen.net/event/mer-fuer-uech-zesamme-in-rudekirche
LOCATION:Maternusplatz Rodenkirchen\, Maternusplatz 1\, Köln\, NRW\, 50996\, Deutschland
ATTACH;FMTTYPE=image/png:https://rheinbogen.net/wp-content/uploads/2023/01/Bildschirm­foto-2023-01-25-um-18.37.15.png
ORGANIZER;CN="Festkomitee Karneval Alt-Gemeinde Rodenkirchen 1973 e.V.":MAILTO:geschaeftsfuehrer@festkomitee-rodenkirchen.de
END:VEVENT
END:VCALENDAR