BEGIN:VCALENDAR
VERSION:2.0
PRODID:-//rheinbogen.net - ECPv6.15.17.1//NONSGML v1.0//EN
CALSCALE:GREGORIAN
METHOD:PUBLISH
X-ORIGINAL-URL:https://rheinbogen.net
X-WR-CALDESC:Veranstaltungen für rheinbogen.net
REFRESH-INTERVAL;VALUE=DURATION:PT1H
X-Robots-Tag:noindex
X-PUBLISHED-TTL:PT1H
BEGIN:VTIMEZONE
TZID:Europe/Berlin
BEGIN:DAYLIGHT
TZOFFSETFROM:+0100
TZOFFSETTO:+0200
TZNAME:CEST
DTSTART:20240331T010000
END:DAYLIGHT
BEGIN:STANDARD
TZOFFSETFROM:+0200
TZOFFSETTO:+0100
TZNAME:CET
DTSTART:20241027T010000
END:STANDARD
BEGIN:DAYLIGHT
TZOFFSETFROM:+0100
TZOFFSETTO:+0200
TZNAME:CEST
DTSTART:20250330T010000
END:DAYLIGHT
BEGIN:STANDARD
TZOFFSETFROM:+0200
TZOFFSETTO:+0100
TZNAME:CET
DTSTART:20251026T010000
END:STANDARD
BEGIN:DAYLIGHT
TZOFFSETFROM:+0100
TZOFFSETTO:+0200
TZNAME:CEST
DTSTART:20260329T010000
END:DAYLIGHT
BEGIN:STANDARD
TZOFFSETFROM:+0200
TZOFFSETTO:+0100
TZNAME:CET
DTSTART:20261025T010000
END:STANDARD
END:VTIMEZONE
BEGIN:VEVENT
DTSTART;TZID=Europe/Berlin:20251004T190000
DTEND;TZID=Europe/Berlin:20251004T210000
DTSTAMP:20260423T124536
CREATED:20250903T120127Z
LAST-MODIFIED:20250903T120127Z
UID:10001200-1759604400-1759611600@rheinbogen.net
SUMMARY:Schwarze Komödie: Chaos im Bestattungshaus
DESCRIPTION:Ein Bestatter in Geldnot\, ein Lebemann mit einem tödlichen Plan und ein Bestattungshaus am Rande des finanziellen Kollaps: ‚Chaos im Bestattungshaus‘ ist eine rasante Komödie voller skurriler Figuren\, schwarzem Humor und überraschender Wendungen. Regie führt Nicolai Hoffmann\, das 15-köpfige Ensemble sorgt jeder Menge Lacher und einem garantiert unterhaltsamen Abend. \nBildquelle:  Dramatische Vereinigung e.V. \n\nDieser Eintrag wird Ihnen zur Verfügung gestellt vom Kölner BilderBogen – eines der beliebtesten Stadtmagazine in Köln. Ihr Termin fehlt? Einfach kostenlos einreichen: www.bilderbogen.de/eventeintrag
URL:https://rheinbogen.net/event/schwarze-komoedie-chaos-im-bestattungshaus-3
LOCATION:Vereinshaus Köln-Worringen\, St. Tönnis Str. 68\, Köln\, 5769
ATTACH;FMTTYPE=image/png:https://rheinbogen.net/wp-content/uploads/2025/09/Bildschirmfoto-2025-09-03-um-12.02.18-719x1024-1.png
END:VEVENT
BEGIN:VEVENT
DTSTART;TZID=Europe/Berlin:20251004T200000
DTEND;TZID=Europe/Berlin:20251004T223000
DTSTAMP:20260423T124536
CREATED:20250813T100149Z
LAST-MODIFIED:20250813T100149Z
UID:10001137-1759608000-1759617000@rheinbogen.net
SUMMARY:Christine Schütze – Also mir wär sie zu dünn! -Musikkabarett-
DESCRIPTION:Christines aktuelles Programm „Also\, mir wär sie zu dünn!“ wird landauf\, landab vom Publikum gefeiert („Sie haben Bodo Wartke aus meinem Herzen verdrängt!“\, „intelligent und berührend“\, „das Beste in den letzten 20 Jahren“) und ist gerade mit einem Kabarettpreis\, nämlich der „Lüdenscheider Lüsterklemme 2025“\, ausgezeichnet worden.\nDie Presse schrieb dazu:\nChristine Schütze beschert uns eine Sternstunde des Kabaretts. Klar\, dass Christine Schütze für ihre Künste gewürdigt werden muss: Für Text und Lyrik\, die es wert sind\, als Lesestoff gedruckt zu werden. Für Tonsatz\, der selbst gut gemachte Liedbegleitung überflügelt. Kabarett aus einer eigenen Liga. Anregend. Intelligent. Unterhaltsam. Glück für Musen – und Menschen. \nwww.christineschuetze.de \nBildquelle: Pressebild – Christian Barz \n\nDieser Eintrag wird Ihnen zur Verfügung gestellt vom Kölner BilderBogen – eines der beliebtesten Stadtmagazine in Köln. Ihr Termin fehlt? Einfach kostenlos einreichen: www.bilderbogen.de/eventeintrag
URL:https://rheinbogen.net/event/christine-schuetze-also-mir-waer-sie-zu-duenn-musikkabarett
LOCATION:Theater509 Bürgerhaus Stollwerck\, Dreikönigenstraße 23\, Köln\, 50678
ATTACH;FMTTYPE=image/png:https://rheinbogen.net/wp-content/uploads/2025/08/Bildschirmfoto-2025-08-13-um-11.30.21.png
END:VEVENT
END:VCALENDAR