BEGIN:VCALENDAR
VERSION:2.0
PRODID:-//rheinbogen.net - ECPv6.15.17.1//NONSGML v1.0//EN
CALSCALE:GREGORIAN
METHOD:PUBLISH
X-ORIGINAL-URL:https://rheinbogen.net
X-WR-CALDESC:Veranstaltungen für rheinbogen.net
REFRESH-INTERVAL;VALUE=DURATION:PT1H
X-Robots-Tag:noindex
X-PUBLISHED-TTL:PT1H
BEGIN:VTIMEZONE
TZID:Europe/Berlin
BEGIN:DAYLIGHT
TZOFFSETFROM:+0100
TZOFFSETTO:+0200
TZNAME:CEST
DTSTART:20240331T010000
END:DAYLIGHT
BEGIN:STANDARD
TZOFFSETFROM:+0200
TZOFFSETTO:+0100
TZNAME:CET
DTSTART:20241027T010000
END:STANDARD
BEGIN:DAYLIGHT
TZOFFSETFROM:+0100
TZOFFSETTO:+0200
TZNAME:CEST
DTSTART:20250330T010000
END:DAYLIGHT
BEGIN:STANDARD
TZOFFSETFROM:+0200
TZOFFSETTO:+0100
TZNAME:CET
DTSTART:20251026T010000
END:STANDARD
BEGIN:DAYLIGHT
TZOFFSETFROM:+0100
TZOFFSETTO:+0200
TZNAME:CEST
DTSTART:20260329T010000
END:DAYLIGHT
BEGIN:STANDARD
TZOFFSETFROM:+0200
TZOFFSETTO:+0100
TZNAME:CET
DTSTART:20261025T010000
END:STANDARD
END:VTIMEZONE
BEGIN:VEVENT
DTSTART;TZID=Europe/Berlin:20251002T190000
DTEND;TZID=Europe/Berlin:20251003T010000
DTSTAMP:20260423T122555
CREATED:20250903T110132Z
LAST-MODIFIED:20250903T110132Z
UID:10001198-1759431600-1759453200@rheinbogen.net
SUMMARY:River Boat Party – Schwimmbotze
DESCRIPTION:Dieser Eintrag wird Ihnen zur Verfügung gestellt vom Kölner BilderBogen – eines der beliebtesten Stadtmagazine in Köln. Ihr Termin fehlt? Einfach kostenlos einreichen: www.bilderbogen.de/eventeintrag
URL:https://rheinbogen.net/event/river-boat-party-schwimmbotze
LOCATION:Rhein Roxy Köln
ATTACH;FMTTYPE=image/png:https://rheinbogen.net/wp-content/uploads/2025/09/Bildschirmfoto-2025-09-03-um-12.35.48-1024x484-1.png
END:VEVENT
BEGIN:VEVENT
DTSTART;TZID=Europe/Berlin:20251003T140000
DTEND;TZID=Europe/Berlin:20251003T230000
DTSTAMP:20260423T122555
CREATED:20250924T110104Z
LAST-MODIFIED:20250924T110104Z
UID:10001273-1759500000-1759532400@rheinbogen.net
SUMMARY:Summer Closing-Party\, Rhein-Roxy
DESCRIPTION:Der Sommer hat uns unvergessliche Momente geschenkt  – doch nun klopft der Herbst  schon an die Tür. Bevor wir die Sonnenbrillen gegen Schals eintauschen\, heißt es: ein letztes Mal Vollgas geben!  Unser großes Summer Closing 2025!  Freitag 03.10.2025 Start: 14:00 Uhr Outdoor Vibes zum Anstoßen & Genießen Später geht’s indoor weiter – bis open end!  Sichert euch jetzt euren Tisch  und feiert mit uns die letzte große Sommer Party des Jahres!Wir freuen uns riesig auf euch – let’s make it unforgettable!  \n\nDieser Eintrag wird Ihnen zur Verfügung gestellt vom Kölner BilderBogen – eines der beliebtesten Stadtmagazine in Köln. Ihr Termin fehlt? Einfach kostenlos einreichen: www.bilderbogen.de/eventeintrag
URL:https://rheinbogen.net/event/summer-closing-party-rhein-roxy
LOCATION:Rhein Roxy Köln
ATTACH;FMTTYPE=image/png:https://rheinbogen.net/wp-content/uploads/2025/09/Bildschirmfoto-2025-09-24-um-12.33.14-818x1024-1.png
END:VEVENT
BEGIN:VEVENT
DTSTART;TZID=Europe/Berlin:20251003T160000
DTEND;TZID=Europe/Berlin:20251003T180000
DTSTAMP:20260423T122555
CREATED:20250903T120125Z
LAST-MODIFIED:20250903T120125Z
UID:10001199-1759507200-1759514400@rheinbogen.net
SUMMARY:Schwarze Komödie: Chaos im Bestattungshaus
DESCRIPTION:Ein Bestatter in Geldnot\, ein Lebemann mit einem tödlichen Plan und ein Bestattungshaus am Rande des finanziellen Kollaps: ‚Chaos im Bestattungshaus‘ ist eine rasante Komödie voller skurriler Figuren\, schwarzem Humor und überraschender Wendungen. Regie führt Nicolai Hoffmann\, das 15-köpfige Ensemble sorgt jeder Menge Lacher und einem garantiert unterhaltsamen Abend. \nBildquelle:  Dramatische Vereinigung e.V. \n\nDieser Eintrag wird Ihnen zur Verfügung gestellt vom Kölner BilderBogen – eines der beliebtesten Stadtmagazine in Köln. Ihr Termin fehlt? Einfach kostenlos einreichen: www.bilderbogen.de/eventeintrag
URL:https://rheinbogen.net/event/schwarze-komoedie-chaos-im-bestattungshaus-2
LOCATION:Vereinshaus Köln-Worringen\, St. Tönnis Str. 68\, Köln\, 5769
ATTACH;FMTTYPE=image/png:https://rheinbogen.net/wp-content/uploads/2025/09/Bildschirmfoto-2025-09-03-um-12.02.18-719x1024-1.png
END:VEVENT
END:VCALENDAR