BEGIN:VCALENDAR
VERSION:2.0
PRODID:-//rheinbogen.net - ECPv6.15.17.1//NONSGML v1.0//EN
CALSCALE:GREGORIAN
METHOD:PUBLISH
X-WR-CALNAME:rheinbogen.net
X-ORIGINAL-URL:https://rheinbogen.net
X-WR-CALDESC:Veranstaltungen für rheinbogen.net
REFRESH-INTERVAL;VALUE=DURATION:PT1H
X-Robots-Tag:noindex
X-PUBLISHED-TTL:PT1H
BEGIN:VTIMEZONE
TZID:Europe/Berlin
BEGIN:DAYLIGHT
TZOFFSETFROM:+0100
TZOFFSETTO:+0200
TZNAME:CEST
DTSTART:20240331T010000
END:DAYLIGHT
BEGIN:STANDARD
TZOFFSETFROM:+0200
TZOFFSETTO:+0100
TZNAME:CET
DTSTART:20241027T010000
END:STANDARD
BEGIN:DAYLIGHT
TZOFFSETFROM:+0100
TZOFFSETTO:+0200
TZNAME:CEST
DTSTART:20250330T010000
END:DAYLIGHT
BEGIN:STANDARD
TZOFFSETFROM:+0200
TZOFFSETTO:+0100
TZNAME:CET
DTSTART:20251026T010000
END:STANDARD
BEGIN:DAYLIGHT
TZOFFSETFROM:+0100
TZOFFSETTO:+0200
TZNAME:CEST
DTSTART:20260329T010000
END:DAYLIGHT
BEGIN:STANDARD
TZOFFSETFROM:+0200
TZOFFSETTO:+0100
TZNAME:CET
DTSTART:20261025T010000
END:STANDARD
END:VTIMEZONE
BEGIN:VEVENT
DTSTART;TZID=Europe/Berlin:20250904T100000
DTEND;TZID=Europe/Berlin:20250904T120000
DTSTAMP:20260422T181023
CREATED:20250811T090051Z
LAST-MODIFIED:20250811T090051Z
UID:10001115-1756980000-1756987200@rheinbogen.net
SUMMARY:Politik Talk mit dem Bezirksbürgermeister Manfred Giesen
DESCRIPTION:Frühstücken Sie gemeinsam mit unserem Bezirksbürgermeister. Teilnahme nur nach vorheriger Anmeldung möglich (Tel. 66 007 651) \n\nDieser Eintrag wird Ihnen zur Verfügung gestellt vom Kölner BilderBogen – eines der beliebtesten Stadtmagazine in Köln. Ihr Termin fehlt? Einfach kostenlos einreichen: www.bilderbogen.de/eventeintrag
URL:https://rheinbogen.net/event/politik-talk-mit-dem-bezirksbuergermeister-manfred-giesen
LOCATION:ASB Service-Wohnen\, Ringstr. 28\, Köln\, 50996
END:VEVENT
BEGIN:VEVENT
DTSTART;TZID=Europe/Berlin:20250904T173000
DTEND;TZID=Europe/Berlin:20250904T190000
DTSTAMP:20260422T181023
CREATED:20250730T080045Z
LAST-MODIFIED:20250730T080045Z
UID:10001082-1757007000-1757012400@rheinbogen.net
SUMMARY:Patientenveranstaltung „Ihr neues Hüftgelenk“
DESCRIPTION:Unsere Hüftgelenke sind im Alltag enormen Stoßbelastungen ausgesetzt. Solange sie in Takt sind\, ist das unproblematisch. Reibt sich die Knorpelmasse zwischen Hüftkopf und -pfanne jedoch ab\, führt dies dauerhaft zu Knorpelverschleiß\, der als Arthrose bekannt ist. Patienten können das betroffene Gelenk nicht mehr schmerzfrei bewegen und neigen dadurch zu Schonhaltungen. Wann muss sie durch ein Kunstgelenk ersetzt werden\, wie läuft die Operation ab und wie geht es danach weiter?  \nDiese und viele weitere Fragen beantwortet Priv. Doz. Dr. med. Thomas Randau\, Chefarzt der Klinik für Orthopädie\, Spezielle Orthopädische Chirurgie und Sportmedizin in der Patientenveranstaltung im Celltinnen-Severinsklösterchen Krankenhaus der Augustinerinnen. Gemeinsam mit seinem Team stellt er die modernen Behandlungsmöglichkeiten vor. Für Fragen rund um Narkose und Rehabilitation stehen ein Facharzt für Anästhesie und ein Physiotherapeut ebenfalls zur Verfügung. Außerdem haben Betroffene und Interessierte die Möglichkeit\, ihre Fragen rund um das Thema Hüftschmerzen zu stellen. \nDonnerstag\, 4. September 2025\n17:30 – 19:00\nCellitinnen-Severinsklösterchen Krankenhaus der Augustinerinnen\, Festsaal\, Jakobstr. 27-31\, 50678 Köln \n\nDieser Eintrag wird Ihnen zur Verfügung gestellt vom Kölner BilderBogen – eines der beliebtesten Stadtmagazine in Köln. Ihr Termin fehlt? Einfach kostenlos einreichen: www.bilderbogen.de/eventeintrag
URL:https://rheinbogen.net/event/patientenveranstaltung-ihr-neues-hueftgelenk
LOCATION:Krankenhaus der Augustinerinnen\, Jakobstraße 27–31\, Köln\, NRW\, 50678\, Deutschland
END:VEVENT
END:VCALENDAR