BEGIN:VCALENDAR
VERSION:2.0
PRODID:-//rheinbogen.net - ECPv6.15.17.1//NONSGML v1.0//EN
CALSCALE:GREGORIAN
METHOD:PUBLISH
X-WR-CALNAME:rheinbogen.net
X-ORIGINAL-URL:https://rheinbogen.net
X-WR-CALDESC:Veranstaltungen für rheinbogen.net
REFRESH-INTERVAL;VALUE=DURATION:PT1H
X-Robots-Tag:noindex
X-PUBLISHED-TTL:PT1H
BEGIN:VTIMEZONE
TZID:Europe/Berlin
BEGIN:DAYLIGHT
TZOFFSETFROM:+0100
TZOFFSETTO:+0200
TZNAME:CEST
DTSTART:20240331T010000
END:DAYLIGHT
BEGIN:STANDARD
TZOFFSETFROM:+0200
TZOFFSETTO:+0100
TZNAME:CET
DTSTART:20241027T010000
END:STANDARD
BEGIN:DAYLIGHT
TZOFFSETFROM:+0100
TZOFFSETTO:+0200
TZNAME:CEST
DTSTART:20250330T010000
END:DAYLIGHT
BEGIN:STANDARD
TZOFFSETFROM:+0200
TZOFFSETTO:+0100
TZNAME:CET
DTSTART:20251026T010000
END:STANDARD
BEGIN:DAYLIGHT
TZOFFSETFROM:+0100
TZOFFSETTO:+0200
TZNAME:CEST
DTSTART:20260329T010000
END:DAYLIGHT
BEGIN:STANDARD
TZOFFSETFROM:+0200
TZOFFSETTO:+0100
TZNAME:CET
DTSTART:20261025T010000
END:STANDARD
END:VTIMEZONE
BEGIN:VEVENT
DTSTART;TZID=Europe/Berlin:20250826T150000
DTEND;TZID=Europe/Berlin:20250826T220000
DTSTAMP:20260422T180902
CREATED:20250318T100053Z
LAST-MODIFIED:20250318T100053Z
UID:10000802-1756220400-1756245600@rheinbogen.net
SUMMARY:Schlemmer- und Abendmarkt in Rodenkirchen 2025
DESCRIPTION:Jeden letzten Dienstag im Monat können sich Anwohner und Besucher auf dem Schlemmer- und Abendmarkt in Rodenkirchen treffen. Hier gibt’s leckere Speisen und tolle Drinks. Die Stände stehen auf dem Maternusplatz. \n29. April 2025\n27. Mai 2025\n24. Juni 2025\n29. Juli 2025\n26. August 2025\n30. September 2025 \nBildquelle: Rolf Kaus \n\nDieser Eintrag wird Ihnen zur Verfügung gestellt vom Kölner BilderBogen – eines der beliebtesten Stadtmagazine in Köln. Ihr Termin fehlt? Einfach kostenlos einreichen: www.bilderbogen.de/eventeintrag
URL:https://rheinbogen.net/event/schlemmer-und-abendmarkt-in-rodenkirchen-2025-4
LOCATION:Maternusplatz Rodenkirchen\, Maternusplatz 1\, Köln\, NRW\, 50996\, Deutschland
ATTACH;FMTTYPE=image/png:https://rheinbogen.net/wp-content/uploads/2025/03/Bildschirmfoto-2025-03-18-um-10.30.23-1024x760-1.png
END:VEVENT
END:VCALENDAR