BEGIN:VCALENDAR
VERSION:2.0
PRODID:-//rheinbogen.net - ECPv6.15.17.1//NONSGML v1.0//EN
CALSCALE:GREGORIAN
METHOD:PUBLISH
X-WR-CALNAME:rheinbogen.net
X-ORIGINAL-URL:https://rheinbogen.net
X-WR-CALDESC:Veranstaltungen für rheinbogen.net
REFRESH-INTERVAL;VALUE=DURATION:PT1H
X-Robots-Tag:noindex
X-PUBLISHED-TTL:PT1H
BEGIN:VTIMEZONE
TZID:Europe/Berlin
BEGIN:DAYLIGHT
TZOFFSETFROM:+0100
TZOFFSETTO:+0200
TZNAME:CEST
DTSTART:20240331T010000
END:DAYLIGHT
BEGIN:STANDARD
TZOFFSETFROM:+0200
TZOFFSETTO:+0100
TZNAME:CET
DTSTART:20241027T010000
END:STANDARD
BEGIN:DAYLIGHT
TZOFFSETFROM:+0100
TZOFFSETTO:+0200
TZNAME:CEST
DTSTART:20250330T010000
END:DAYLIGHT
BEGIN:STANDARD
TZOFFSETFROM:+0200
TZOFFSETTO:+0100
TZNAME:CET
DTSTART:20251026T010000
END:STANDARD
BEGIN:DAYLIGHT
TZOFFSETFROM:+0100
TZOFFSETTO:+0200
TZNAME:CEST
DTSTART:20260329T010000
END:DAYLIGHT
BEGIN:STANDARD
TZOFFSETFROM:+0200
TZOFFSETTO:+0100
TZNAME:CET
DTSTART:20261025T010000
END:STANDARD
END:VTIMEZONE
BEGIN:VEVENT
DTSTART;TZID=Europe/Berlin:20250823T110000
DTEND;TZID=Europe/Berlin:20250823T180000
DTSTAMP:20260420T142142
CREATED:20250709T110040Z
LAST-MODIFIED:20250709T110040Z
UID:10001045-1755946800-1755972000@rheinbogen.net
SUMMARY:Togo Tour 2025 von SuperRTL
DESCRIPTION:Spiel\, Spaß und Musik für die ganze Familie sind angesagt\, wenn die Toggo Tour von Super RTL nach Köln kommt. Es warten Live-Musik\, zahlreiche Attraktionen sowie Mitmach-Aktionen auf euch. \nAuf dem Picassoplatz vor dem RTL-Gebäude können die Pänz zum Beispiel an Woozle Goozles spektakulärem Buzzer-Lauf teilnehmen oder mit Spongebob spielerisch das Meer von Plastik säubern. Sportliche Herausforderungen bietet auch die NFL mit zwei Spielstationen rund um American Football. \nAuch die ganz Kleinen kommen bei der Toggo Tour auf ihre Kosten: In Peppas Spielhaus können sie auf Entdeckungstour gehen\, mit Rubble und seiner Crew bauen\, was das Zeug hält oder ihre Helden aus der Animationsserie „PAW Patrol“ treffen. \nAufregende Bühnenshow\nNeben den vielen Spiel- und Mitmachstationen wartet auch ein Bühnenprogramm auf die Besucher. Außerdem zeigt Jannik Freestyle seine coolen Fußballtricks und BMX-Freestyler Chris Böhm will Rekorde brechen. Abgerundet wird die Show durch Gaming-Vergnügen mit TOGGO GG\, interaktive Quizze sowie der TOGGO Tour Hauptverlosung mit vielen Gewinnen. \nDer Eintritt zur Toggo-Tour ist frei. \nPicasso-Platz (zwischen Tanzbrunnen und RTL-Gebäude)\n50679 Köln-Deutz \nBildquelle: SuperRTL \n  \n\nDieser Eintrag wird Ihnen zur Verfügung gestellt vom Kölner BilderBogen – eines der beliebtesten Stadtmagazine in Köln. Ihr Termin fehlt? Einfach kostenlos einreichen: www.bilderbogen.de/eventeintrag
URL:https://rheinbogen.net/event/togo-tour-2025-von-superrtl
LOCATION:Piccaso Platz\, Köln\, 50679
ATTACH;FMTTYPE=image/png:https://rheinbogen.net/wp-content/uploads/2025/07/Bildschirmfoto-2025-07-09-um-11.30.38-1024x606-1.png
END:VEVENT
BEGIN:VEVENT
DTSTART;TZID=Europe/Berlin:20250823T120000
DTEND;TZID=Europe/Berlin:20250823T220000
DTSTAMP:20260420T142142
CREATED:20250731T070043Z
LAST-MODIFIED:20250731T070043Z
UID:10001087-1755950400-1755986400@rheinbogen.net
SUMMARY:STREETFOOD FESTIVAL KÖLN EHRENFELD
DESCRIPTION:📍 Location \nWir feiern auf dem neu entstehenden www.liebig-gelän.de/ – ein kreativer Ort mitten im Herzen von Neu-Ehrenfeld\, an der Ecke Liebigstraße / Pettenkoferstraße. \nDas über große Gelände wird im Rahmen einer Zwischennutzung von der Raum & Rummel GmbH kuratiert und erstmals öffentlich für Events wie unseres bespielt. Freut euch auf urbanes Flair\, viel Platz und eine einzigartige Atmosphäre! \n🎈 Was euch erwartet \n✓ Eine riesige Auswahl an internationalen Street Food Spezialitäten \n✓ Food Trucks & Stände – viele davon zum ersten Mal in Köln \n✓ DJs\, Live-Acts & ein buntes Entertainment-Programm für alle Altersgruppen \n✓ Kids Area für unsere kleinen Gäste \n🕒 Öffnungszeiten \n► Freitag\, 22.08.2025: 15 – 22 Uhr \n► Samstag\, 23.08.2025: 12 – 22 Uhr \n► Sonntag\, 24.08.2025: 12 – 19 Uhr \n🎟️ Eintritt \n► Tagesticket: 4\,00 € \nKommt vorbei\, genießt die Vielfalt der Aromen\, das entspannte Ambiente und einen unvergesslichen Sommer-Tag mit der ganzen Familie! \n\n\nDieser Eintrag wird Ihnen zur Verfügung gestellt vom Kölner BilderBogen – eines der beliebtesten Stadtmagazine in Köln. Ihr Termin fehlt? Einfach kostenlos einreichen: www.bilderbogen.de/eventeintrag
URL:https://rheinbogen.net/event/streetfood-festival-koeln-ehrenfeld-2
LOCATION:Veranstaltungsgelände Liebig-Gelände\, Liebigstr. 201\, Köln\, 50823
END:VEVENT
BEGIN:VEVENT
DTSTART;TZID=Europe/Berlin:20250823T140000
DTEND;TZID=Europe/Berlin:20250823T200000
DTSTAMP:20260420T142142
CREATED:20250707T090038Z
LAST-MODIFIED:20250707T100040Z
UID:10001039-1755957600-1755979200@rheinbogen.net
SUMMARY:Veedels- und Demokratiefest am Bürgerhaus Stollwerck
DESCRIPTION:Am Samstag\, den 23.08.2025 findet am Bürgerhaus Stollwerck das diesjährige Veedels- und Demokratiefest statt. Die Feier wird gemeinsam mit dem Fördervereindes Bürgerhauses und mit Unterstützung des Fördervereins der Sparkasse KölnBonn e.V. ausgerichtet. Die Veranstaltung bildet den Höhepunkt verschiedener Aktionen\, die im Rahmen des Projekts „Köln wählt Demokratie“ der „Kölner Elf“\, dem Zusammenschluss der Kölner Bürgerhäuser und Bürgerzentren\, stattfinden. \nDie Besucherinnen und Besucher erwartet ein buntes Programm\, das für alle Interessierten etwas zu bieten hat. Neben Aktionen für Kinder und Jugendliche wird es ein kulturelles Programm geben. Unter Moderation von Helmut Frangenberg werden die Oberbürgermeisterkandidat:innen der in der Innenstadt vertretenen Parteien an einer Podiumsdiskussion teilnehmen und sich zu allgemeinen kommunalpolitischen Themen\, aber auch zu Themen\, die das Veedel und die Bürgerhäuser betreffen\, äußern. \nDas Programm ist folgendermaßen geplant: \n14:00 Uhr – Eröffnung \n14:30 Uhr – Kreativworkshop \n15:30 Uhr – Talk mit den OB-Kandidati:innen \nModeration: Helmut Frangenberg \n16:30 Uhr – Thilo Seibel / Kabarett \n18-20 Uhr – Live-Musik mit „Buntes Herz“ \nDas Team des Bürgerhauses und des Fördervereins wird einen Pop-up-Biergarten und eine Hüpfburg einrichten. Mit Food-Trucks wird für das leibliche Wohl gesorgt. Haben Sie Interesse an Demokratie? An Kultur? An Nachbarschaft und geselligem Beisammensein? Kommen Sie gerne am 23.08.2025 ab 14:00 Uhr zum Bürgerhaus Stollwerck. Die Beteiligten freuen sich über alle Menschen\, die die Veranstaltung durch ihre Anwesenheit und ihre Beiträge bereichern. \n\nDieser Eintrag wird Ihnen zur Verfügung gestellt vom Kölner BilderBogen – eines der beliebtesten Stadtmagazine in Köln. Ihr Termin fehlt? Einfach kostenlos einreichen: www.bilderbogen.de/eventeintrag
URL:https://rheinbogen.net/event/veedels-und-demokratiefest-am-buergerhaus-stollwerck
LOCATION:Bürgerhaus Stollwerk\, Dreikönigenstraße 23\, Köln\, 50678\, Deutschland
END:VEVENT
BEGIN:VEVENT
DTSTART;TZID=Europe/Berlin:20250823T160000
DTEND;TZID=Europe/Berlin:20250824T000000
DTSTAMP:20260420T142142
CREATED:20250722T080047Z
LAST-MODIFIED:20250722T090041Z
UID:10001072-1755964800-1755993600@rheinbogen.net
SUMMARY:Offene Bühne für Musik
DESCRIPTION:Junge\, noch nicht so erfahrene MusikerInnen können hier in chilliger Atmosphäre ihre Talente präsentieren und sich auf der Bühne ausprobieren\, gemeinsam jammen\, Leute kennnenlernen\nEinfach per Email bei uns melden.\nFreunde\, Fans\, Familien und Groupies sind natürlich herzlich willkommen.\nFür die richtige Atmosphäre wird gesorgt 🙂 \nBildquelle: Wisü e.V. \n\nDieser Eintrag wird Ihnen zur Verfügung gestellt vom Kölner BilderBogen – eines der beliebtesten Stadtmagazine in Köln. Ihr Termin fehlt? Einfach kostenlos einreichen: www.bilderbogen.de/eventeintrag
URL:https://rheinbogen.net/event/offene-buehne-fuer-musik
LOCATION:BürgerTreff X\, Eygelshovenerstr. 33\, Köln\, NRW\, 50999\, Deutschland
ATTACH;FMTTYPE=image/png:https://rheinbogen.net/wp-content/uploads/2025/07/Bildschirmfoto-2025-07-22-um-09.55.26-706x1024-1.png
ORGANIZER;CN="WiS%C3%BC-Willkommen im Rheinbogen e.V.":MAILTO:info@wisue.de
END:VEVENT
BEGIN:VEVENT
DTSTART;TZID=Europe/Berlin:20250823T193000
DTEND;TZID=Europe/Berlin:20250823T210000
DTSTAMP:20260420T142142
CREATED:20250811T080046Z
LAST-MODIFIED:20250813T100129Z
UID:10001112-1755977400-1755982800@rheinbogen.net
SUMMARY:Musik im Weißer Kapellchen 2025
DESCRIPTION: „Cocktails For You“\nVon Zucker\, Kaffee und anderen Köstlichkeiten . . .\nJazzkonzert mit:\nNadja Schubert – Blockflöten\nDavid Plate – Gitarren\nSascha Delbrouck – Kontrabass\nSamstag\, 23. August 2025\, 19.30 Uhr\n\n\n\n\n\n\n\n\n\n\n\nWas wäre das Leben ohne genussvolles Essen und Trinken? Nicht nur in der Jazzmusik findet man hierzu originelle Kompositionen. Auch in früherer Zeit beschäftigten sich zahlreiche Musiker immer wieder mit diesem Thema. Freuen Sie sich auf zwei sehr unterschiedliche Konzerte in ungewöhnlicher Besetzung mit populären und selten gehörten Werken: Ohrenschmaus garantiert!\n\n\n\n\n\n\n\nDieser Eintrag wird Ihnen zur Verfügung gestellt vom Kölner BilderBogen – eines der beliebtesten Stadtmagazine in Köln. Ihr Termin fehlt? Einfach kostenlos einreichen: www.bilderbogen.de/eventeintrag
URL:https://rheinbogen.net/event/musik-im-weisser-kapellchen-2025
LOCATION:Kapelle Weiß\, Weißer Hauptstraße\, Deutschland
ATTACH;FMTTYPE=image/png:https://rheinbogen.net/wp-content/uploads/2025/08/Bildschirmfoto-2025-08-11-um-09.56.02-722x1024-1.png
END:VEVENT
END:VCALENDAR