BEGIN:VCALENDAR
VERSION:2.0
PRODID:-//rheinbogen.net - ECPv6.15.17.1//NONSGML v1.0//EN
CALSCALE:GREGORIAN
METHOD:PUBLISH
X-WR-CALNAME:rheinbogen.net
X-ORIGINAL-URL:https://rheinbogen.net
X-WR-CALDESC:Veranstaltungen für rheinbogen.net
REFRESH-INTERVAL;VALUE=DURATION:PT1H
X-Robots-Tag:noindex
X-PUBLISHED-TTL:PT1H
BEGIN:VTIMEZONE
TZID:Europe/Berlin
BEGIN:DAYLIGHT
TZOFFSETFROM:+0100
TZOFFSETTO:+0200
TZNAME:CEST
DTSTART:20240331T010000
END:DAYLIGHT
BEGIN:STANDARD
TZOFFSETFROM:+0200
TZOFFSETTO:+0100
TZNAME:CET
DTSTART:20241027T010000
END:STANDARD
BEGIN:DAYLIGHT
TZOFFSETFROM:+0100
TZOFFSETTO:+0200
TZNAME:CEST
DTSTART:20250330T010000
END:DAYLIGHT
BEGIN:STANDARD
TZOFFSETFROM:+0200
TZOFFSETTO:+0100
TZNAME:CET
DTSTART:20251026T010000
END:STANDARD
BEGIN:DAYLIGHT
TZOFFSETFROM:+0100
TZOFFSETTO:+0200
TZNAME:CEST
DTSTART:20260329T010000
END:DAYLIGHT
BEGIN:STANDARD
TZOFFSETFROM:+0200
TZOFFSETTO:+0100
TZNAME:CET
DTSTART:20261025T010000
END:STANDARD
END:VTIMEZONE
BEGIN:VEVENT
DTSTART;TZID=Europe/Berlin:20250818T090000
DTEND;TZID=Europe/Berlin:20250822T140000
DTSTAMP:20260421T013306
CREATED:20250603T090135Z
LAST-MODIFIED:20250603T090135Z
UID:10000997-1755507600-1755871200@rheinbogen.net
SUMMARY:Fußball Sommercamp 2025 vom 18.08.2025 bis 22.08.2025
DESCRIPTION:Fußball Sommercamp 2025      Stefan Rygol \nvom 18.08.205 bis zum 22.08.2025 jeweils von 9:00 bis 14:00 Uhr \nbei Nachfragen :  Handy  015774101880    oder      mailto:nc-rygolst2@netcologne.de \n  \n  \n\nDieser Eintrag wird Ihnen zur Verfügung gestellt vom Kölner BilderBogen – eines der beliebtesten Stadtmagazine in Köln. Ihr Termin fehlt? Einfach kostenlos einreichen: www.bilderbogen.de/eventeintrag
URL:https://rheinbogen.net/event/fussball-sommercamp-2025-vom-18-08-2025-bis-22-08-2025
LOCATION:Bezirkssportanlage Köln-Rodenkirchen\, Sürther Str. 195\, Köln\, 50999
ATTACH;FMTTYPE=image/png:https://rheinbogen.net/wp-content/uploads/2025/06/Bildschirmfoto-2025-06-03-um-10.05.11-595x1024-1.png
ORGANIZER;CN="Stefan Rygol":MAILTO:nc-rygolst2@netcologne.de
END:VEVENT
END:VCALENDAR