BEGIN:VCALENDAR
VERSION:2.0
PRODID:-//rheinbogen.net - ECPv6.15.17.1//NONSGML v1.0//EN
CALSCALE:GREGORIAN
METHOD:PUBLISH
X-WR-CALNAME:rheinbogen.net
X-ORIGINAL-URL:https://rheinbogen.net
X-WR-CALDESC:Veranstaltungen für rheinbogen.net
REFRESH-INTERVAL;VALUE=DURATION:PT1H
X-Robots-Tag:noindex
X-PUBLISHED-TTL:PT1H
BEGIN:VTIMEZONE
TZID:Europe/Berlin
BEGIN:DAYLIGHT
TZOFFSETFROM:+0100
TZOFFSETTO:+0200
TZNAME:CEST
DTSTART:20240331T010000
END:DAYLIGHT
BEGIN:STANDARD
TZOFFSETFROM:+0200
TZOFFSETTO:+0100
TZNAME:CET
DTSTART:20241027T010000
END:STANDARD
BEGIN:DAYLIGHT
TZOFFSETFROM:+0100
TZOFFSETTO:+0200
TZNAME:CEST
DTSTART:20250330T010000
END:DAYLIGHT
BEGIN:STANDARD
TZOFFSETFROM:+0200
TZOFFSETTO:+0100
TZNAME:CET
DTSTART:20251026T010000
END:STANDARD
BEGIN:DAYLIGHT
TZOFFSETFROM:+0100
TZOFFSETTO:+0200
TZNAME:CEST
DTSTART:20260329T010000
END:DAYLIGHT
BEGIN:STANDARD
TZOFFSETFROM:+0200
TZOFFSETTO:+0100
TZNAME:CET
DTSTART:20261025T010000
END:STANDARD
END:VTIMEZONE
BEGIN:VEVENT
DTSTART;TZID=Europe/Berlin:20250817T110000
DTEND;TZID=Europe/Berlin:20250817T210000
DTSTAMP:20260421T013326
CREATED:20250219T110046Z
LAST-MODIFIED:20250219T110046Z
UID:10000754-1755428400-1755464400@rheinbogen.net
SUMMARY:Das Straßenfest im Agnesviertel
DESCRIPTION:Kölsch feiern! Im Agnesviertel steigt am 16. und 17. August 2025 ein Straßenfest. Auf die Veedelsbewohner und -besucher warten viele Stände\, Musik und lecker Kölsch.  \nDas Agnesviertel gilt als eines der schönsten Veedel Kölns. Mit seinen prachtvollen Altbauten und der zweitgrößten Kölner Kirche\, der Agneskirche\, ist es an sich schon einen Besuch wert. Besonders in Szene gesetzt wird das Agnesviertel beim Straßenfest auf der Neusser Straße: Zwischen Ebertplatz und Agneskirche bauen die Geschäfte und Gaststätten am Samstag\, den 16.\, und Sonntag\, den 17. August zahlreiche Stände auf. \nIm Angebot sind unter anderem Bekleidung\, Spielwaren\, Kunsthandwerk\, Accessoires und vieles mehr. Viel Musik kommt von lokalen Bands\, Künstlern und DJs. Für das leibliche Wohl ist durch Gastronomen sowie Essensstände ebenfalls gesorgt. \nDas Straßenfest im Agnesviertel auf einen Blick\n\nNeusser Straße zwischen Ebertplatz und Agneskirche (Stadtplan)\nSa. 11 – 22 Uhr\, So. 11 – 21 Uhr\nEintritt frei\n\nBildquelle:  Frank Metzemacher/Lichtreim \n\nDieser Eintrag wird Ihnen zur Verfügung gestellt vom Kölner BilderBogen – eines der beliebtesten Stadtmagazine in Köln. Ihr Termin fehlt? Einfach kostenlos einreichen: www.bilderbogen.de/eventeintrag
URL:https://rheinbogen.net/event/das-strassenfest-im-agnesviertel-2
LOCATION:NRW
ATTACH;FMTTYPE=image/png:https://rheinbogen.net/wp-content/uploads/2025/02/Bildschirmfoto-2025-02-19-um-11.14.17-1024x587-2.png
END:VEVENT
BEGIN:VEVENT
DTSTART;TZID=Europe/Berlin:20250817T113000
DTEND;TZID=Europe/Berlin:20250817T133000
DTSTAMP:20260421T013326
CREATED:20250717T090101Z
LAST-MODIFIED:20250717T090101Z
UID:10001064-1755430200-1755437400@rheinbogen.net
SUMMARY:Römische Stadtmauer von der Bobstraße\, Ecke Mauritiussteinweg bis zum Mühlenbach\, Führung
DESCRIPTION:Die knapp 2.000 Jahre alte römische Stadtmauer ist mit ihren Resten heute noch teilweise sichtbar. Der Spaziergang führt vorbei an einem etwa 160 Meter langen\, aber leider überwucherten Mauerabschnitt zu einem erst im Mittelalter neben einem Stadtmauerturm geöffneten Durchgang\, weiter zu einem nach dem Zweiten Weltkrieg erhaltenen Mauerteil\, das unter einem eigens auf Pfeilern errichteten Gebäude liegt\, und schließlich zu einem in Restaurierung begriffenen Mauerabschnitt. Die Führung findet um 11.30 Uhr statt und geht auch vorbei an einem heute nicht mehr sichtbaren Stadtmauerturm\, den ein Altertumsforscher im Mittelalter bewohnte. Treffpunkt ist an der Bobstraße\, Ecke Mauritiussteinweg\, erreichbar über die Haltestellen Mauritiussteinweg oder Neumarkt. \n\nDieser Eintrag wird Ihnen zur Verfügung gestellt vom Kölner BilderBogen – eines der beliebtesten Stadtmagazine in Köln. Ihr Termin fehlt? Einfach kostenlos einreichen: www.bilderbogen.de/eventeintrag
URL:https://rheinbogen.net/event/roemische-stadtmauer-von-der-bobstrasse-ecke-mauritiussteinweg-bis-zum-muehlenbach-fuehrung
LOCATION:NRW
END:VEVENT
BEGIN:VEVENT
DTSTART;TZID=Europe/Berlin:20250817T150000
DTEND;TZID=Europe/Berlin:20250817T170000
DTSTAMP:20260421T013326
CREATED:20250717T150045Z
LAST-MODIFIED:20250717T150045Z
UID:10001065-1755442800-1755450000@rheinbogen.net
SUMMARY:Besichtigung Turm der Blauen Funken
DESCRIPTION:Der Turm der Blauen Funken ist einer der einst 52 Mauertürme der landseitigen Kölner Stadtmauer. Die einst als Wichhäuser benannten Wehrtürme waren stadtseits offen. Die Stadt Köln vergab den Blauen Funken 1969 den Turm zur eigenen \nNutzung. Der Kölner Architekt Karl Band schloss die stadtwärtige Seite\, um hier Räume zu schaffen. Heute erweitern die Blauen Funken ihre Räumlichkeiten im Bereich des ehemaligen beseitigten Stadtmauerabschnitts. Die Führung von den Mitgliedern der Blauen Funken findet um 15 Uhr statt. Treffpunkt ist vor dem Zugang am Sachsenring\, erreichbar über die Haltestelle Ulrepforte. \n\nDieser Eintrag wird Ihnen zur Verfügung gestellt vom Kölner BilderBogen – eines der beliebtesten Stadtmagazine in Köln. Ihr Termin fehlt? Einfach kostenlos einreichen: www.bilderbogen.de/eventeintrag
URL:https://rheinbogen.net/event/besichtigung-turm-der-blauen-funken
LOCATION:NRW
END:VEVENT
BEGIN:VEVENT
DTSTART;TZID=Europe/Berlin:20250817T160000
DTEND;TZID=Europe/Berlin:20250817T180000
DTSTAMP:20260421T013326
CREATED:20250717T150047Z
LAST-MODIFIED:20250717T150047Z
UID:10001066-1755446400-1755453600@rheinbogen.net
SUMMARY:Besichtigung Turm der Prinzengarde
DESCRIPTION:Der Turm der Prinzengarde hat wie der Turm der Blauen Funken eine interessante Geschichte hinter sich. Die Schlacht an der Ulrepforte 1268\, gibt das zwischen den Türmen gelegene älteste profane Denkmal eines historischen Ereignisses auf einem Relief an der Mauer wieder. Nach dem Zweiten Weltkrieg sanierte der Kölner Architekt Peter Neufert den Turm und schuf sich in ihm seine eigene Wohnung. 1981 erhielt in dessen Nachfolge die Prinzengarde den Turm in Erbpacht von der Stadt Köln. Die Führung findet um 16 Uhr statt. Treffpunkt ist vor dem Zugang am Sachsenring\, erreichbar über die Haltestelle Ulrepforte. \n\nDieser Eintrag wird Ihnen zur Verfügung gestellt vom Kölner BilderBogen – eines der beliebtesten Stadtmagazine in Köln. Ihr Termin fehlt? Einfach kostenlos einreichen: www.bilderbogen.de/eventeintrag
URL:https://rheinbogen.net/event/besichtigung-turm-der-prinzengarde
LOCATION:NRW
END:VEVENT
END:VCALENDAR