BEGIN:VCALENDAR
VERSION:2.0
PRODID:-//rheinbogen.net - ECPv6.15.17.1//NONSGML v1.0//EN
CALSCALE:GREGORIAN
METHOD:PUBLISH
X-ORIGINAL-URL:https://rheinbogen.net
X-WR-CALDESC:Veranstaltungen für rheinbogen.net
REFRESH-INTERVAL;VALUE=DURATION:PT1H
X-Robots-Tag:noindex
X-PUBLISHED-TTL:PT1H
BEGIN:VTIMEZONE
TZID:Europe/Berlin
BEGIN:DAYLIGHT
TZOFFSETFROM:+0100
TZOFFSETTO:+0200
TZNAME:CEST
DTSTART:20240331T010000
END:DAYLIGHT
BEGIN:STANDARD
TZOFFSETFROM:+0200
TZOFFSETTO:+0100
TZNAME:CET
DTSTART:20241027T010000
END:STANDARD
BEGIN:DAYLIGHT
TZOFFSETFROM:+0100
TZOFFSETTO:+0200
TZNAME:CEST
DTSTART:20250330T010000
END:DAYLIGHT
BEGIN:STANDARD
TZOFFSETFROM:+0200
TZOFFSETTO:+0100
TZNAME:CET
DTSTART:20251026T010000
END:STANDARD
BEGIN:DAYLIGHT
TZOFFSETFROM:+0100
TZOFFSETTO:+0200
TZNAME:CEST
DTSTART:20260329T010000
END:DAYLIGHT
BEGIN:STANDARD
TZOFFSETFROM:+0200
TZOFFSETTO:+0100
TZNAME:CET
DTSTART:20261025T010000
END:STANDARD
END:VTIMEZONE
BEGIN:VEVENT
DTSTART;TZID=Europe/Berlin:20250625T000000
DTEND;TZID=Europe/Berlin:20250815T235959
DTSTAMP:20260420T202000
CREATED:20250623T090044Z
LAST-MODIFIED:20250623T100044Z
UID:10001024-1750809600-1755302399@rheinbogen.net
SUMMARY:Kunstausstellung
DESCRIPTION:Zwei Perspektiven: In dieser Ausstellung treffen zwei künstlerische Handschriften aufeinander\, die auf individuelle Weise mit Material\, Struktur und Ausdruck arbeiten – und genau darin ihren Reiz entfalten. \nFabian Eickeler\, ausgebildeter Kommunikationsdesigner\, widmet sich in seinen Arbeiten der freien Kunst\, dem Objekt und der Fotografie. Seine Werke entstehen aus Acrylfarbe\,  Spachtelmasse und Gaffer Tape – kraftvolle\, strukturierte Kompositionen\, in denen Material und Idee eine Einheit bilden. \nDie künstlerische Laufbahn von Vera P. Frank verlief u.a. in der Hochschule der Künste Berlin und wurde durch Privat-Unterricht vertieft. Thema ihrer Ausstellung:\nPoesie der Vergänglichkeit\n– Strukturen –\nBaum – Stahl – Rost – Beton – Natur\nIhre Ausstellung zeigt Fotografien und collagenartig montierte Fotos auf gemalten Bilder\, die die unterschiedlichen Strukturen im Prozess der Vergänglichkeit in ihrer lebendigen bis morbiden Schönheit wiedergeben. \nMEET THE ARTISTS:\nPersönlich anzutreffen sind die Künstler*innen am 04.07. von 18:00 bis 20:00 Uhr sowie am 05.07. von 14:00 bis 18:00 Uhr – die beiden freuen sich auf inspirierende Gespräche! \nReguläre Öffnungszeiten sind jeden Mittwoch und Donnerstag (an Feiertagen geschlossen) von 10:00 Uhr bis 17:00 Uhr.\nWir freuen uns auf euch! \nBildquelle: aboutcommunication-events \n\nDieser Eintrag wird Ihnen zur Verfügung gestellt vom Kölner BilderBogen – eines der beliebtesten Stadtmagazine in Köln. Ihr Termin fehlt? Einfach kostenlos einreichen: www.bilderbogen.de/eventeintrag
URL:https://rheinbogen.net/event/kunstausstellung
LOCATION:ABOUT:EVENTS\, Barbarastraße 15-17\, Köln\, NRW\, 50996\, Deutschland
ATTACH;FMTTYPE=image/png:https://rheinbogen.net/wp-content/uploads/2025/06/Bildschirmfoto-2025-06-23-um-10.20.36-822x1024-1.png
END:VEVENT
BEGIN:VEVENT
DTSTART;TZID=Europe/Berlin:20250714T090000
DTEND;TZID=Europe/Berlin:20250718T130000
DTSTAMP:20260420T202000
CREATED:20250603T090133Z
LAST-MODIFIED:20250603T090133Z
UID:10000996-1752483600-1752843600@rheinbogen.net
SUMMARY:Allrounder Sommercamp 2025 in der OSK vom 14.07.2025 bis 18.07.2025
DESCRIPTION:Allrounder Sommercamp 2025 in der OSK    –   Stefan Rygol \nvom 14.07.205 bis zum 18.07.2025 jeweils von 9:00 bis 16:00 Uhr \nbei Nachfragen :  Handy  015774101880    oder      mailto:nc-rygolst2@netcologne.de \n  \n  \n\nDieser Eintrag wird Ihnen zur Verfügung gestellt vom Kölner BilderBogen – eines der beliebtesten Stadtmagazine in Köln. Ihr Termin fehlt? Einfach kostenlos einreichen: www.bilderbogen.de/eventeintrag
URL:https://rheinbogen.net/event/allrounder-sommercamp-2025-in-der-osk-vom-14-07-2025-bis-18-07-2025
LOCATION:Offene Schule Köln (OSK)\, Sürther Straße 199\, Köln\, NRW\, 50999\, Deutschland
ATTACH;FMTTYPE=image/png:https://rheinbogen.net/wp-content/uploads/2025/06/Bildschirmfoto-2025-06-03-um-10.24.29-723x1024-1.png
ORGANIZER;CN="Stefan Rygol":MAILTO:nc-rygolst2@netcologne.de
END:VEVENT
BEGIN:VEVENT
DTSTART;TZID=Europe/Berlin:20250714T090000
DTEND;TZID=Europe/Berlin:20250718T140000
DTSTAMP:20260420T202000
CREATED:20250603T090127Z
LAST-MODIFIED:20250603T100050Z
UID:10000995-1752483600-1752847200@rheinbogen.net
SUMMARY:Fußball Sommercamp 2025 vom 14.07.2025 bis 18.07.2025
DESCRIPTION:Fußball Sommercamp 2025      Stefan Rygol \nvom 14.07.205 bis zum 18.07.2025 jeweils von 9:00 bis 14:00 Uhr \nbei Nachfragen :  Handy  015774101880    oder      mailto:nc-rygolst2@netcologne.de \n  \n  \n\nDieser Eintrag wird Ihnen zur Verfügung gestellt vom Kölner BilderBogen – eines der beliebtesten Stadtmagazine in Köln. Ihr Termin fehlt? Einfach kostenlos einreichen: www.bilderbogen.de/eventeintrag
URL:https://rheinbogen.net/event/fussball-sommercamp-2025-vom-14-07-2025-bis-18-07-2025
LOCATION:Bezirkssportanlage Köln-Rodenkirchen\, Sürther Str. 195\, Köln\, 50999
ATTACH;FMTTYPE=image/png:https://rheinbogen.net/wp-content/uploads/2025/06/Bildschirmfoto-2025-06-03-um-10.05.11-595x1024-1.png
ORGANIZER;CN="Stefan Rygol":MAILTO:nc-rygolst2@netcologne.de
END:VEVENT
BEGIN:VEVENT
DTSTART;TZID=Europe/Berlin:20250714T090000
DTEND;TZID=Europe/Berlin:20250808T170000
DTSTAMP:20260420T202000
CREATED:20250319T090048Z
LAST-MODIFIED:20250319T090048Z
UID:10000807-1752483600-1754672400@rheinbogen.net
SUMMARY:Englisch Sommercamp Köln 2025
DESCRIPTION:KCAs Englisch Camp in Köln in den Sommerferien für Kinder im Alter von 5 bis 12 Jahren (in altersgerechten Gruppen) ist eine großartige Möglichkeit\, während der Ferien Englisch auf spielerische Art und Weise zu üben. Mit Englischunterricht am Vormittag und aufregenden Aktivitäten am Nachmittag ist dieses Ferienprogramm perfekt für alle Kinder\, die Englisch lernen oder einfach sprechen möchten.\nLeistungen im Überblick: \nGanztägig Englisch-Immersion: Wir sprechen den ganzen Tag Englisch!\nKleine Lerngruppen: Projekt- und spielbasierter Englischunterricht am Vormittag\nErfahrene Muttersprachler: Pädagogisch geschulte Sprachlehrer. Betreuungsschlüssel 1:8.\nAktivitäten: Freizeitaktivitäten am Nachmittag (z.B. Bogenschießen\, Baseball\, Origami\, Batiken)\nAusflüge: 1 Ausflug pro Woche (z.B. Zoo\, Englisches Kino\, Minigolf)\nWarmes Mittagessen: Täglich ein warmes Mittagessen.\nKCA Essentials: T-Shirt\, Namensschild und KCA-Mappe sind im Preis inbegriffen!\nKeine versteckten Kosten: Materialien\, Ausflüge und Mahlzeiten im Preis enthalten.\nAlles in einer sicheren\, geborgenen und gleichzeitig aufregenden Umgebung \n\n\n\nKlicken Sie auf den unteren Button\, um den Inhalt von kidscampamerica.com zu laden. \nInhalt laden \n \n\n\nPGJsb2NrcXVvdGUgY2xhc3M9IndwLWVtYmVkZGVkLWNvbnRlbnQiIGRhdGEtc2VjcmV0PSJweUNiZm5HTkhhIj48YSBocmVmPSJodHRwczovL2tpZHNjYW1wYW1lcmljYS5jb20vZGUva2NhX2NhbXBzL2tvZWxuLWVuZ2xpc2NoLWRheS1jYW1wLXNvbW1lcmZlcmllbi8iPkvDtmxuIEVuZ2xpc2NoIERheSBDYW1wIFNvbW1lcmZlcmllbiAyMDI1PC9hPjwvYmxvY2txdW90ZT48aWZyYW1lIGNsYXNzPSJ3cC1lbWJlZGRlZC1jb250ZW50IiBzYW5kYm94PSJhbGxvdy1zY3JpcHRzIiBzZWN1cml0eT0icmVzdHJpY3RlZCIgc3R5bGU9InBvc2l0aW9uOiBhYnNvbHV0ZTsgdmlzaWJpbGl0eTogaGlkZGVuOyIgdGl0bGU9IiYjODIyMDtLw7ZsbiBFbmdsaXNjaCBEYXkgQ2FtcCBTb21tZXJmZXJpZW4gMjAyNSYjODIyMTsgJiM4MjEyOyBLQ0EgRW5nbGlzaCBDYW1wcyIgc3JjPSJodHRwczovL2tpZHNjYW1wYW1lcmljYS5jb20vZGUva2NhX2NhbXBzL2tvZWxuLWVuZ2xpc2NoLWRheS1jYW1wLXNvbW1lcmZlcmllbi9lbWJlZC8jP3NlY3JldD1nUDk3ZEQwdWV2Iz9zZWNyZXQ9cHlDYmZuR05IYSIgZGF0YS1zZWNyZXQ9InB5Q2JmbkdOSGEiIHdpZHRoPSI2MDAiIGhlaWdodD0iMzM4IiBmcmFtZWJvcmRlcj0iMCIgbWFyZ2lud2lkdGg9IjAiIG1hcmdpbmhlaWdodD0iMCIgc2Nyb2xsaW5nPSJubyI+PC9pZnJhbWU+\n\nBildquelle: Kids Camps America GmbH \n\nDieser Eintrag wird Ihnen zur Verfügung gestellt vom Kölner BilderBogen – eines der beliebtesten Stadtmagazine in Köln. Ihr Termin fehlt? Einfach kostenlos einreichen: www.bilderbogen.de/eventeintrag
URL:https://rheinbogen.net/event/englisch-sommercamp-koeln-2025
LOCATION:Hochschule Fresenius\, Im Media Park 4e\, Köln\, 50670
ATTACH;FMTTYPE=image/png:https://rheinbogen.net/wp-content/uploads/2025/03/Bildschirmfoto-2025-03-19-um-09.47.09.png
END:VEVENT
BEGIN:VEVENT
DTSTART;TZID=Europe/Berlin:20250715T173000
DTEND;TZID=Europe/Berlin:20250715T183000
DTSTAMP:20260420T202000
CREATED:20250602T120100Z
LAST-MODIFIED:20250602T120100Z
UID:10000992-1752600600-1752604200@rheinbogen.net
SUMMARY:Kreißsaal Infoabend im Severinsklösterchen
DESCRIPTION:An jedem dritten Dienstag im Juni und Juli finden um 17:45 Infoabende rund um die Geburt bei uns im Cellitinnen-Severinsklösterchen Krankenhaus der Augustinerinnen statt. Am 17. Juni gibt es einen zusätzlichen Termin um 19 Uhr. \nUm auf Ihre Fragen eingehen zu können\, ist die Teilnehmerzahl begrenzt. Bitte melden Sie sich über Doctolib zu dem gewünschten Termin an. \nhttps://www.doctolib.de/krankenhaus/koeln/krankenhaus-der-augustinerinnen-frauenklinik-geburtshilfe \nÜbrigens:\nAn jedem ersten Dienstag im Juni und Juli findet um 18.00 Uhr ein virtueller Infoabend unseres Kreißsaals statt. Da auch hier die Teilnehmerzahl pro Veranstaltung auf 30 Personen bzw. Paare begrenzt ist\, ist eine Anmeldung erforderlich.\nBitte melden Sie sich für den Online-Infoabend bis spätestens montags\, 16 Uhr vor dem jeweiligen Termin bei der Kreißsaalambulanz an: kkreisssaal@severinskloesterchen.de \n\nDieser Eintrag wird Ihnen zur Verfügung gestellt vom Kölner BilderBogen – eines der beliebtesten Stadtmagazine in Köln. Ihr Termin fehlt? Einfach kostenlos einreichen: www.bilderbogen.de/eventeintrag
URL:https://rheinbogen.net/event/kreisssaal-infoabend-im-severinskloesterchen-3
LOCATION:Krankenhaus der Augustinerinnen\, Jakobstraße 27–31\, Köln\, NRW\, 50678\, Deutschland
ATTACH;FMTTYPE=image/png:https://rheinbogen.net/wp-content/uploads/2025/06/Bildschirmfoto-2025-06-02-um-12.20.02-1-1024x719-1.png
END:VEVENT
BEGIN:VEVENT
DTSTART;TZID=Europe/Berlin:20250715T180000
DTEND;TZID=Europe/Berlin:20250715T190000
DTSTAMP:20260420T202000
CREATED:20250702T070037Z
LAST-MODIFIED:20250702T070037Z
UID:10001033-1752602400-1752606000@rheinbogen.net
SUMMARY:Autorenlesung: Marcel G. Seyppel – USIWA
DESCRIPTION:Der Roman beruht auf einer wahren Geschichte: ein Flugzeugabschuss einer Zivilmaschine durch NATO-Jets über dem Tyrrhenischen Meer 1980 bei dem 81 Menschen starben – erst vertuscht\, dann verleugnet\, in Europa und den USA\, die sich schuldig gemacht haben\, auch Deutschland. Immer ging es dabei um die Eliminierung von Zeugen. Um den „letzten Zeugen“ geht es in USIWA. Den Mann\, der durch die Wüste ging. \n\nDieser Eintrag wird Ihnen zur Verfügung gestellt vom Kölner BilderBogen – eines der beliebtesten Stadtmagazine in Köln. Ihr Termin fehlt? Einfach kostenlos einreichen: www.bilderbogen.de/eventeintrag
URL:https://rheinbogen.net/event/autorenlesung-marcel-g-seyppel-usiwa
LOCATION:Cura SeniorenCentrum Köln Rodenkirchen\, Hauptstraße 128\, Köln\, NRW\, 50996\, Deutschland
END:VEVENT
END:VCALENDAR