BEGIN:VCALENDAR
VERSION:2.0
PRODID:-//rheinbogen.net - ECPv6.15.17.1//NONSGML v1.0//EN
CALSCALE:GREGORIAN
METHOD:PUBLISH
X-WR-CALNAME:rheinbogen.net
X-ORIGINAL-URL:https://rheinbogen.net
X-WR-CALDESC:Veranstaltungen für rheinbogen.net
REFRESH-INTERVAL;VALUE=DURATION:PT1H
X-Robots-Tag:noindex
X-PUBLISHED-TTL:PT1H
BEGIN:VTIMEZONE
TZID:Europe/Berlin
BEGIN:DAYLIGHT
TZOFFSETFROM:+0100
TZOFFSETTO:+0200
TZNAME:CEST
DTSTART:20240331T010000
END:DAYLIGHT
BEGIN:STANDARD
TZOFFSETFROM:+0200
TZOFFSETTO:+0100
TZNAME:CET
DTSTART:20241027T010000
END:STANDARD
BEGIN:DAYLIGHT
TZOFFSETFROM:+0100
TZOFFSETTO:+0200
TZNAME:CEST
DTSTART:20250330T010000
END:DAYLIGHT
BEGIN:STANDARD
TZOFFSETFROM:+0200
TZOFFSETTO:+0100
TZNAME:CET
DTSTART:20251026T010000
END:STANDARD
BEGIN:DAYLIGHT
TZOFFSETFROM:+0100
TZOFFSETTO:+0200
TZNAME:CEST
DTSTART:20260329T010000
END:DAYLIGHT
BEGIN:STANDARD
TZOFFSETFROM:+0200
TZOFFSETTO:+0100
TZNAME:CET
DTSTART:20261025T010000
END:STANDARD
END:VTIMEZONE
BEGIN:VEVENT
DTSTART;TZID=Europe/Berlin:20250625T000000
DTEND;TZID=Europe/Berlin:20250815T235959
DTSTAMP:20260422T112926
CREATED:20250623T090044Z
LAST-MODIFIED:20250623T100044Z
UID:10001024-1750809600-1755302399@rheinbogen.net
SUMMARY:Kunstausstellung
DESCRIPTION:Zwei Perspektiven: In dieser Ausstellung treffen zwei künstlerische Handschriften aufeinander\, die auf individuelle Weise mit Material\, Struktur und Ausdruck arbeiten – und genau darin ihren Reiz entfalten. \nFabian Eickeler\, ausgebildeter Kommunikationsdesigner\, widmet sich in seinen Arbeiten der freien Kunst\, dem Objekt und der Fotografie. Seine Werke entstehen aus Acrylfarbe\,  Spachtelmasse und Gaffer Tape – kraftvolle\, strukturierte Kompositionen\, in denen Material und Idee eine Einheit bilden. \nDie künstlerische Laufbahn von Vera P. Frank verlief u.a. in der Hochschule der Künste Berlin und wurde durch Privat-Unterricht vertieft. Thema ihrer Ausstellung:\nPoesie der Vergänglichkeit\n– Strukturen –\nBaum – Stahl – Rost – Beton – Natur\nIhre Ausstellung zeigt Fotografien und collagenartig montierte Fotos auf gemalten Bilder\, die die unterschiedlichen Strukturen im Prozess der Vergänglichkeit in ihrer lebendigen bis morbiden Schönheit wiedergeben. \nMEET THE ARTISTS:\nPersönlich anzutreffen sind die Künstler*innen am 04.07. von 18:00 bis 20:00 Uhr sowie am 05.07. von 14:00 bis 18:00 Uhr – die beiden freuen sich auf inspirierende Gespräche! \nReguläre Öffnungszeiten sind jeden Mittwoch und Donnerstag (an Feiertagen geschlossen) von 10:00 Uhr bis 17:00 Uhr.\nWir freuen uns auf euch! \nBildquelle: aboutcommunication-events \n\nDieser Eintrag wird Ihnen zur Verfügung gestellt vom Kölner BilderBogen – eines der beliebtesten Stadtmagazine in Köln. Ihr Termin fehlt? Einfach kostenlos einreichen: www.bilderbogen.de/eventeintrag
URL:https://rheinbogen.net/event/kunstausstellung
LOCATION:ABOUT:EVENTS\, Barbarastraße 15-17\, Köln\, NRW\, 50996\, Deutschland
ATTACH;FMTTYPE=image/png:https://rheinbogen.net/wp-content/uploads/2025/06/Bildschirmfoto-2025-06-23-um-10.20.36-822x1024-1.png
END:VEVENT
BEGIN:VEVENT
DTSTART;TZID=Europe/Berlin:20250704T000000
DTEND;TZID=Europe/Berlin:20250706T235959
DTSTAMP:20260422T112926
CREATED:20250114T120056Z
LAST-MODIFIED:20250704T120040Z
UID:10000465-1751587200-1751846399@rheinbogen.net
SUMMARY:Rodenkirchener Sommertage
DESCRIPTION:Dieser Eintrag wird Ihnen zur Verfügung gestellt vom Kölner BilderBogen – eines der beliebtesten Stadtmagazine in Köln. Ihr Termin fehlt? Einfach kostenlos einreichen: www.bilderbogen.de/eventeintrag
URL:https://rheinbogen.net/event/rodenkirchener-sommertage
LOCATION:Matenusplatz Rodenkirchen
ATTACH;FMTTYPE=image/png:https://rheinbogen.net/wp-content/uploads/2025/07/treffpunkt-sommertage-PLAKAT-2025-727x1024-1.png
ORGANIZER;CN="Treffpunkt Rodenkirchen":MAILTO:info@treffpunkt-rodenkirchen.de
END:VEVENT
BEGIN:VEVENT
DTSTART;TZID=Europe/Berlin:20250706T110000
DTEND;TZID=Europe/Berlin:20250706T130000
DTSTAMP:20260422T112926
CREATED:20250114T110057Z
LAST-MODIFIED:20250312T110110Z
UID:10000460-1751799600-1751806800@rheinbogen.net
SUMMARY:CESAR-FRANCK-DUO – FASZINIERENDE KLANGVIELFALT
DESCRIPTION:CESAR-FRANCK-DUO: » Faszinierende Klangvielfalt «Nicole Schillings (Saxophon) und Oliver Drechsel (Klavier) \nIm Mittelpunkt des Repertoires des Cesar-Franck-Duos stehen bekannte Meisterwerke der Romantik in außergewöhnlich sensiblen und raffinierten Arrangements für Sopran- und Altsaxophon und Klavier. \nKompositionen des französischen Impressionismus über die Moderne bis hin zum argentinischen Tango Nuevo ergeben ein reizvolles\, unkonventionelles Programm in überraschender Klangvielfalt. \nEine ungewöhnliche Kombination von Instrumenten und ein musikalischer Hochgenuss! \nDer Eintritt zu unseren Konzerten ist frei – eine Spende zum Erhalt der Konzertreihe ist gerne willkommen. \n\nDieser Eintrag wird Ihnen zur Verfügung gestellt vom Kölner BilderBogen – eines der beliebtesten Stadtmagazine in Köln. Ihr Termin fehlt? Einfach kostenlos einreichen: www.bilderbogen.de/eventeintrag
URL:https://rheinbogen.net/event/cesar-franck-duo-faszinierende-klangvielfalt
LOCATION:RTK Germania Köln-Poll\, Alfred-Schütte-Allee 163
END:VEVENT
BEGIN:VEVENT
DTSTART;TZID=Europe/Berlin:20250706T110000
DTEND;TZID=Europe/Berlin:20250706T130000
DTSTAMP:20260422T112926
CREATED:20250604T110102Z
LAST-MODIFIED:20250604T110102Z
UID:10001003-1751799600-1751806800@rheinbogen.net
SUMMARY:22. Kölner Musikfest
DESCRIPTION:Dieser Eintrag wird Ihnen zur Verfügung gestellt vom Kölner BilderBogen – eines der beliebtesten Stadtmagazine in Köln. Ihr Termin fehlt? Einfach kostenlos einreichen: www.bilderbogen.de/eventeintrag
URL:https://rheinbogen.net/event/22-koelner-musikfest
LOCATION:Tanzbrunnen
ATTACH;FMTTYPE=image/png:https://rheinbogen.net/wp-content/uploads/2025/06/Bildschirmfoto-2025-06-04-um-12.19.18.png
END:VEVENT
BEGIN:VEVENT
DTSTART;TZID=Europe/Berlin:20250706T113000
DTEND;TZID=Europe/Berlin:20250706T183000
DTSTAMP:20260422T112926
CREATED:20250605T090102Z
LAST-MODIFIED:20250605T090102Z
UID:10001005-1751801400-1751826600@rheinbogen.net
SUMMARY:Pfarrfest St. Remigius\, Köln-Sürth
DESCRIPTION:Dieser Eintrag wird Ihnen zur Verfügung gestellt vom Kölner BilderBogen – eines der beliebtesten Stadtmagazine in Köln. Ihr Termin fehlt? Einfach kostenlos einreichen: www.bilderbogen.de/eventeintrag
URL:https://rheinbogen.net/event/pfarrfest-st-remigius-koeln-suerth
LOCATION:St. Remigius Kirche Sürth\, Sürther Hauptstraße 124\, Köln\, NRW\, 50999\, Deutschland
ATTACH;FMTTYPE=image/png:https://rheinbogen.net/wp-content/uploads/2025/06/Bildschirmfoto-2025-06-05-um-10.03.36.png
END:VEVENT
BEGIN:VEVENT
DTSTART;TZID=Europe/Berlin:20250706T130000
DTEND;TZID=Europe/Berlin:20250706T180000
DTSTAMP:20260422T112926
CREATED:20250617T100058Z
LAST-MODIFIED:20250617T100058Z
UID:10001014-1751806800-1751824800@rheinbogen.net
SUMMARY:Kunstsonntag in der Wachsfabrik von 14 bis 18 Uhr mit Führung ab 13 Uhr
DESCRIPTION:die Künstler*innen des Kunstzentrum Wachsfabrik laden herzlich am 06. Juli zwischen 14 und 18 Uhr in ihre geöffneten Ateliers ein und freuen sich auf die Besucher und persönliche Begegnungen. Der Eintritt ist frei. Das Café ist geöffnet. \nAb 13 Uhr bietet die Kunsthistorikerin Hanna Styrie bis ca. 14:30 Uhr eine Führung durch die Ateliers auf Spendenbasis an. Treffpunkt ist am Rolltor vorne. \nAdresse: Industriestraße 170\, 50999 Köln \nWeitere Informationen unter www.kunstzentrum-wachsfabrik.koeln. \n10 geöffnete Ateliers: \nAtelier 05 – Sebastian Probst – Art Projekt – Bildhauerei \nAtelier 10 – Gastkünstlerin Margot Keila – Malerei \nAtelier 12 – Manfred Wachendorf\, Jovita Majewski\, Pascal Behrendt\, Inge Lager\, Mia Forsch – Skulptur & Malerei \nAtelier 13 – Gertraud Lütkefels – Schmuck & Objekte \nAtelier 14 – miegL + Gastkünstler*in Student*in – Malerei & Bildhauerei \nAtelier 19 – Sabine Burghardt – Fotografie \nAtelier 20 – Joao de Almeida – Objekte \nAtelier 21 – Martha Potempa & Thomas Brück + Gastkünstler*in \nLoft 22 – Jeannette de Payrebrune – Malerei & Bildhauerei \nAtelier 25 – Hans Jürgen Greve – BOKX Bücherschränke + Gastkünstler*in Student*in \n  \nWir würden uns auch über Ihren Besuch freuen!\n\nDieser Eintrag wird Ihnen zur Verfügung gestellt vom Kölner BilderBogen – eines der beliebtesten Stadtmagazine in Köln. Ihr Termin fehlt? Einfach kostenlos einreichen: www.bilderbogen.de/eventeintrag
URL:https://rheinbogen.net/event/kunstsonntag-in-der-wachsfabrik-von-14-bis-18-uhr-mit-fuehrung-ab-13-uhr-3
LOCATION:Wachsfabrik\, Industriestraße 170\, Köln\, 50999\, Deutschland
ATTACH;FMTTYPE=image/png:https://rheinbogen.net/wp-content/uploads/2025/06/Bildschirmfoto-2025-06-17-um-11.21.50-518x1024-1.png
ORGANIZER;CN="Kulturforum Wachsfabrik":MAILTO:info@kulturforum-wachsfabrik.koeln
END:VEVENT
BEGIN:VEVENT
DTSTART;TZID=Europe/Berlin:20250706T143000
DTEND;TZID=Europe/Berlin:20250706T190000
DTSTAMP:20260422T112926
CREATED:20250702T090038Z
LAST-MODIFIED:20250702T090038Z
UID:10001034-1751812200-1751828400@rheinbogen.net
SUMMARY:EDELWEISSPIRATENFESTIVAL
DESCRIPTION:25 Bands auf fünf Bühnen\, NS-DOK-Ausstellung\, Generationencafé und vieles mehr!\nMit Stoppok\, Fevronia\, Lina Bô\, Ludwig Sebus\, Melane & Band\, Steven Ouma Band\, Skuff Barby\, Retrogott\, SakkoKolonia\, Ozan Ata Canani\, Eskandar Abadi Quartett\, der Gertrud-Koch-Gesamtschule\, Mariama\, Silk Rabbits\, Sarrach & Krazy\, Flönz\, Luana & Rudi\, Electro Hafiz\, Epstein’s Klezmer Tov Duo\, Amago\, Doina\, Hangman Brass Band\, Ghost Town Traffic\, Post Punchlines\, Peter Finkelgruen und Desert Rain Frog\n\n\nEintritt frei – Spenden erwünscht\n\n\nDieser Eintrag wird Ihnen zur Verfügung gestellt vom Kölner BilderBogen – eines der beliebtesten Stadtmagazine in Köln. Ihr Termin fehlt? Einfach kostenlos einreichen: www.bilderbogen.de/eventeintrag
URL:https://rheinbogen.net/event/edelweisspiratenfestival
LOCATION:Friedenspark\, Oberländer Wall\, Köln\, NRW\, 50678\, Deutschland
ATTACH;FMTTYPE=image/png:https://rheinbogen.net/wp-content/uploads/2025/07/Bildschirmfoto-2025-07-02-um-10.28.04.png
END:VEVENT
END:VCALENDAR