BEGIN:VCALENDAR
VERSION:2.0
PRODID:-//rheinbogen.net - ECPv6.15.17.1//NONSGML v1.0//EN
CALSCALE:GREGORIAN
METHOD:PUBLISH
X-WR-CALNAME:rheinbogen.net
X-ORIGINAL-URL:https://rheinbogen.net
X-WR-CALDESC:Veranstaltungen für rheinbogen.net
REFRESH-INTERVAL;VALUE=DURATION:PT1H
X-Robots-Tag:noindex
X-PUBLISHED-TTL:PT1H
BEGIN:VTIMEZONE
TZID:Europe/Berlin
BEGIN:DAYLIGHT
TZOFFSETFROM:+0100
TZOFFSETTO:+0200
TZNAME:CEST
DTSTART:20240331T010000
END:DAYLIGHT
BEGIN:STANDARD
TZOFFSETFROM:+0200
TZOFFSETTO:+0100
TZNAME:CET
DTSTART:20241027T010000
END:STANDARD
BEGIN:DAYLIGHT
TZOFFSETFROM:+0100
TZOFFSETTO:+0200
TZNAME:CEST
DTSTART:20250330T010000
END:DAYLIGHT
BEGIN:STANDARD
TZOFFSETFROM:+0200
TZOFFSETTO:+0100
TZNAME:CET
DTSTART:20251026T010000
END:STANDARD
BEGIN:DAYLIGHT
TZOFFSETFROM:+0100
TZOFFSETTO:+0200
TZNAME:CEST
DTSTART:20260329T010000
END:DAYLIGHT
BEGIN:STANDARD
TZOFFSETFROM:+0200
TZOFFSETTO:+0100
TZNAME:CET
DTSTART:20261025T010000
END:STANDARD
END:VTIMEZONE
BEGIN:VEVENT
DTSTART;TZID=Europe/Berlin:20250625T000000
DTEND;TZID=Europe/Berlin:20250815T235959
DTSTAMP:20260421T013311
CREATED:20250623T090044Z
LAST-MODIFIED:20250623T100044Z
UID:10001024-1750809600-1755302399@rheinbogen.net
SUMMARY:Kunstausstellung
DESCRIPTION:Zwei Perspektiven: In dieser Ausstellung treffen zwei künstlerische Handschriften aufeinander\, die auf individuelle Weise mit Material\, Struktur und Ausdruck arbeiten – und genau darin ihren Reiz entfalten. \nFabian Eickeler\, ausgebildeter Kommunikationsdesigner\, widmet sich in seinen Arbeiten der freien Kunst\, dem Objekt und der Fotografie. Seine Werke entstehen aus Acrylfarbe\,  Spachtelmasse und Gaffer Tape – kraftvolle\, strukturierte Kompositionen\, in denen Material und Idee eine Einheit bilden. \nDie künstlerische Laufbahn von Vera P. Frank verlief u.a. in der Hochschule der Künste Berlin und wurde durch Privat-Unterricht vertieft. Thema ihrer Ausstellung:\nPoesie der Vergänglichkeit\n– Strukturen –\nBaum – Stahl – Rost – Beton – Natur\nIhre Ausstellung zeigt Fotografien und collagenartig montierte Fotos auf gemalten Bilder\, die die unterschiedlichen Strukturen im Prozess der Vergänglichkeit in ihrer lebendigen bis morbiden Schönheit wiedergeben. \nMEET THE ARTISTS:\nPersönlich anzutreffen sind die Künstler*innen am 04.07. von 18:00 bis 20:00 Uhr sowie am 05.07. von 14:00 bis 18:00 Uhr – die beiden freuen sich auf inspirierende Gespräche! \nReguläre Öffnungszeiten sind jeden Mittwoch und Donnerstag (an Feiertagen geschlossen) von 10:00 Uhr bis 17:00 Uhr.\nWir freuen uns auf euch! \nBildquelle: aboutcommunication-events \n\nDieser Eintrag wird Ihnen zur Verfügung gestellt vom Kölner BilderBogen – eines der beliebtesten Stadtmagazine in Köln. Ihr Termin fehlt? Einfach kostenlos einreichen: www.bilderbogen.de/eventeintrag
URL:https://rheinbogen.net/event/kunstausstellung
LOCATION:ABOUT:EVENTS\, Barbarastraße 15-17\, Köln\, NRW\, 50996\, Deutschland
ATTACH;FMTTYPE=image/png:https://rheinbogen.net/wp-content/uploads/2025/06/Bildschirmfoto-2025-06-23-um-10.20.36-822x1024-1.png
END:VEVENT
BEGIN:VEVENT
DTSTART;TZID=Europe/Berlin:20250704T000000
DTEND;TZID=Europe/Berlin:20250706T235959
DTSTAMP:20260421T013311
CREATED:20250114T120056Z
LAST-MODIFIED:20250704T120040Z
UID:10000465-1751587200-1751846399@rheinbogen.net
SUMMARY:Rodenkirchener Sommertage
DESCRIPTION:Dieser Eintrag wird Ihnen zur Verfügung gestellt vom Kölner BilderBogen – eines der beliebtesten Stadtmagazine in Köln. Ihr Termin fehlt? Einfach kostenlos einreichen: www.bilderbogen.de/eventeintrag
URL:https://rheinbogen.net/event/rodenkirchener-sommertage
LOCATION:Matenusplatz Rodenkirchen
ATTACH;FMTTYPE=image/png:https://rheinbogen.net/wp-content/uploads/2025/07/treffpunkt-sommertage-PLAKAT-2025-727x1024-1.png
ORGANIZER;CN="Treffpunkt Rodenkirchen":MAILTO:info@treffpunkt-rodenkirchen.de
END:VEVENT
BEGIN:VEVENT
DTSTART;TZID=Europe/Berlin:20250705T100000
DTEND;TZID=Europe/Berlin:20250705T180000
DTSTAMP:20260421T013311
CREATED:20250701T100037Z
LAST-MODIFIED:20250701T130038Z
UID:10001031-1751709600-1751738400@rheinbogen.net
SUMMARY:Platzeröffnfungs-Jugendtunier in Rondorf
DESCRIPTION:Dieser Eintrag wird Ihnen zur Verfügung gestellt vom Kölner BilderBogen – eines der beliebtesten Stadtmagazine in Köln. Ihr Termin fehlt? Einfach kostenlos einreichen: www.bilderbogen.de/eventeintrag
URL:https://rheinbogen.net/event/platzeroeffnfungs-jugendtunier-in-rondorf
LOCATION:Sportplatz Rondorf\, Pastoratsstraße\, Köln\, NRW\, 50997\, Deutschland
ATTACH;FMTTYPE=image/png:https://rheinbogen.net/wp-content/uploads/2025/07/Bildschirmfoto-2025-07-01-um-11.52.27-760x1024-1.png
END:VEVENT
BEGIN:VEVENT
DTSTART;TZID=Europe/Berlin:20250705T120000
DTEND;TZID=Europe/Berlin:20250705T160000
DTSTAMP:20260421T013311
CREATED:20250603T090120Z
LAST-MODIFIED:20250603T090120Z
UID:10000994-1751716800-1751731200@rheinbogen.net
SUMMARY:Summer Fete / Sommerfest der anglikanischen Kirchengemeinde All Saints
DESCRIPTION:Ein Bücherflohmarkt bietet die Möglichkeit sich mit viel englischem Lesestoff einzudecken. Angeboten werden auch handgemachte Artikel\, britische Lebensmittel und selbstgemachte Marmeladen.\nFür das leibliche Wohl ist mit „Cream Teas“ (Scones mit clotted cream und Konfitüre)\, Grillstand sowie Kuchen und Getränken gesorgt.\nAls Attraktion für die Kinder wird eine Hüpfburg angeboten. \n\nDieser Eintrag wird Ihnen zur Verfügung gestellt vom Kölner BilderBogen – eines der beliebtesten Stadtmagazine in Köln. Ihr Termin fehlt? Einfach kostenlos einreichen: www.bilderbogen.de/eventeintrag
URL:https://rheinbogen.net/event/summer-fete-sommerfest-der-anglikanischen-kirchengemeinde-all-saints
LOCATION:Anglikanische Kirche All Saints\, Bonner Str./ Ecke Lindenallee\, Köln\, 509678
ATTACH;FMTTYPE=image/png:https://rheinbogen.net/wp-content/uploads/2025/06/Bildschirmfoto-2025-06-03-um-10.31.28.png
END:VEVENT
BEGIN:VEVENT
DTSTART;TZID=Europe/Berlin:20250705T150000
DTEND;TZID=Europe/Berlin:20250705T213000
DTSTAMP:20260421T013311
CREATED:20250602T120058Z
LAST-MODIFIED:20250602T120058Z
UID:10000991-1751727600-1751751000@rheinbogen.net
SUMMARY:Jubiläumsserenade Rodenkirchener KammerChor und Orchester (RKCO)
DESCRIPTION:Mit einem bunten Musikfest begeht der der RKCO gleich zwei Jubiläen: 60 Jahre Kammerorchester und 50 Jahre Kammerchor. Der Gründer des Ensembles\, Anselm Romans\, wirkt immer noch tatkräftig im Chor mit. \nFreuen Sie sich auf abwechslungsreife Workhops\, bei denen Sie mitwirken können.\nab 15.00 Uhr: \nWorkshops\, Instrumentenkarussell\, Mini-Konzerte\, Offenes Singen\,Impro-Singspiel \n18.30 Uhr Abschlusskonzert der Serenade\, anschließend Empfang \nVom Instrumentenkarussell bis hin zu Chorworkshops\, Bewegungsspielen für die Kleinsten sowie einem improvisierten Singspiel ist alles dabei. \nGenauer Zeitplan unter: \nwww.rkco-koeln.de \nwww.musikschulepapageno.de \nEintritt frei – Spenden erbeten \nBildquelle: RKCO \n\nDieser Eintrag wird Ihnen zur Verfügung gestellt vom Kölner BilderBogen – eines der beliebtesten Stadtmagazine in Köln. Ihr Termin fehlt? Einfach kostenlos einreichen: www.bilderbogen.de/eventeintrag
URL:https://rheinbogen.net/event/jubilaeumsserenade-rodenkirchener-kammerchor-und-orchester-rkco
LOCATION:Immanuel Kirche\, Carl-Jatho-Str. 1\, Köln\, Bundesstaat wählen:\, 50997\, Deutschland
ATTACH;FMTTYPE=image/png:https://rheinbogen.net/wp-content/uploads/2025/06/Bildschirmfoto-2025-06-02-um-12.40.43-736x1024-1.png
END:VEVENT
BEGIN:VEVENT
DTSTART;TZID=Europe/Berlin:20250705T190000
DTEND;TZID=Europe/Berlin:20250705T210000
DTSTAMP:20260421T013311
CREATED:20250617T100054Z
LAST-MODIFIED:20250617T100054Z
UID:10001013-1751742000-1751749200@rheinbogen.net
SUMMARY:Sommerkonzert
DESCRIPTION:Chorkonzert des Kammerchors Musica Mundi unter Leitung von Markus Mostert als Erfrischung für Ohren und Seele mit Werken von Monteverdi\, Purcell\, Britten u.v.m. zusammen mit der Sopranistin Anna Herbst \nBildquelle: Maria Büscher \n\nDieser Eintrag wird Ihnen zur Verfügung gestellt vom Kölner BilderBogen – eines der beliebtesten Stadtmagazine in Köln. Ihr Termin fehlt? Einfach kostenlos einreichen: www.bilderbogen.de/eventeintrag
URL:https://rheinbogen.net/event/sommerkonzert
LOCATION:Christuskirche am Stadtgarten\, Dorothee- Sölle-Platz 11\, Köln\, 50672
ATTACH;FMTTYPE=image/png:https://rheinbogen.net/wp-content/uploads/2025/06/Bildschirmfoto-2025-06-17-um-11.38.21.png
END:VEVENT
BEGIN:VEVENT
DTSTART;TZID=Europe/Berlin:20250705T200000
DTEND;TZID=Europe/Berlin:20250705T223000
DTSTAMP:20260421T013311
CREATED:20250623T090049Z
LAST-MODIFIED:20250623T090049Z
UID:10001025-1751745600-1751754600@rheinbogen.net
SUMMARY:„Shalaläum“ – Sing & Strum auf dem Böötchen
DESCRIPTION:Liebe Sängerinnen und Sänger\, Ukulelistas\, Gitarreros\, Bassisten\, Quetschisten und alle anderen\, die nach Akkorden spielen können! \nBei der nächsten nächsten „Sing & Strum“-Veranstaltung am 05.07. feiern wir auf dem Böötchen ein kleines „Shalaläum“\, denn es wird schon zum 11. Mal gesungen und geschrammelt\, bis die Planken wanken!\nDie Songs werden per Beamer auf eine Leinwand projiziert\, sodass alle problemlos mitsingen und -spielen können. Für die Ukulelistas gibt es obendrein sogar noch die Griffbilder dazu.\nSchreibt bei Interesse gerne an „schrammelschorsch@online.de„\, dann erhaltet ihr nähere Infos. \n\nDieser Eintrag wird Ihnen zur Verfügung gestellt vom Kölner BilderBogen – eines der beliebtesten Stadtmagazine in Köln. Ihr Termin fehlt? Einfach kostenlos einreichen: www.bilderbogen.de/eventeintrag
URL:https://rheinbogen.net/event/shalalaeum-sing-strum-auf-dem-boeoetchen
LOCATION:MS Bootshaus Rodenkirchen\, Rodenkirchener Leinpfad\, Köln\, NRW\, 50996\, Deutschland
END:VEVENT
END:VCALENDAR