BEGIN:VCALENDAR
VERSION:2.0
PRODID:-//rheinbogen.net - ECPv6.15.17.1//NONSGML v1.0//EN
CALSCALE:GREGORIAN
METHOD:PUBLISH
X-ORIGINAL-URL:https://rheinbogen.net
X-WR-CALDESC:Veranstaltungen für rheinbogen.net
REFRESH-INTERVAL;VALUE=DURATION:PT1H
X-Robots-Tag:noindex
X-PUBLISHED-TTL:PT1H
BEGIN:VTIMEZONE
TZID:Europe/Berlin
BEGIN:DAYLIGHT
TZOFFSETFROM:+0100
TZOFFSETTO:+0200
TZNAME:CEST
DTSTART:20240331T010000
END:DAYLIGHT
BEGIN:STANDARD
TZOFFSETFROM:+0200
TZOFFSETTO:+0100
TZNAME:CET
DTSTART:20241027T010000
END:STANDARD
BEGIN:DAYLIGHT
TZOFFSETFROM:+0100
TZOFFSETTO:+0200
TZNAME:CEST
DTSTART:20250330T010000
END:DAYLIGHT
BEGIN:STANDARD
TZOFFSETFROM:+0200
TZOFFSETTO:+0100
TZNAME:CET
DTSTART:20251026T010000
END:STANDARD
BEGIN:DAYLIGHT
TZOFFSETFROM:+0100
TZOFFSETTO:+0200
TZNAME:CEST
DTSTART:20260329T010000
END:DAYLIGHT
BEGIN:STANDARD
TZOFFSETFROM:+0200
TZOFFSETTO:+0100
TZNAME:CET
DTSTART:20261025T010000
END:STANDARD
END:VTIMEZONE
BEGIN:VEVENT
DTSTART;TZID=Europe/Berlin:20250625T000000
DTEND;TZID=Europe/Berlin:20250815T235959
DTSTAMP:20260420T140407
CREATED:20250623T090044Z
LAST-MODIFIED:20250623T100044Z
UID:10001024-1750809600-1755302399@rheinbogen.net
SUMMARY:Kunstausstellung
DESCRIPTION:Zwei Perspektiven: In dieser Ausstellung treffen zwei künstlerische Handschriften aufeinander\, die auf individuelle Weise mit Material\, Struktur und Ausdruck arbeiten – und genau darin ihren Reiz entfalten. \nFabian Eickeler\, ausgebildeter Kommunikationsdesigner\, widmet sich in seinen Arbeiten der freien Kunst\, dem Objekt und der Fotografie. Seine Werke entstehen aus Acrylfarbe\,  Spachtelmasse und Gaffer Tape – kraftvolle\, strukturierte Kompositionen\, in denen Material und Idee eine Einheit bilden. \nDie künstlerische Laufbahn von Vera P. Frank verlief u.a. in der Hochschule der Künste Berlin und wurde durch Privat-Unterricht vertieft. Thema ihrer Ausstellung:\nPoesie der Vergänglichkeit\n– Strukturen –\nBaum – Stahl – Rost – Beton – Natur\nIhre Ausstellung zeigt Fotografien und collagenartig montierte Fotos auf gemalten Bilder\, die die unterschiedlichen Strukturen im Prozess der Vergänglichkeit in ihrer lebendigen bis morbiden Schönheit wiedergeben. \nMEET THE ARTISTS:\nPersönlich anzutreffen sind die Künstler*innen am 04.07. von 18:00 bis 20:00 Uhr sowie am 05.07. von 14:00 bis 18:00 Uhr – die beiden freuen sich auf inspirierende Gespräche! \nReguläre Öffnungszeiten sind jeden Mittwoch und Donnerstag (an Feiertagen geschlossen) von 10:00 Uhr bis 17:00 Uhr.\nWir freuen uns auf euch! \nBildquelle: aboutcommunication-events \n\nDieser Eintrag wird Ihnen zur Verfügung gestellt vom Kölner BilderBogen – eines der beliebtesten Stadtmagazine in Köln. Ihr Termin fehlt? Einfach kostenlos einreichen: www.bilderbogen.de/eventeintrag
URL:https://rheinbogen.net/event/kunstausstellung
LOCATION:ABOUT:EVENTS\, Barbarastraße 15-17\, Köln\, NRW\, 50996\, Deutschland
ATTACH;FMTTYPE=image/png:https://rheinbogen.net/wp-content/uploads/2025/06/Bildschirmfoto-2025-06-23-um-10.20.36-822x1024-1.png
END:VEVENT
BEGIN:VEVENT
DTSTART;TZID=Europe/Berlin:20250629T110000
DTEND;TZID=Europe/Berlin:20250629T160000
DTSTAMP:20260420T140407
CREATED:20250331T160055Z
LAST-MODIFIED:20250331T160055Z
UID:10000848-1751194800-1751212800@rheinbogen.net
SUMMARY:13. Weißer Garagenflohmarkt
DESCRIPTION:Am 29. Juni 2025 verwandelt sich der Stadtteil Köln-Weiß wieder in ein Paradies für Trödelfans und Schatzsucher: Der beliebte Garagenflohmarkt lädt von 11:00 bis 16:00 Uhr zum Stöbern\, Feilschen und Entdecken ein. Ob antike Gläser\, nostalgische Schallplatten\, kunstvolle Masken oder echte Raritäten – der Flohmarkt bietet wie jedes Jahr eine bunte Mischung aus Kuriosem\, Nützlichem und Liebgewonnenem. \nDas Besondere: Der Verkauf findet ausschließlich auf den Privatgrundstücken der teilnehmenden Anwohnern statt. Dadurch entsteht eine charmante Mischung aus Hausflohmarkt und Straßenfest – mit echtem Nachbarschaftsflair. \nOrganisiert wird das Event von der Dorfgemeinschaft Weiß von 1962 e.V.\, die auch dieses Jahr für einen reibungslosen Ablauf sorgt. Damit im Falle von kurzfristigen Änderungen eine schnelle Information möglich ist\, bittet die Dorfgemeinschaft um eine vorherige Anmeldung über die Website www.mein-weiss.de. \nTeilnehmer sollten beachten: Nur wer sich offiziell registriert\, kann im Notfall per E-Mail informiert werden. Wer mitmachen möchte\, sollte sich also unbedingt anmelden! \nEin Besuch lohnt sich – ob zum Kaufen\, Verkaufen oder einfach zum Genießen der lebendigen Atmosphäre. \nWeitere Infos und Anmeldung unter:\n🌐 www.mein-weiss.de\n📍 Veranstaltungsort: Köln-Weiß\, Privatgrundstücke der Anwohner\n📅 Datum: Sonntag\, 29.06.2025\n⏰ Uhrzeit: 11:00 – 16:00 Uhr \n\nDieser Eintrag wird Ihnen zur Verfügung gestellt vom Kölner BilderBogen – eines der beliebtesten Stadtmagazine in Köln. Ihr Termin fehlt? Einfach kostenlos einreichen: www.bilderbogen.de/eventeintrag
URL:https://rheinbogen.net/event/13-weisser-garagenflohmarkt
LOCATION:Köln-Weiss
ATTACH;FMTTYPE=image/png:https://rheinbogen.net/wp-content/uploads/2025/03/garagenflohmarkt-2025-723x1024-1.png
END:VEVENT
BEGIN:VEVENT
DTSTART;TZID=Europe/Berlin:20250629T140000
DTEND;TZID=Europe/Berlin:20250629T160000
DTSTAMP:20260420T140407
CREATED:20250626T080042Z
LAST-MODIFIED:20250626T080042Z
UID:10001030-1751205600-1751212800@rheinbogen.net
SUMMARY:Entpflichtungsgottesdienst in der Auferstehungskirche -Pfarrer Gerald Warnecke geht in den Ruhestand-
DESCRIPTION:Evangelische Kirchengemeinde Sürth-WeißAuferstehungskirche Sürth-Weiß\, Auferstehungskirchweg 7\, 50999 KölnEntpflichtungsgottesdienst in der AuferstehungskirchePfarrer Gerald Warnecke geht in den RuhestandPfarrer Gerald Warnecke von der Evangelischen Kirchengemeinde Sürth-Weiß wird in den Ruhestand verabschiedet in einem Gottesdienst am Sonntag\, 29. Juni\, 14 Uhr\, in der Auferstehungskirche Sürth-Weiß\, Auferstehungskirchweg 7. Die Entpflichtung erfolgt durch Pfarrer Bernhard Seiger\, Superintendent des Evangelischen Kirchenkreises Köln-Süd. Im Anschluss gibt es ein kleines Fest mit Empfang.www.kirche-suerth.de \n\nDieser Eintrag wird Ihnen zur Verfügung gestellt vom Kölner BilderBogen – eines der beliebtesten Stadtmagazine in Köln. Ihr Termin fehlt? Einfach kostenlos einreichen: www.bilderbogen.de/eventeintrag
URL:https://rheinbogen.net/event/entpflichtungsgottesdienst-in-der-auferstehungskirche-pfarrer-gerald-warnecke-geht-in-den-ruhestand
LOCATION:Auferstehungskirche Sürth\, Auferstehungskirchweg 7\, Köln\, NRW\, 50999\, Deutschland
END:VEVENT
BEGIN:VEVENT
DTSTART;TZID=Europe/Berlin:20250629T140000
DTEND;TZID=Europe/Berlin:20250629T200000
DTSTAMP:20260420T140408
CREATED:20250520T110058Z
LAST-MODIFIED:20250520T110058Z
UID:10000972-1751205600-1751227200@rheinbogen.net
SUMMARY:EARLY SUMMER – DESIGNFESTIVAL IN DER WACHSFABRIK
DESCRIPTION:Im chilligen G’ART’EN in der Wachsfabrik präsentieren sich zwischen bemalten Containern\, bunten Palettenmöbeln und Boho-Hängematten etwa 50 regionale Brands mit ihren HANDMADE GOODS. Hier findest du eine große Auswahl an hippen\, nachhaltigen und fairen Produkten. \nIn der DIY WORKSHOP & ART AREA hast du die Qual der Wahl: Upcycling\, Indigo Dyeing\, Wood Working oder Patches – hier erlernst du die verschiedensten Techniken! Am Ende gehst du mit deinem eigenen Upcycling Piece nach Hause. \nWer sich lieber bewegen möchte\, macht bei der YOGA INSIDE FLOW Session mit eigener Matte im Grünen mit oder danced zu lässigen DJ SOUNDS. \nFür den kleinen und großen Hunger gibt’s frisches STREETFOOD und coole Drinks und die Bühne bebt ab 18 Uhr mit fetziger LIVE MUSIC von regionalen Newcomer: innen. \nGönn dir ein Wochenende voller Inspiration\, DIY und besten Summer-Vibes! \n🗓 SA. 28. Juni ’25 I 16 – 22 UHR \n🗓 SO. 29. Juni ’25 I 14 – 20 UHR \n📍 Wachsfabrik I Industriestraße 170 I 50999 Köln\n🚉 Linie 16 I Haltestelle Michaelshoven \n🎟️ Tickets:  https://t.rausgegangen.de/tickets/shop/wachsfabrik \n       Eintritt (unter 12 Jahren frei) \nℹ️ www.manufact-event.de \n“ src=“cid:image009.png@01DBC975.2CE31DC0″ alt=“image009.png“ border=“0″ class=“Apple-web-attachment Singleton“ style=“width: 0.125in; height: 0.125in; opacity: 1;“>manufact.event \nMeldet euch gerne jederzeit\, falls ihr weitere Infos oder mehr Bildmaterial benötigt. \nBildquelle: Manufact Event \n\nDieser Eintrag wird Ihnen zur Verfügung gestellt vom Kölner BilderBogen – eines der beliebtesten Stadtmagazine in Köln. Ihr Termin fehlt? Einfach kostenlos einreichen: www.bilderbogen.de/eventeintrag
URL:https://rheinbogen.net/event/early-summer-designfestival-in-der-wachsfabrik-2
LOCATION:Wachsfabrik\, Industriestraße 170\, Köln\, 50999\, Deutschland
ATTACH;FMTTYPE=image/jpeg:https://rheinbogen.net/wp-content/uploads/2025/05/Early-Summer-Designfestival-1024x768-1.jpeg
ORGANIZER;CN="manufact.event":MAILTO:info@manufact-event.de
END:VEVENT
BEGIN:VEVENT
DTSTART;TZID=Europe/Berlin:20250629T140000
DTEND;TZID=Europe/Berlin:20250629T200000
DTSTAMP:20260420T140408
CREATED:20250522T080105Z
LAST-MODIFIED:20250522T080105Z
UID:10000978-1751205600-1751227200@rheinbogen.net
SUMMARY:EARLY SUMMER – DESIGNFESTIVAL IN DER WACHSFABRIK
DESCRIPTION:✨ EARLY SUMMER – DESIGNFESTIVAL IN DER WACHSFABRIK ✨ \nErlebe zwei Tage vollgepackt mit fairem Shopping\, Live-Musik\, DIY\, Nachhaltigkeit & guten Vibes! 💚 \nWas dich erwartet:\n🌿 Rund 50 regionale Brands mit ihren handmade Produkten\n🌿 Workshops & Art Area: Upcycling\, Indigo Dyeing\, Wood Working & Patches\, Vintage & Kleider Swap\n🌿 Yoga Inside Flow\n🌿 Tattoo & Henna Spot\n🌿 Streetfood & Drinks\n🌿 DJ-Sounds & Live-Musik \n🪩 LINE UP\nDJ EDYSON I DJ KURT LAMBO I\nLIVE ab 18 Uhr: ATA SAM I MONZI I VERA LEE I TILT \n📍Location: G’ART’EN WACHSFABRIK – zwischen bemalten Containern\, bunten Palettenmöbeln & Boho-Hängematten 🌈 \n🏭 Industriestraße 170 I 50999 Köln\n🚉 Linie 16 I Haltestelle Michaelshoven\n🚘 Parkplätze gegenüber | Industriestr. 161 + 163 \n🗓 SA. 28. Juni ‘25 I 16 – 22 UHR I NIGHTMARKET\n🗓 SO. 29. Juni ‘25 I 14 – 20 UHR I DESIGNMARKT \n🙌 Jetzt Early Bird Tickets sichern!\n🎟️ TICKETS (ab 4\,00€ | Eintritt unter 12 J. frei)\n👉 Ticketlink: https://t.rausgegangen.de/tickets/shop/wachsfabrik \nBildquelle: sieben8 events \n\nDieser Eintrag wird Ihnen zur Verfügung gestellt vom Kölner BilderBogen – eines der beliebtesten Stadtmagazine in Köln. Ihr Termin fehlt? Einfach kostenlos einreichen: www.bilderbogen.de/eventeintrag
URL:https://rheinbogen.net/event/early-summer-designfestival-in-der-wachsfabrik-3
LOCATION:Wachsfabrik\, Industriestraße 170\, Köln\, 50999\, Deutschland
ATTACH;FMTTYPE=image/png:https://rheinbogen.net/wp-content/uploads/2025/05/Bildschirmfoto-2025-05-22-um-09.47.57-1024x777-1.png
ORGANIZER;CN="manufact.event":MAILTO:info@manufact-event.de
END:VEVENT
END:VCALENDAR