BEGIN:VCALENDAR
VERSION:2.0
PRODID:-//rheinbogen.net - ECPv6.15.17.1//NONSGML v1.0//EN
CALSCALE:GREGORIAN
METHOD:PUBLISH
X-WR-CALNAME:rheinbogen.net
X-ORIGINAL-URL:https://rheinbogen.net
X-WR-CALDESC:Veranstaltungen für rheinbogen.net
REFRESH-INTERVAL;VALUE=DURATION:PT1H
X-Robots-Tag:noindex
X-PUBLISHED-TTL:PT1H
BEGIN:VTIMEZONE
TZID:Europe/Berlin
BEGIN:DAYLIGHT
TZOFFSETFROM:+0100
TZOFFSETTO:+0200
TZNAME:CEST
DTSTART:20240331T010000
END:DAYLIGHT
BEGIN:STANDARD
TZOFFSETFROM:+0200
TZOFFSETTO:+0100
TZNAME:CET
DTSTART:20241027T010000
END:STANDARD
BEGIN:DAYLIGHT
TZOFFSETFROM:+0100
TZOFFSETTO:+0200
TZNAME:CEST
DTSTART:20250330T010000
END:DAYLIGHT
BEGIN:STANDARD
TZOFFSETFROM:+0200
TZOFFSETTO:+0100
TZNAME:CET
DTSTART:20251026T010000
END:STANDARD
BEGIN:DAYLIGHT
TZOFFSETFROM:+0100
TZOFFSETTO:+0200
TZNAME:CEST
DTSTART:20260329T010000
END:DAYLIGHT
BEGIN:STANDARD
TZOFFSETFROM:+0200
TZOFFSETTO:+0100
TZNAME:CET
DTSTART:20261025T010000
END:STANDARD
END:VTIMEZONE
BEGIN:VEVENT
DTSTART;TZID=Europe/Berlin:20250625T000000
DTEND;TZID=Europe/Berlin:20250815T235959
DTSTAMP:20260422T123205
CREATED:20250623T090044Z
LAST-MODIFIED:20250623T100044Z
UID:10001024-1750809600-1755302399@rheinbogen.net
SUMMARY:Kunstausstellung
DESCRIPTION:Zwei Perspektiven: In dieser Ausstellung treffen zwei künstlerische Handschriften aufeinander\, die auf individuelle Weise mit Material\, Struktur und Ausdruck arbeiten – und genau darin ihren Reiz entfalten. \nFabian Eickeler\, ausgebildeter Kommunikationsdesigner\, widmet sich in seinen Arbeiten der freien Kunst\, dem Objekt und der Fotografie. Seine Werke entstehen aus Acrylfarbe\,  Spachtelmasse und Gaffer Tape – kraftvolle\, strukturierte Kompositionen\, in denen Material und Idee eine Einheit bilden. \nDie künstlerische Laufbahn von Vera P. Frank verlief u.a. in der Hochschule der Künste Berlin und wurde durch Privat-Unterricht vertieft. Thema ihrer Ausstellung:\nPoesie der Vergänglichkeit\n– Strukturen –\nBaum – Stahl – Rost – Beton – Natur\nIhre Ausstellung zeigt Fotografien und collagenartig montierte Fotos auf gemalten Bilder\, die die unterschiedlichen Strukturen im Prozess der Vergänglichkeit in ihrer lebendigen bis morbiden Schönheit wiedergeben. \nMEET THE ARTISTS:\nPersönlich anzutreffen sind die Künstler*innen am 04.07. von 18:00 bis 20:00 Uhr sowie am 05.07. von 14:00 bis 18:00 Uhr – die beiden freuen sich auf inspirierende Gespräche! \nReguläre Öffnungszeiten sind jeden Mittwoch und Donnerstag (an Feiertagen geschlossen) von 10:00 Uhr bis 17:00 Uhr.\nWir freuen uns auf euch! \nBildquelle: aboutcommunication-events \n\nDieser Eintrag wird Ihnen zur Verfügung gestellt vom Kölner BilderBogen – eines der beliebtesten Stadtmagazine in Köln. Ihr Termin fehlt? Einfach kostenlos einreichen: www.bilderbogen.de/eventeintrag
URL:https://rheinbogen.net/event/kunstausstellung
LOCATION:ABOUT:EVENTS\, Barbarastraße 15-17\, Köln\, NRW\, 50996\, Deutschland
ATTACH;FMTTYPE=image/png:https://rheinbogen.net/wp-content/uploads/2025/06/Bildschirmfoto-2025-06-23-um-10.20.36-822x1024-1.png
END:VEVENT
BEGIN:VEVENT
DTSTART;TZID=Europe/Berlin:20250628T100000
DTEND;TZID=Europe/Berlin:20250628T200000
DTSTAMP:20260422T123205
CREATED:20250428T090130Z
LAST-MODIFIED:20250428T090130Z
UID:10000928-1751104800-1751140800@rheinbogen.net
SUMMARY:43.  Groß-Canadier-Renner & Sommerfest Kanu Club Grün-Gelb Köln e.V.
DESCRIPTION:Dieser Eintrag wird Ihnen zur Verfügung gestellt vom Kölner BilderBogen – eines der beliebtesten Stadtmagazine in Köln. Ihr Termin fehlt? Einfach kostenlos einreichen: www.bilderbogen.de/eventeintrag
URL:https://rheinbogen.net/event/43-gross-canadier-renner-sommerfest-kanu-club-gruen-gelb-koeln-e-v
LOCATION:Kanu Club Grün-Gelb Köln e.V.\, Uferstr. 81\, Köln\, NRW\, 50996\, Deutschland
ATTACH;FMTTYPE=image/png:https://rheinbogen.net/wp-content/uploads/2025/04/Bildschirmfoto-2025-04-28-um-10.55.42-731x1024-1.png
END:VEVENT
BEGIN:VEVENT
DTSTART;TZID=Europe/Berlin:20250628T110000
DTEND;TZID=Europe/Berlin:20250628T180000
DTSTAMP:20260422T123205
CREATED:20250506T090104Z
LAST-MODIFIED:20250527T131018Z
UID:10000935-1751108400-1751133600@rheinbogen.net
SUMMARY:145 Jahre ehrenamtliches Feuerwehrwesen in Rodenkirchen
DESCRIPTION:Einmal die Welt der Feuerwehr hautnah erleben – diese Möglichkeit bietet sich am Samstag\, dem 28.06.2025 ab 11 Uhr rund um die Wache der Freiwilligen Feuerwehr in Köln-Rodenkirchen in der Schillingsrotter Straße. Vom eigenständigen Löschen von Feuer am Feuerlöschtrainer\, über ein Besuch in einem echten Feuerwehrauto wird alles gezeigt\, was die Feuerwehr macht und zu bieten hat. Besonders für Kinder hat sich die Einsatzabteilung der Löschgruppe einiges einfallen lassen. Für die wartenden Eltern und alle weiteren Interessierten ist für das leibliche Wohl zu überschaubaren Preisen gesorgt. Damit der Tag in Erinnerung bleibt\, liefern wir die entsprechenden Fotomotive für unvergessliche Erinnerungen direkt mit. \n\nDieser Eintrag wird Ihnen zur Verfügung gestellt vom Kölner BilderBogen – eines der beliebtesten Stadtmagazine in Köln. Ihr Termin fehlt? Einfach kostenlos einreichen: www.bilderbogen.de/eventeintrag
URL:https://rheinbogen.net/event/145-jahre-ehrenamtliches-feuerwehrwesen-in-rodenkirchen
LOCATION:Feuerwache Köln\, Schillingsrotter Str. 36\, Köln\, NRW\, 50996\, Germany
ATTACH;FMTTYPE=image/png:https://rheinbogen.net/wp-content/uploads/2025/05/neu-Plakat_mit_145_Ueberschrift_Schildanpassung_Veranstalter-683x1024-1.png
END:VEVENT
BEGIN:VEVENT
DTSTART;TZID=Europe/Berlin:20250628T110000
DTEND;TZID=Europe/Berlin:20250628T180000
DTSTAMP:20260422T123205
CREATED:20250528T110056Z
LAST-MODIFIED:20250528T110056Z
UID:10000985-1751108400-1751133600@rheinbogen.net
SUMMARY:Sommerfest am Tierheim Köln Zollstock
DESCRIPTION:Dieser Eintrag wird Ihnen zur Verfügung gestellt vom Kölner BilderBogen – eines der beliebtesten Stadtmagazine in Köln. Ihr Termin fehlt? Einfach kostenlos einreichen: www.bilderbogen.de/eventeintrag
URL:https://rheinbogen.net/event/sommerfest-am-tierheim-koeln-zollstock
LOCATION:Tierheim Zollstock\, Vorgebirgstrasse 76\, Köln\, NRW\, 50969\, Deutschland
ATTACH;FMTTYPE=image/png:https://rheinbogen.net/wp-content/uploads/2025/05/Bildschirmfoto-2025-05-28-um-12.45.24-710x1024-1.png
END:VEVENT
BEGIN:VEVENT
DTSTART;TZID=Europe/Berlin:20250628T120000
DTEND;TZID=Europe/Berlin:20250628T160000
DTSTAMP:20260422T123205
CREATED:20250520T100107Z
LAST-MODIFIED:20250520T100107Z
UID:10000969-1751112000-1751126400@rheinbogen.net
SUMMARY:Schulfest der GGS Godorfer Hauptstraße
DESCRIPTION:Am Samstag\, dem 28. Juni 2025\, findet unser diesjähriges Schulfest statt. Ab 12 Uhr laden wir zu Spiel\, Spaß und gemütlichem Beisammensein auf unserem Schulhof ein. \nNach einer Eröffnung durch das Tanzcorps der Kapelle Jonge haben die Eltern jeder Klasse Spieleständevorbereitet\, an denen die Kinder ihre Geschicklichkeit und Ausdauer beweisen können\, für Essen und Trinkenist ebenfalls gesorgt. Unser Fest endet um 16.00 Uhr. \n\nDieser Eintrag wird Ihnen zur Verfügung gestellt vom Kölner BilderBogen – eines der beliebtesten Stadtmagazine in Köln. Ihr Termin fehlt? Einfach kostenlos einreichen: www.bilderbogen.de/eventeintrag
URL:https://rheinbogen.net/event/schulfest-der-ggs-godorfer-hauptstrasse
LOCATION:GGS Godorfer Hauptstraße\, Godorfer Hauptstr. 73\, Köln\, 50997
END:VEVENT
BEGIN:VEVENT
DTSTART;TZID=Europe/Berlin:20250628T130000
DTEND;TZID=Europe/Berlin:20250628T180000
DTSTAMP:20260422T123205
CREATED:20250507T100103Z
LAST-MODIFIED:20250507T100103Z
UID:10000947-1751115600-1751133600@rheinbogen.net
SUMMARY:Pfarrfest in Heilige Drei Könige – Köln-Rondorf
DESCRIPTION:Wir feiern gemeinsam\, miteinander\, alle zusammen\, Pfarrfest in Heilige Drei Könige – Rondorf Hahnenstr. 21 \nWir möchten Sie und Ihre Familien herzlich zu unserem Pfarrfest am Samstag\, 28. Juni 2025 einladen. \nWir beginnen unser Fest mit einem Familiengottesdienst um 13 Uhr in Heilige Drei Könige. Danach buntes Treiben rund um den Kirchturm. Dort erwartet sie eine Vielzahl von Aktivitäten und kulinarischen Genüssen\, zu familienfreundlichen Preisen. Für unsere kleinen Gäste gibt es zahlreiche Spiele und Bastelaktionen.  Wir bieten ein abwechslungsreiches Programm\, u.a. Kinderschminken\, Kinderkarussell\, Klimamobil – Kolping Familie\, Büchertrödel\, 1. Welt Stand. Viele engagierte Gemeindemitglieder freuen sich auf Ihren Besuch\, ein frohes unbeschwertes Miteinander\, interessante Gespräche und bereichernde Begegnungen- auf ein schönes Fest mit Ihnen\, Ihren Freunden und Angehörigen aus nah und fern. \n\nDieser Eintrag wird Ihnen zur Verfügung gestellt vom Kölner BilderBogen – eines der beliebtesten Stadtmagazine in Köln. Ihr Termin fehlt? Einfach kostenlos einreichen: www.bilderbogen.de/eventeintrag
URL:https://rheinbogen.net/event/pfarrfest-in-heilige-drei-koenige-koeln-rondorf
LOCATION:Heilige Drei Könige Rondorf\, Hahnenstraße 21\, Köln\, NRW\, 50997\, Deutschland
END:VEVENT
BEGIN:VEVENT
DTSTART;TZID=Europe/Berlin:20250628T140000
DTEND;TZID=Europe/Berlin:20250628T153000
DTSTAMP:20260422T123205
CREATED:20250626T080039Z
LAST-MODIFIED:20250626T080039Z
UID:10001029-1751119200-1751124600@rheinbogen.net
SUMMARY:Parkführung durch Michaelshoven
DESCRIPTION:Diakonie MichaelshovenZentrale der Diakonie Michaelshoven\, Pfarrer-Te-Reh-Straße 1\, 50969 KölnParkführung durch MichaelshovenGeschichte\, Botanik und Begegnung im GrünenAm Samstag\, 28. Juni\, lädt die Diakonie Michaelshoven im Rahmen der Woche der Diakonie in Köln und Region von 14 bis 15.30 Uhr zu einer barrierefreien Führung durch den denkmalgeschützten Park von Michaelshoven mit Carlos Stemmerich ein. Dabei erfahren die Teilnehmenden Interessantes zur Botanik des Geländes sowie zur Geschichte der Erzengel-Michael-Kirche. Treffpunkt ist an der Zentrale der Diakonie Michaelshoven\, Pfarrer-Te-Reh-Straße 1. Eine Anmeldung ist nicht erforderlich. Die Teilnahme ist kostenlos.www.diakonie-koeln.de \n\nDieser Eintrag wird Ihnen zur Verfügung gestellt vom Kölner BilderBogen – eines der beliebtesten Stadtmagazine in Köln. Ihr Termin fehlt? Einfach kostenlos einreichen: www.bilderbogen.de/eventeintrag
URL:https://rheinbogen.net/event/parkfuehrung-durch-michaelshoven
LOCATION:Diakonie Michaelshoven\, Pfarrer-te-Reh-Straße\, Köln\, 50999
ORGANIZER;CN="Diakonie Michaelshoven":MAILTO:stiftung@diakonie-michaelshoven.de
END:VEVENT
BEGIN:VEVENT
DTSTART;TZID=Europe/Berlin:20250628T160000
DTEND;TZID=Europe/Berlin:20250628T220000
DTSTAMP:20260422T123205
CREATED:20250520T110054Z
LAST-MODIFIED:20250522T080103Z
UID:10000970-1751126400-1751148000@rheinbogen.net
SUMMARY:EARLY SUMMER – DESIGNFESTIVAL IN DER WACHSFABRIK
DESCRIPTION:✨ EARLY SUMMER – DESIGNFESTIVAL IN DER WACHSFABRIK ✨ \nErlebe zwei Tage vollgepackt mit fairem Shopping\, Live-Musik\, DIY\, Nachhaltigkeit & guten Vibes! 💚 \nWas dich erwartet:\n🌿 Rund 50 regionale Brands mit ihren handmade Produkten\n🌿 Workshops & Art Area: Upcycling\, Indigo Dyeing\, Wood Working & Patches\, Vintage & Kleider Swap\n🌿 Yoga Inside Flow\n🌿 Tattoo & Henna Spot\n🌿 Streetfood & Drinks\n🌿 DJ-Sounds & Live-Musik \n🪩 LINE UP\nDJ EDYSON I DJ KURT LAMBO I\nLIVE ab 18 Uhr: ATA SAM I MONZI I VERA LEE I TILT \n📍Location: G’ART’EN WACHSFABRIK – zwischen bemalten Containern\, bunten Palettenmöbeln & Boho-Hängematten 🌈 \n🏭 Industriestraße 170 I 50999 Köln\n🚉 Linie 16 I Haltestelle Michaelshoven\n🚘 Parkplätze gegenüber | Industriestr. 161 + 163 \n🗓 SA. 28. Juni ‘25 I 16 – 22 UHR I NIGHTMARKET\n🗓 SO. 29. Juni ‘25 I 14 – 20 UHR I DESIGNMARKT \n🙌 Jetzt Early Bird Tickets sichern!\n🎟️ TICKETS (ab 4\,00€ | Eintritt unter 12 J. frei)\n👉 Ticketlink: https://t.rausgegangen.de/tickets/shop/wachsfabrik \nBildquelle: sieben8 events \n\nDieser Eintrag wird Ihnen zur Verfügung gestellt vom Kölner BilderBogen – eines der beliebtesten Stadtmagazine in Köln. Ihr Termin fehlt? Einfach kostenlos einreichen: www.bilderbogen.de/eventeintrag
URL:https://rheinbogen.net/event/early-summer-designfestival-in-der-wachsfabrik
LOCATION:Wachsfabrik\, Industriestraße 170\, Köln\, 50999\, Deutschland
ATTACH;FMTTYPE=image/png:https://rheinbogen.net/wp-content/uploads/2025/05/Bildschirmfoto-2025-05-22-um-09.47.57-1024x777-1.png
ORGANIZER;CN="manufact.event":MAILTO:info@manufact-event.de
END:VEVENT
BEGIN:VEVENT
DTSTART;TZID=Europe/Berlin:20250628T180000
DTEND;TZID=Europe/Berlin:20250628T210000
DTSTAMP:20260422T123205
CREATED:20250520T110057Z
LAST-MODIFIED:20250520T130053Z
UID:10000971-1751133600-1751144400@rheinbogen.net
SUMMARY:Tango de Cologne-Rheinisches Temperament trifft Argentinisches Corazon!
DESCRIPTION:Rheinisches Temperament trifft Argentinisches Corazon am Samstag\, 28.Juni 2025 um 18 Uhr bei einem Konzert im Saal neben der Erlöserkirche\, Sürther Str. 34. „Tango de Cologne“ hat sich mittlerweile zu einem der gefragtesten Tango-Ensembles in Deutschland entwickelt. Das liegt nicht zuletzt an der ganz eigenen Note\, die das Ensemble in den Tango einbringt. Hier erklingen nicht nur argentinische Tangos in höchster Virtuosität\, sondern auch der rheinische Tango\, der von diesem Ensemble kreiert wurde. Der Tango in seiner konzertanten Form wird ebenso brilliant serviert wie auch die tanzbaren\, klassischen Tangos. Spontane Tanzeinlagen der Zuschauer werden gerne gesehen – eine Freude für das Publikum und auch für die Künstler. \nHenrik Albrecht hat als Reisender zwischen Buenos Aires und Köln beide Tango-Kulturen in seinen rheinischen Tangobearbeitungen vereint. Den Pianisten Stefan Thomas verschlägt es in seinen Tangoarrangements an andere Teile des Rheins zum Beispiel nach St. Goarshausen. Wolfgang Richter\, vormals Mitglied des Gürzenichorchesters bereichert das Ensemble um den edlen Klang der Kölner Orchester Kultur. Seit seinem letzten Konzert in der Erlöserkirche-da noch als Ensemble „Tango para Ti-hat die Formation virtuosen Zuwachs bekommen\, in Form des neuen Bassisten Markus Gantenberg\, der vielen Rodenkirchenern auch aus seiner anderen Profession bekannt ist. \nDer Eintritt zu diesem Konzert ist frei. Spenden für die MUSIK IN DER ERLÖSERKIRCHE sind willkommen. \n\nDieser Eintrag wird Ihnen zur Verfügung gestellt vom Kölner BilderBogen – eines der beliebtesten Stadtmagazine in Köln. Ihr Termin fehlt? Einfach kostenlos einreichen: www.bilderbogen.de/eventeintrag
URL:https://rheinbogen.net/event/tango-de-cologne-rheinisches-temperament-trifft-argentinisches-corazon
LOCATION:Ev. Kirche Rodenkirchen Gemeindesaal\, Sürther Straße 34\, Köln\, NRW\, 50996\, Deutschland
ATTACH;FMTTYPE=image/png:https://rheinbogen.net/wp-content/uploads/2025/05/Bildschirmfoto-2025-05-20-um-11.18.19.png
END:VEVENT
BEGIN:VEVENT
DTSTART;TZID=Europe/Berlin:20250628T200000
DTEND;TZID=Europe/Berlin:20250628T230000
DTSTAMP:20260422T123205
CREATED:20250602T110054Z
LAST-MODIFIED:20250602T110054Z
UID:10000989-1751140800-1751151600@rheinbogen.net
SUMMARY:Rodenkirchener KammerChor und Orchester  in der Kölner Philharmonie: „Die Schöpfung“ von Joseph Haydn
DESCRIPTION:Rodenkirchener KammerChor und Orchester \nDas Oratorium „Die Schöpfung“ gehört zu den eindrucksvollsten Werken der Musikgeschichte.1998 in Wien uraufgeführt\, zeigt es auf faszinierende Weise\, wie Haydn die biblische Schöpfungsgeschichte in Klänge übersetzt hat.Inspiriert wurde er aus der Schöpfungserzählung aus dem „Buch Genesis“ sowie John Miltons „Paradise lost“ . \nDas Werk ist nicht nur ein künstlerisches Meisterwerk\, sondern auch eine Feier der Schönheit und Ordnung der Natur. \nLive gehört entfaltet Haydns Werk seine ganze Kraft. Der Wechsel zwischen intimen Soli\,majestätischen Chören und dem vollen Klag des Orchseters macht dieses Konzert zu einem unvergesslichen Erlebnis. \nBildquelle: RKCO\, Jürgen Zaverl \n\nDieser Eintrag wird Ihnen zur Verfügung gestellt vom Kölner BilderBogen – eines der beliebtesten Stadtmagazine in Köln. Ihr Termin fehlt? Einfach kostenlos einreichen: www.bilderbogen.de/eventeintrag
URL:https://rheinbogen.net/event/rodenkirchener-kammerchor-und-orchester-in-der-koelner-philharmonie-die-schoepfung-von-joseph-haydn
LOCATION:Kölner Philharmonie\, Bischofsgartenstraße 1\, Köln\, NRW\, 50667\, Deutschland
ATTACH;FMTTYPE=image/png:https://rheinbogen.net/wp-content/uploads/2025/06/Bildschirmfoto-2025-06-02-um-12.34.55-1024x772-1.png
END:VEVENT
END:VCALENDAR