BEGIN:VCALENDAR
VERSION:2.0
PRODID:-//rheinbogen.net - ECPv6.15.17.1//NONSGML v1.0//EN
CALSCALE:GREGORIAN
METHOD:PUBLISH
X-ORIGINAL-URL:https://rheinbogen.net
X-WR-CALDESC:Veranstaltungen für rheinbogen.net
REFRESH-INTERVAL;VALUE=DURATION:PT1H
X-Robots-Tag:noindex
X-PUBLISHED-TTL:PT1H
BEGIN:VTIMEZONE
TZID:Europe/Berlin
BEGIN:DAYLIGHT
TZOFFSETFROM:+0100
TZOFFSETTO:+0200
TZNAME:CEST
DTSTART:20240331T010000
END:DAYLIGHT
BEGIN:STANDARD
TZOFFSETFROM:+0200
TZOFFSETTO:+0100
TZNAME:CET
DTSTART:20241027T010000
END:STANDARD
BEGIN:DAYLIGHT
TZOFFSETFROM:+0100
TZOFFSETTO:+0200
TZNAME:CEST
DTSTART:20250330T010000
END:DAYLIGHT
BEGIN:STANDARD
TZOFFSETFROM:+0200
TZOFFSETTO:+0100
TZNAME:CET
DTSTART:20251026T010000
END:STANDARD
BEGIN:DAYLIGHT
TZOFFSETFROM:+0100
TZOFFSETTO:+0200
TZNAME:CEST
DTSTART:20260329T010000
END:DAYLIGHT
BEGIN:STANDARD
TZOFFSETFROM:+0200
TZOFFSETTO:+0100
TZNAME:CET
DTSTART:20261025T010000
END:STANDARD
END:VTIMEZONE
BEGIN:VEVENT
DTSTART;TZID=Europe/Berlin:20250616T143000
DTEND;TZID=Europe/Berlin:20250616T160000
DTSTAMP:20260420T181730
CREATED:20250414T120102Z
LAST-MODIFIED:20250414T120102Z
UID:10000901-1750084200-1750089600@rheinbogen.net
SUMMARY:Café – Villa AWO
DESCRIPTION:Wir laden Sie herzlich zu einem gemütlichen Nachmittag in die Villa AWO ein.\nEs gibt selbstgebackenen Kuchen und Kaffee. \n\nDieser Eintrag wird Ihnen zur Verfügung gestellt vom Kölner BilderBogen – eines der beliebtesten Stadtmagazine in Köln. Ihr Termin fehlt? Einfach kostenlos einreichen: www.bilderbogen.de/eventeintrag
URL:https://rheinbogen.net/event/cafe-villa-awo-7
LOCATION:Villa AWO\, Walther-Rathenau-Str. 9\, Köln\, NRW\, 50996\, Deutschland
ATTACH;FMTTYPE=image/png:https://rheinbogen.net/wp-content/uploads/2025/04/Bildschirmfoto-2025-04-14-um-10.04.47.png
ORGANIZER;CN="AWO":MAILTO:gemeinsamsindwirstaerker@awo-koeln.de
END:VEVENT
BEGIN:VEVENT
DTSTART;TZID=Europe/Berlin:20250616T190000
DTEND;TZID=Europe/Berlin:20250616T203000
DTSTAMP:20260420T181730
CREATED:20250520T100105Z
LAST-MODIFIED:20250520T100105Z
UID:10000968-1750100400-1750105800@rheinbogen.net
SUMMARY:Lesung: HAIRY QUEEN – Warum Körperbehaarung politisch ist…
DESCRIPTION:Lesung & Gespräch: Franziska Setare Koohestani ist freie Autorin und Journalistin\, die regelmäßig für SZ Jetzt\, das junge Online-Magazin der Süddeutschen Zeitung\, schreibt. In ihrem Buch „Hairy Queen“\, das im Frühjahr 2024 beim Ullstein Verlag erschienen ist\, taucht sie mit uns ein in die faszinierende und nicht minder problematische Welt der Schönheitsnormen\, der Pop- und Subkultur sowie der Körper- und Gesellschaftspolitik.\nAußerdem diskutiert sie verschiedene Diskriminierungsformen und ihre Arbeit im Kontext von Anti-Rassismus und Feminismus. \nFranziska teilt ihre persönlichen Erfahrungen und untersucht mit einem interdisziplinären Blick auf medizinische\, kulturhistorische und soziologische Quellen\, was Körperbehaarung wirklich mit Biologie\, gesellschaftlichen Normen\, Rassismus\, Kapitalismus und Geschlecht zu tun hat. Sie gibt uns auch einen Ausblick darauf\, wie ein zukunftsweisender Umgang mit Körperbehaarung aussehen könnte. \nBildquelle: © N. Schweiß \nTickets via E-Mail oder vor Ort: kleinepausepodcast@gmail.com \n\nDieser Eintrag wird Ihnen zur Verfügung gestellt vom Kölner BilderBogen – eines der beliebtesten Stadtmagazine in Köln. Ihr Termin fehlt? Einfach kostenlos einreichen: www.bilderbogen.de/eventeintrag
URL:https://rheinbogen.net/event/lesung-hairy-queen-warum-koerperbehaarung-politisch-ist
LOCATION:Kaiserin-Augusta-Schule (Städt. Gymnasium Köln)\, Georgsplatz 10\, Köln\, NRW\, 50676\, Deutschland
ATTACH;FMTTYPE=image/png:https://rheinbogen.net/wp-content/uploads/2025/05/Bildschirmfoto-2025-05-20-um-10.14.18.png
END:VEVENT
BEGIN:VEVENT
DTSTART;TZID=Europe/Berlin:20250616T190000
DTEND;TZID=Europe/Berlin:20250616T220000
DTSTAMP:20260420T181730
CREATED:20250324T090050Z
LAST-MODIFIED:20250324T090050Z
UID:10000825-1750100400-1750111200@rheinbogen.net
SUMMARY:Bla Bla & Dei Dei Es gibt keine normalen Menschen — es gibt nur die Menschen
DESCRIPTION:Das Konzert auch im Gedenken an Frank Hocker wurde noch nie in Köln gespielt!\nVorgestern die Kasse aufgemacht und schon weit über die Hälfte der Karten gegen Spenden an den Vringstreff e.V. vergeben können!\nMontag\, den 16.Juni 2025 von 19 – 22 Uhr. Einlaß 18:30 Uhr.\n\nBenefitkonzert zu Gunsten des Vringstreff e.V. mit Gerd „Jächt“ Köster im Pfarrsaal von St.Severin.\nKarten gibt es aktuell bei mir über Facebook\, oder auf „Zuruf“ über meine Mailadresse\, schreibt mir und dann macht Eure Spende und ich setze Euch auf die Gäste-Spendeliste:-)\n\nSpendenhöhe für die Karte(n) nach Eurem Gusto\, alles zwischen 25 – 99 Euro(uns mehr;-) )  ist willkommen und hilft dem Vringstreff sein wichtige Arbeit zu leisten.\nwww.vringstreff.de\n\n\nBla Bla & Dei Dei\nEs gibt keine normalen Menschen —\nes gibt nur die Menschen.\nBlues\, Balladen und Krätzjen von Köster/Hocker und\n„The Piano has been drinking“\,\ndazu einige kölsche Gedichte\, Geschichten und Anekdoten\nmit Gerd Köster\, Stimme\nPete Haaser Keyboards\, Akkordeon\nPascal Pohlscheidt Gitarren\, Körper-Atem-Stimme\n\n\nDieser Eintrag wird Ihnen zur Verfügung gestellt vom Kölner BilderBogen – eines der beliebtesten Stadtmagazine in Köln. Ihr Termin fehlt? Einfach kostenlos einreichen: www.bilderbogen.de/eventeintrag
URL:https://rheinbogen.net/event/bla-bla-dei-dei-es-gibt-keine-normalen-menschen-es-gibt-nur-die-menschen
LOCATION:St. Severin\, Im Ferkulum 29\, Köln\, 50678
ATTACH;FMTTYPE=image/png:https://rheinbogen.net/wp-content/uploads/2025/03/Bildschirmfoto-2025-03-24-um-09.48.55.png
END:VEVENT
END:VCALENDAR