BEGIN:VCALENDAR
VERSION:2.0
PRODID:-//rheinbogen.net - ECPv6.15.17.1//NONSGML v1.0//EN
CALSCALE:GREGORIAN
METHOD:PUBLISH
X-WR-CALNAME:rheinbogen.net
X-ORIGINAL-URL:https://rheinbogen.net
X-WR-CALDESC:Veranstaltungen für rheinbogen.net
REFRESH-INTERVAL;VALUE=DURATION:PT1H
X-Robots-Tag:noindex
X-PUBLISHED-TTL:PT1H
BEGIN:VTIMEZONE
TZID:Europe/Berlin
BEGIN:DAYLIGHT
TZOFFSETFROM:+0100
TZOFFSETTO:+0200
TZNAME:CEST
DTSTART:20240331T010000
END:DAYLIGHT
BEGIN:STANDARD
TZOFFSETFROM:+0200
TZOFFSETTO:+0100
TZNAME:CET
DTSTART:20241027T010000
END:STANDARD
BEGIN:DAYLIGHT
TZOFFSETFROM:+0100
TZOFFSETTO:+0200
TZNAME:CEST
DTSTART:20250330T010000
END:DAYLIGHT
BEGIN:STANDARD
TZOFFSETFROM:+0200
TZOFFSETTO:+0100
TZNAME:CET
DTSTART:20251026T010000
END:STANDARD
BEGIN:DAYLIGHT
TZOFFSETFROM:+0100
TZOFFSETTO:+0200
TZNAME:CEST
DTSTART:20260329T010000
END:DAYLIGHT
BEGIN:STANDARD
TZOFFSETFROM:+0200
TZOFFSETTO:+0100
TZNAME:CET
DTSTART:20261025T010000
END:STANDARD
END:VTIMEZONE
BEGIN:VEVENT
DTSTART;TZID=Europe/Berlin:20250608T133000
DTEND;TZID=Europe/Berlin:20250608T230000
DTSTAMP:20260420T164322
CREATED:20241217T110046Z
LAST-MODIFIED:20241217T110046Z
UID:10000434-1749389400-1749423600@rheinbogen.net
SUMMARY:Sommerfest KG “Der Reiter” von 1960 e.V.
DESCRIPTION:Dieser Eintrag wird Ihnen zur Verfügung gestellt vom Kölner BilderBogen – eines der beliebtesten Stadtmagazine in Köln. Ihr Termin fehlt? Einfach kostenlos einreichen: www.bilderbogen.de/eventeintrag
URL:https://rheinbogen.net/event/sommerfest-kg-der-reiter-von-1960-e-v
LOCATION:Anne-Frank-Schule\, Adlerstraße 13\, Köln\, NRW\, 50997\, Deutschland
ATTACH;FMTTYPE=image/png:https://rheinbogen.net/wp-content/uploads/2024/12/image-1-727x1024-1.png
ORGANIZER;CN="KG &#8220%3BDer Reiter&#8221%3B 1960 e.V.":MAILTO:info@kgderreiter.koeln
END:VEVENT
END:VCALENDAR