BEGIN:VCALENDAR
VERSION:2.0
PRODID:-//rheinbogen.net - ECPv6.15.17.1//NONSGML v1.0//EN
CALSCALE:GREGORIAN
METHOD:PUBLISH
X-WR-CALNAME:rheinbogen.net
X-ORIGINAL-URL:https://rheinbogen.net
X-WR-CALDESC:Veranstaltungen für rheinbogen.net
REFRESH-INTERVAL;VALUE=DURATION:PT1H
X-Robots-Tag:noindex
X-PUBLISHED-TTL:PT1H
BEGIN:VTIMEZONE
TZID:Europe/Berlin
BEGIN:DAYLIGHT
TZOFFSETFROM:+0100
TZOFFSETTO:+0200
TZNAME:CEST
DTSTART:20240331T010000
END:DAYLIGHT
BEGIN:STANDARD
TZOFFSETFROM:+0200
TZOFFSETTO:+0100
TZNAME:CET
DTSTART:20241027T010000
END:STANDARD
BEGIN:DAYLIGHT
TZOFFSETFROM:+0100
TZOFFSETTO:+0200
TZNAME:CEST
DTSTART:20250330T010000
END:DAYLIGHT
BEGIN:STANDARD
TZOFFSETFROM:+0200
TZOFFSETTO:+0100
TZNAME:CET
DTSTART:20251026T010000
END:STANDARD
BEGIN:DAYLIGHT
TZOFFSETFROM:+0100
TZOFFSETTO:+0200
TZNAME:CEST
DTSTART:20260329T010000
END:DAYLIGHT
BEGIN:STANDARD
TZOFFSETFROM:+0200
TZOFFSETTO:+0100
TZNAME:CET
DTSTART:20261025T010000
END:STANDARD
END:VTIMEZONE
BEGIN:VEVENT
DTSTART;TZID=Europe/Berlin:20250529T000000
DTEND;TZID=Europe/Berlin:20250601T235959
DTSTAMP:20260422T110056
CREATED:20250114T120052Z
LAST-MODIFIED:20250519T150052Z
UID:10000463-1748476800-1748822399@rheinbogen.net
SUMMARY:Wine-Time  – 9. Rodenkirchener Weintage
DESCRIPTION:Dieser Eintrag wird Ihnen zur Verfügung gestellt vom Kölner BilderBogen – eines der beliebtesten Stadtmagazine in Köln. Ihr Termin fehlt? Einfach kostenlos einreichen: www.bilderbogen.de/eventeintrag
URL:https://rheinbogen.net/event/winetime-9-rodenkirchener-weintage
LOCATION:Matenusplatz Rodenkirchen
ATTACH;FMTTYPE=image/png:https://rheinbogen.net/wp-content/uploads/2025/05/wintime_2025_Plakat_A3_FINAL-1-725x1024-1.png
ORGANIZER;CN="Treffpunkt Rodenkirchen":MAILTO:info@treffpunkt-rodenkirchen.de
END:VEVENT
BEGIN:VEVENT
DTSTART;VALUE=DATE:20250531
DTEND;VALUE=DATE:20250602
DTSTAMP:20260422T110057
CREATED:20250506T110102Z
LAST-MODIFIED:20250506T110102Z
UID:10000943-1748649600-1748822399@rheinbogen.net
SUMMARY:Zollstocker Frühling
DESCRIPTION:Am 31. Mai und 1. Juni 2025 können Stadtteilbewohner und -besucher am Zollstocker Gottesweg gemeinsam feiern und echtes Veedelsflair spüren. Zollstocker Einzelhändler und Gewerbetreibende präsentieren sich dabei ebenso wie externe Händler. \nBildquelle: Frank Metzemacher/Lichtreim \n\nDieser Eintrag wird Ihnen zur Verfügung gestellt vom Kölner BilderBogen – eines der beliebtesten Stadtmagazine in Köln. Ihr Termin fehlt? Einfach kostenlos einreichen: www.bilderbogen.de/eventeintrag
URL:https://rheinbogen.net/event/zollstocker-fruehling
LOCATION:Gottesweg in Zollstock
ATTACH;FMTTYPE=image/png:https://rheinbogen.net/wp-content/uploads/2025/05/Bildschirmfoto-2025-05-06-um-12.24.16-1024x607-1.png
END:VEVENT
BEGIN:VEVENT
DTSTART;TZID=Europe/Berlin:20250601T080000
DTEND;TZID=Europe/Berlin:20250601T170000
DTSTAMP:20260422T110057
CREATED:20250425T080055Z
LAST-MODIFIED:20250425T080055Z
UID:10000923-1748764800-1748797200@rheinbogen.net
SUMMARY:Benefizkonzert mit anschließendem Empfang im Kreuzgang
DESCRIPTION:Die Johanniter-Hilfsgemeinschaft Köln lädt Sie zu einem kostenlosen Klavierkonzert ein „Eine musikalische Reise durch die Welt“ mit dem Pianisten Nima Farahmand Bafi \n– Klassische Werke\, eigene Arrangements und Kompositionen auf dem Flügel – \n\nDieser Eintrag wird Ihnen zur Verfügung gestellt vom Kölner BilderBogen – eines der beliebtesten Stadtmagazine in Köln. Ihr Termin fehlt? Einfach kostenlos einreichen: www.bilderbogen.de/eventeintrag
URL:https://rheinbogen.net/event/benefizkonzert-mit-anschliessendem-empfang-im-kreuzgang
LOCATION:Erzengel-Michael-Kirche – Michaelshoven\, Pfarrer-Te-Reh-Straße 7\, Köln\, NRW\, 50999\, Deutschland
END:VEVENT
BEGIN:VEVENT
DTSTART;TZID=Europe/Berlin:20250601T140000
DTEND;TZID=Europe/Berlin:20250601T180000
DTSTAMP:20260422T110057
CREATED:20250520T100056Z
LAST-MODIFIED:20250520T100056Z
UID:10000966-1748786400-1748800800@rheinbogen.net
SUMMARY:Kunstsonntag in der Wachsfabrik von 14 bis 18 Uhr mit Führung ab 13 Uhr
DESCRIPTION:Ddie Künstler*innen des Kunstzentrum Wachsfabrik laden herzlich am 01. Juni zwischen 14 und 18 Uhr in ihre geöffneten Ateliers ein und freuen sich auf die Besucher und persönliche Begegnungen. Der Eintritt ist frei. Das Café ist geöffnet. \nAb 13 Uhr bietet die Kunsthistorikerin Hanna Styrie bis ca. 14:30 Uhr eine Führung durch die Ateliers auf Spendenbasis an. Treffpunkt ist am Rolltor vorne. \nAdresse: Industriestraße 170\, 50999 Köln \nWeitere Informationen unter www.kunstzentrum-wachsfabrik.koeln. \n  \n8 geöffnete Ateliers: \n  \nAtelier 05 – Sebastian Probst – Art Projekt – Bildhauerei \nAtelier 10 – Jeannette de Payrebrune – Malerei & Skulptur \nAtelier 12 – Manfred Wachendorf\, Jovita Majewski\, Pascal Behrendt\, Inge Lager\, Mia Forsch – Skulptur & Malerei \nAtelier 13 – Gertraud Lütkefels – Schmuck & Objekte \nAtelier 14 – miegL + Gastkünstler*in Student*in – Malerei & Bildhauerei \nAtelier 20 – Joao de Almeida – Objekte \nAtelier 21 – Martha Potempa & Thomas Brück + Gastkünstler*in \nAtelier 25 – Hans Jürgen Greve – BOKX Bücherschränke + Gaskünstler*in Student*in \n  \nWir würden uns auch über Ihren Besuch freuen!\n\nDieser Eintrag wird Ihnen zur Verfügung gestellt vom Kölner BilderBogen – eines der beliebtesten Stadtmagazine in Köln. Ihr Termin fehlt? Einfach kostenlos einreichen: www.bilderbogen.de/eventeintrag
URL:https://rheinbogen.net/event/kunstsonntag-in-der-wachsfabrik-von-14-bis-18-uhr-mit-fuehrung-ab-13-uhr-2
LOCATION:Wachsfabrik\, Industriestraße 170\, Köln\, 50999\, Deutschland
ATTACH;FMTTYPE=image/png:https://rheinbogen.net/wp-content/uploads/2025/05/Bildschirmfoto-2025-05-20-um-10.46.08-509x1024-1.png
END:VEVENT
BEGIN:VEVENT
DTSTART;TZID=Europe/Berlin:20250601T150000
DTEND;TZID=Europe/Berlin:20250601T200000
DTSTAMP:20260422T110057
CREATED:20250522T080056Z
LAST-MODIFIED:20250531T200049Z
UID:10000977-1748790000-1748808000@rheinbogen.net
SUMMARY:„SUNDAY JAZZ“ – MATINÈE im QUATTRO (mit dem Terrence Ngassa Quartett)
DESCRIPTION:Sunday Jazz im Quattro Cultura – Jazz für Rodenkirchen \nJazz for the people\, Jazz für Rodenkirchen –\nunter diesem Motto startet Stella Tonon in ihrem Quattro Cultura am Rodenkirchener Bahnhof\, eine neue Veranstaltungsreihe wozu alle herzlich eingeladen sind:\nSunday Jazz\nEinmal im Monat verwandelt sich das einzigartige Ambiente des QUATTRO in der ehemaligen Papierfabrik in einen Treffpunkt für Musikliebhaber\, Nachbarn und all jene\, die einen besonderen Sonntagnachmittag erleben möchten.\nSunday Jazz ist ein musikalisches und soziales Angebot in einer privaten Location\, eine Sonntags Matineè für die Seele.\nOhne Eintritt\, ohne Anmeldung – einfach vorbeikommen\, zuhören\, sich begegnen.\nDie Veranstaltungsreihe will einen Ort schaffen\, an dem Gemeinschaft gegen das Alleinsein steht – für Jung und Alt gleichermaßen.\nIn dieser besonderen Atmosphäre\, die das „Quattro“ mit seiner einzigartigen Architektur und wohnlichen Wärme bietet\, präsentieren wir jeden Monat Top-Acts der Jazz-Szene. Bei gutem Wetter ist die Terrasse geöffnet – für noch mehr Leichtigkeit\, Luft und Leben. \nDer Auftakt dieser Reihe findet am Sonntag\, dem 01.06. ab 15 Uhr statt.\nAls erster Act wird TERRENCE NGASSA das Publikum mit seinem herausragenden Jazz-Quartett begeistern und die Sunday Jazz-Reihe gebührend eröffnen. \nHerzlich willkommen – ich freue mich auf einen musikalischen Sonntag mit euch! \n\nDieser Eintrag wird Ihnen zur Verfügung gestellt vom Kölner BilderBogen – eines der beliebtesten Stadtmagazine in Köln. Ihr Termin fehlt? Einfach kostenlos einreichen: www.bilderbogen.de/eventeintrag
URL:https://rheinbogen.net/event/sunday-jazz-matinee-im-quattro-mit-dem-terrence-ngassa-quartett
LOCATION:QUATTRO Cultura (Kulturraum/Mietlocation)\, Bahnstr. 4\, Köln\, 50996
ATTACH;FMTTYPE=image/png:https://rheinbogen.net/wp-content/uploads/2025/05/Bildschirmfoto-2025-05-22-um-09.54.24-e1748711717197.png
END:VEVENT
BEGIN:VEVENT
DTSTART;TZID=Europe/Berlin:20250601T160000
DTEND;TZID=Europe/Berlin:20250601T183000
DTSTAMP:20260422T110057
CREATED:20250430T090055Z
LAST-MODIFIED:20250508T120100Z
UID:10000931-1748793600-1748802600@rheinbogen.net
SUMMARY:Benefizkonzert “ Eine musikalische Reise durch die Welt“
DESCRIPTION:Die Johanniter-Hilfsgemeinschaft Köln lädt Sie zu einem kostenlosen Klavierkonzert ein\n„Eine musikalische Reise durch die Welt“\nmit dem Pianisten Nima Farahmand Bafi\n– Klassische Werke\, eigene Arrangements und Kompositionen auf dem Flügel – \n\nDieser Eintrag wird Ihnen zur Verfügung gestellt vom Kölner BilderBogen – eines der beliebtesten Stadtmagazine in Köln. Ihr Termin fehlt? Einfach kostenlos einreichen: www.bilderbogen.de/eventeintrag
URL:https://rheinbogen.net/event/benefizkonzert-eine-musikalische-reise-durch-die-welt
LOCATION:Erzengel-Michael-Kirche – Michaelshoven\, Pfarrer-Te-Reh-Straße 7\, Köln\, NRW\, 50999\, Deutschland
ATTACH;FMTTYPE=image/png:https://rheinbogen.net/wp-content/uploads/2025/04/Bildschirmfoto-2025-04-30-um-10.28.57-433x1024-1.png
END:VEVENT
BEGIN:VEVENT
DTSTART;TZID=Europe/Berlin:20250601T160000
DTEND;TZID=Europe/Berlin:20250601T183000
DTSTAMP:20260422T110057
CREATED:20250516T130051Z
LAST-MODIFIED:20250516T130051Z
UID:10000957-1748793600-1748802600@rheinbogen.net
SUMMARY:Benefizkonzert in Raderthal für Erdbebenopfer
DESCRIPTION:Unter dem Titel „From Darkness to Light“ findet am Sonntag\, 1. Juni\, um 16 Uhr einem Benefizkonzert für die Erdbebenopfer von Myanmar in der Philippuskirche in Raderthal statt. Ende März hat ein starkes Erdbeben schwere Schäden in Myanmar und im Nachbarland Thailand angerichtet und zahlreiche Verletzte und Tote gefordert. \nIm Konzert werden Stücke von Purcell\, Händel\, Schubert\, Rossini\, Chopin\, Strauss und verschiedenen koreanischen Komponisten präsentiert. Der renommierte koreanische Opernsänger Samuel Youn wird singen\, der Bassbariton ist seit 2000 Mitglied im Ensemble der Oper Köln und Preisträger zahlreicher internationaler Gesangswettbewerbe. \nDas Konzert wird präsentiert von dem Hanbit Chor&Kammerorchester. \nDer Eintritt ist frei\, um Spenden wird gebeten. (sb) \n\nDieser Eintrag wird Ihnen zur Verfügung gestellt vom Kölner BilderBogen – eines der beliebtesten Stadtmagazine in Köln. Ihr Termin fehlt? Einfach kostenlos einreichen: www.bilderbogen.de/eventeintrag
URL:https://rheinbogen.net/event/benefizkonzert-in-raderthal-fuer-erdbebenopfer
LOCATION:Philippuskirche\, Albert-Schweitzer-Straße 5\, Köln\, NRW\, 50968\, Deutschland
END:VEVENT
END:VCALENDAR