BEGIN:VCALENDAR
VERSION:2.0
PRODID:-//rheinbogen.net - ECPv6.15.17.1//NONSGML v1.0//EN
CALSCALE:GREGORIAN
METHOD:PUBLISH
X-WR-CALNAME:rheinbogen.net
X-ORIGINAL-URL:https://rheinbogen.net
X-WR-CALDESC:Veranstaltungen für rheinbogen.net
REFRESH-INTERVAL;VALUE=DURATION:PT1H
X-Robots-Tag:noindex
X-PUBLISHED-TTL:PT1H
BEGIN:VTIMEZONE
TZID:Europe/Berlin
BEGIN:DAYLIGHT
TZOFFSETFROM:+0100
TZOFFSETTO:+0200
TZNAME:CEST
DTSTART:20240331T010000
END:DAYLIGHT
BEGIN:STANDARD
TZOFFSETFROM:+0200
TZOFFSETTO:+0100
TZNAME:CET
DTSTART:20241027T010000
END:STANDARD
BEGIN:DAYLIGHT
TZOFFSETFROM:+0100
TZOFFSETTO:+0200
TZNAME:CEST
DTSTART:20250330T010000
END:DAYLIGHT
BEGIN:STANDARD
TZOFFSETFROM:+0200
TZOFFSETTO:+0100
TZNAME:CET
DTSTART:20251026T010000
END:STANDARD
BEGIN:DAYLIGHT
TZOFFSETFROM:+0100
TZOFFSETTO:+0200
TZNAME:CEST
DTSTART:20260329T010000
END:DAYLIGHT
BEGIN:STANDARD
TZOFFSETFROM:+0200
TZOFFSETTO:+0100
TZNAME:CET
DTSTART:20261025T010000
END:STANDARD
END:VTIMEZONE
BEGIN:VEVENT
DTSTART;TZID=Europe/Berlin:20250528T103000
DTEND;TZID=Europe/Berlin:20250528T120000
DTSTAMP:20260420T140222
CREATED:20250522T100054Z
LAST-MODIFIED:20250522T100054Z
UID:10000979-1748428200-1748433600@rheinbogen.net
SUMMARY:Eltern-Kind-Gruppe in der Villa AWO
DESCRIPTION:Sie suchen keine Betreuung sondern Spielgefährten für ihr Kind!\nZudem freuen Sie sich über die Möglichkeit\, sich mit anderen Eltern auszutauschen und neue Kontakte zu knüpfen.\nDann sind Sie richtig in der Villa AWO!\nDie Eltern-Kind-Gruppe findet für Kinder ab ca. 6 Monate einmal in der Woche Mittwochs statt.\nWir entwickeln dieses Angebot neu und freuen uns auch über Ideen von Ihrer Seite zur Gestaltung des Treffens und Ausgestaltung des Raums.\nNehmen Sie gerne Kontakt mit uns auf.\nTermin: mittwochs 10.30 – 12.00 Uhr ab 21. Mai 2025\nCorinna Schmidt (coschmidt@netcologne.de) \n\nDieser Eintrag wird Ihnen zur Verfügung gestellt vom Kölner BilderBogen – eines der beliebtesten Stadtmagazine in Köln. Ihr Termin fehlt? Einfach kostenlos einreichen: www.bilderbogen.de/eventeintrag
URL:https://rheinbogen.net/event/eltern-kind-gruppe-in-der-villa-awo-2
LOCATION:Villa AWO\, Walther-Rathenau-Str. 9\, Köln\, NRW\, 50996\, Deutschland
ATTACH;FMTTYPE=image/png:https://rheinbogen.net/wp-content/uploads/2025/05/Bildschirmfoto-2025-05-20-um-10.26.58-729x1024-1.png
ORGANIZER;CN="AWO":MAILTO:gemeinsamsindwirstaerker@awo-koeln.de
END:VEVENT
END:VCALENDAR