BEGIN:VCALENDAR
VERSION:2.0
PRODID:-//rheinbogen.net - ECPv6.15.17.1//NONSGML v1.0//EN
CALSCALE:GREGORIAN
METHOD:PUBLISH
X-WR-CALNAME:rheinbogen.net
X-ORIGINAL-URL:https://rheinbogen.net
X-WR-CALDESC:Veranstaltungen für rheinbogen.net
REFRESH-INTERVAL;VALUE=DURATION:PT1H
X-Robots-Tag:noindex
X-PUBLISHED-TTL:PT1H
BEGIN:VTIMEZONE
TZID:Europe/Berlin
BEGIN:DAYLIGHT
TZOFFSETFROM:+0100
TZOFFSETTO:+0200
TZNAME:CEST
DTSTART:20240331T010000
END:DAYLIGHT
BEGIN:STANDARD
TZOFFSETFROM:+0200
TZOFFSETTO:+0100
TZNAME:CET
DTSTART:20241027T010000
END:STANDARD
BEGIN:DAYLIGHT
TZOFFSETFROM:+0100
TZOFFSETTO:+0200
TZNAME:CEST
DTSTART:20250330T010000
END:DAYLIGHT
BEGIN:STANDARD
TZOFFSETFROM:+0200
TZOFFSETTO:+0100
TZNAME:CET
DTSTART:20251026T010000
END:STANDARD
BEGIN:DAYLIGHT
TZOFFSETFROM:+0100
TZOFFSETTO:+0200
TZNAME:CEST
DTSTART:20260329T010000
END:DAYLIGHT
BEGIN:STANDARD
TZOFFSETFROM:+0200
TZOFFSETTO:+0100
TZNAME:CET
DTSTART:20261025T010000
END:STANDARD
END:VTIMEZONE
BEGIN:VEVENT
DTSTART;VALUE=DATE:20250524
DTEND;VALUE=DATE:20250527
DTSTAMP:20260422T143559
CREATED:20250422T100049Z
LAST-MODIFIED:20250422T100049Z
UID:10000912-1748044800-1748303999@rheinbogen.net
SUMMARY:Schützenfest in Köln-Godorf
DESCRIPTION:Dieser Eintrag wird Ihnen zur Verfügung gestellt vom Kölner BilderBogen – eines der beliebtesten Stadtmagazine in Köln. Ihr Termin fehlt? Einfach kostenlos einreichen: www.bilderbogen.de/eventeintrag
URL:https://rheinbogen.net/event/schuetzenfest-in-koeln-godorf
LOCATION:Schützenplatz Godorf
ATTACH;FMTTYPE=image/png:https://rheinbogen.net/wp-content/uploads/2025/04/Bildschirmfoto-2025-04-22-um-11.37.44-704x1024-1.png
END:VEVENT
BEGIN:VEVENT
DTSTART;TZID=Europe/Berlin:20250525T073000
DTEND;TZID=Europe/Berlin:20250525T170000
DTSTAMP:20260422T143559
CREATED:20250424T150049Z
LAST-MODIFIED:20250424T150049Z
UID:10000922-1748158200-1748192400@rheinbogen.net
SUMMARY:Radttouristkfahrt (RTF) des Radtouristikclub (RTC) Köln
DESCRIPTION:Ausgeschilderte Radtouren für Hobby RennradfahrerInnen im Rahmen der KölnChallange www.koelnchallange.de Die Strecken sind 22 – 150 km lang. Unterwegs gibt es Verpflegungsstationen mit Getränken und Snacks\, die im Preis enthalten sind. \n\nDieser Eintrag wird Ihnen zur Verfügung gestellt vom Kölner BilderBogen – eines der beliebtesten Stadtmagazine in Köln. Ihr Termin fehlt? Einfach kostenlos einreichen: www.bilderbogen.de/eventeintrag
URL:https://rheinbogen.net/event/radttouristkfahrt-rtf-des-radtouristikclub-rtc-koeln
LOCATION:Schulzentrum Zündorf\, Heerstraße 7\, Köln-Zündorf\, NRW\, 51143\, Deutschland
ATTACH;FMTTYPE=image/jpeg:https://rheinbogen.net/wp-content/uploads/2025/04/KoelnChallenge-1-scaled-1-461x1024-1.jpg
END:VEVENT
BEGIN:VEVENT
DTSTART;TZID=Europe/Berlin:20250525T100000
DTEND;TZID=Europe/Berlin:20250525T130000
DTSTAMP:20260422T143559
CREATED:20250416T100054Z
LAST-MODIFIED:20250416T100054Z
UID:10000909-1748167200-1748178000@rheinbogen.net
SUMMARY:Flohmarkt Kita St. Remigius
DESCRIPTION:Dieser Eintrag wird Ihnen zur Verfügung gestellt vom Kölner BilderBogen – eines der beliebtesten Stadtmagazine in Köln. Ihr Termin fehlt? Einfach kostenlos einreichen: www.bilderbogen.de/eventeintrag
URL:https://rheinbogen.net/event/flohmarkt-kita-st-remigius
LOCATION:St. Remigius Pfarrsaal\, Sürther Haupstraße 130b\, Köln-Sürth\, 50999\, Deutschland
ATTACH;FMTTYPE=image/png:https://rheinbogen.net/wp-content/uploads/2025/04/Bildschirmfoto-2025-04-16-um-11.08.20-727x1024-1.png
END:VEVENT
BEGIN:VEVENT
DTSTART;TZID=Europe/Berlin:20250525T100000
DTEND;TZID=Europe/Berlin:20250525T140000
DTSTAMP:20260422T143559
CREATED:20250212T110039Z
LAST-MODIFIED:20250212T110039Z
UID:10000718-1748167200-1748181600@rheinbogen.net
SUMMARY:Flohmarkt für Kinder- und Deko-Sachen\, Haus der Familie Rondorf
DESCRIPTION:Basar für Baby- und Kinderkleidung bis Größe 176\, Bücher\, Kinderfahrzeuge\, Spielzeug\, Babyausstattung\, Umstandsmoden\, Deko\, Krimskrams … . Dazu findet ein Kaffee- und Kuchenverkauf statt. Anmeldung per E-Mail unter flohmarkt@hdf.koeln. \n\nDieser Eintrag wird Ihnen zur Verfügung gestellt vom Kölner BilderBogen – eines der beliebtesten Stadtmagazine in Köln. Ihr Termin fehlt? Einfach kostenlos einreichen: www.bilderbogen.de/eventeintrag
URL:https://rheinbogen.net/event/flohmarkt-fuer-kinder-und-deko-sachen-haus-der-familie-rondorf
LOCATION:Haus der Familie\, Reiherstraße 21\, Köln\, NRW\, 50997\, Deutschland
ATTACH;FMTTYPE=image/png:https://rheinbogen.net/wp-content/uploads/2025/02/Bildschirmfoto-2025-02-12-um-11.35.37-1.png
END:VEVENT
BEGIN:VEVENT
DTSTART;TZID=Europe/Berlin:20250525T110000
DTEND;TZID=Europe/Berlin:20250525T130000
DTSTAMP:20260422T143559
CREATED:20250210T110047Z
LAST-MODIFIED:20250210T110047Z
UID:10000708-1748170800-1748178000@rheinbogen.net
SUMMARY:Beharrliche Mahnung 80 Jahre nach Ende des Zweiten Weltkriegs „War Requiem“ von Benjamin Britten
DESCRIPTION:Nach elf Stunden Bombardement hatte die deutsche Luftwaffe im Zweiten Weltkrieg den größten Teil der mittelenglischen Stadt Coventry mitsamt der Kathedrale St. Michael in Schutt und Asche gelegt. Zur Wiedereinweihung der Kathedrale im Jahr 1962 schrieb der britische Komponist Benjamin Britten (1913 – 1976)\, der als überzeugter Pazifist gilt\, das „War Requiem“ als Mahnung und Anklage. Er ergänzte den lateinischen Text der Totenmesse mit Gedichten seines wenige Tage vor dem Ende des Ersten Weltkriegs gefallenen Landsmannes Wilfred Owen. Die Texte behalten bis heute – auch angesichts der aktuellen schlimmen Kriege in der Welt – eine beklemmende Aktualität. \nDer KölnChor und der Rheinische Kammerchor führen dieses grandiose Klangerlebnis 80 Jahre nach Ende des Zweiten Weltkriegs am 25. Mai 2025 um 11 Uhr in der Kölner Philharmonie auf. Das Werk drückt gleichermaßen Mahnung und Hoffnung auf Frieden aus. Britten setzt für die Wirkung des Requiems auf eine große Besetzung\, die eine enorme Kraft der Musik schafft. \nDie beiden Kölner Chöre werden vom Mädchenchor am Kölner Dom unter Einstudierung von Oliver Sperling\, von Sängerinnen und Sängern der Lewisham Choral Society aus London unter der Leitung von Daniel Ludford-Thomas sowie von der groß besetzten Philharmonie Südwestfalen begleitet. Rainer Schrapers (Klavier) und Michael Bottenhorn (Orgel) bekräftigen die vielschichtige Klangwelt. Die Solisten Agnes Lipka (Sopran)\, Markus Francke (Tenor) und Thomas Laske (Bass) tragen die liturgischen Texte und das Gedicht Wilfried Owens vor. Die Gesamtleitung der Aufführung hat Wolfgang Siegenbrink. \nKarten gibt es für 23 € bis 52 € inkl. Verkaufsgebühren online unter https://www.koelner-philharmonie.de/de/programm/kolnchor-rheinischer-kammerchor-koln/4127 oder telefonisch bei der Hotline der Kölner Philharmonie unter 0221 280 280. \nBildquelle: Christoph Seelbach \n\nDieser Eintrag wird Ihnen zur Verfügung gestellt vom Kölner BilderBogen – eines der beliebtesten Stadtmagazine in Köln. Ihr Termin fehlt? Einfach kostenlos einreichen: www.bilderbogen.de/eventeintrag
URL:https://rheinbogen.net/event/beharrliche-mahnung-80-jahre-nach-ende-des-zweiten-weltkriegs-war-requiem-von-benjamin-britten
LOCATION:Kölner Philharmonie\, Bischofsgartenstraße 1\, Köln\, NRW\, 50667\, Deutschland
ATTACH;FMTTYPE=image/png:https://rheinbogen.net/wp-content/uploads/2025/02/Bildschirmfoto-2025-02-10-um-11.40.39-1024x690-1.png
END:VEVENT
BEGIN:VEVENT
DTSTART;TZID=Europe/Berlin:20250525T120000
DTEND;TZID=Europe/Berlin:20250525T180000
DTSTAMP:20260422T143559
CREATED:20250331T100050Z
LAST-MODIFIED:20250331T100050Z
UID:10000847-1748174400-1748196000@rheinbogen.net
SUMMARY:Theaterfest – Hänneschen Theater
DESCRIPTION:Theaterfest am 24. & 25. Mai 2025 – Erlebt den Zauber der Bühne!\nKommt vorbei und feiert mit uns ein unvergessliches Theaterfest für die ganze Familie! Auf dem Eisenmarkt und im Hänneschen-Theater erwartet euch ein abwechslungsreiches Programm mit mitreißenden Aufführungen unseres Ensembles\, unserer Band und besonderer Gäste wie Björn Heuser\, der Tanzgruppe Kölsch Hännes’chen und der Jecken Öhrcher. \nFreut euch auf spannende Inszenierungen\, Live-Musik und ein buntes gastronomisches Angebot\, das zum Genießen und Verweilen einlädt. Ein Fest für alle\, die Theater lieben – mer süht sech! \n📅 24. Mai 2025\, 14 bis 20 Uhr & 25. Mai 2025\, 12 bis 18 Uhr\n📍 Eisenmarkt & Hänneschen-Theater\n🎟 Eintritt frei! \nBildquelle: Hänneschen-Theater \n\nDieser Eintrag wird Ihnen zur Verfügung gestellt vom Kölner BilderBogen – eines der beliebtesten Stadtmagazine in Köln. Ihr Termin fehlt? Einfach kostenlos einreichen: www.bilderbogen.de/eventeintrag
URL:https://rheinbogen.net/event/theaterfest-haenneschen-theater-2
LOCATION:NRW
ATTACH;FMTTYPE=image/png:https://rheinbogen.net/wp-content/uploads/2025/03/Bildschirmfoto-2025-03-31-um-10.20.22-1024x674-1.png
END:VEVENT
BEGIN:VEVENT
DTSTART;TZID=Europe/Berlin:20250525T150000
DTEND;TZID=Europe/Berlin:20250525T180000
DTSTAMP:20260422T143559
CREATED:20250506T100058Z
LAST-MODIFIED:20250506T100058Z
UID:10000938-1748185200-1748196000@rheinbogen.net
SUMMARY:American Football: Cologne Ronin vs. Elsen Knights
DESCRIPTION:Wir sind Cologne Ronin\, eine American Football Herrenmanschaft aus dem Kölner Süden. \nWir freuen uns über eine wachsende Fanbase und über jeden\, der uns an den Spieltagen besucht und uns als Team unterstützt. Kommen Sie gerne vorbei! \nDer Eintritt ist frei! \nCologne Ronin vs. Elsen Knights\nSonntag\, 25.05.2025\nKick off 15:00 Uhr \nBezirkssportanlage Rodenkirchen /Ostfeld\nSürther Str. 195\, 50999 Köln \nFür Getränke\, Kuchen und Snacks ist gesorgt. Kinder sind herzlich Wilkommen. Hunde sind auf der Anlage leider nicht erlaubt. \n\nDieser Eintrag wird Ihnen zur Verfügung gestellt vom Kölner BilderBogen – eines der beliebtesten Stadtmagazine in Köln. Ihr Termin fehlt? Einfach kostenlos einreichen: www.bilderbogen.de/eventeintrag
URL:https://rheinbogen.net/event/american-football-cologne-ronin-vs-elsen-knights
LOCATION:Bezirkssportanlage Köln-Rodenkirchen\, Sürther Str. 195\, Köln\, 50999
ATTACH;FMTTYPE=image/png:https://rheinbogen.net/wp-content/uploads/2025/05/Bildschirmfoto-2025-05-06-um-11.07.36.png
END:VEVENT
BEGIN:VEVENT
DTSTART;TZID=Europe/Berlin:20250525T170000
DTEND;TZID=Europe/Berlin:20250525T190000
DTSTAMP:20260422T143559
CREATED:20250506T100102Z
LAST-MODIFIED:20250506T110054Z
UID:10000939-1748192400-1748199600@rheinbogen.net
SUMMARY:Orgelszene International- Orgelmusik aus Großbritannien\, den USA\, Finnland und den Niederlanden
DESCRIPTION:Orgelszene International- Orgelmusik aus Großbritannien\, den USA\, Finnland und den Niederlanden \nWerke von Gordon Young\, Charles Callahan\, Marko Hakanpää\, Margaretha Christina de Jong und anderen\nan der Orgel: Jens-Peter Enk \nDer Eintritt ist frei. Spenden für die MUSIK IN DER ERLÖSERKIRCHE sind willkommen. \nAttraktive\, häufig virtuose Stücke der Orgel-Szene  Großbritanniens\, der Vereinigten Staaten Amerikas\, Finnlands und der Niederlande stehen auf dem Programm. Zuhörende  können sich  auf ein Programm-Bukett der besonderen Art freuen.\nDer Interpret Jens-Peter Enk wurde 1971 in Braunschweig geboren und erlernte mit sieben Jahren zunächst das Klavier- und mit elf Jahren das Orgelspiel. Bereits mit 13 Jahren war er Organist einer Kirchengemeinde im Kreis Peine bei Hannover. Sein Studium der evangelischen Kirchenmusik schloss er mit dem A-Examen ab. Konzertreisen führten ihn ins In – und Ausland. Nach Stationen als zweiter Kirchenmusiker an der St. Andreas-Kirche in Hildesheim\, wo sich die größte Orgel Niedersachsens befindet\, und als Kantor und Organist an der Christuskirche in Düsseldorf\, wurde er 2012 bis 2018 als Leiter in die Arbeitsstelle Kirchenmusik im Theologischen Zentrum der Evangelischen Kirche im Rheinland\, Wuppertal\, berufen. Daneben bekleidet er die A-Stelle an der Evangelischen Kirchengemeinde in Wuppertal-Unterbarmen. 2017 wurde er von der Kirchenleitung der evangelischen Kirche im Rheinland zum Kirchenmusikdirektor ernannt.Seit 2019 ist Jens-Peter Enk als Kreiskantor des evangelischen Kirchenkreises Wuppertal tätig und leitet das Referat „Kirche\, Kultur und Musik“ für den Kirchenkreis Wuppertal. \n\nDieser Eintrag wird Ihnen zur Verfügung gestellt vom Kölner BilderBogen – eines der beliebtesten Stadtmagazine in Köln. Ihr Termin fehlt? Einfach kostenlos einreichen: www.bilderbogen.de/eventeintrag
URL:https://rheinbogen.net/event/orgelszene-international-orgelmusik-aus-grossbritannien-den-usa-finnland-und-den-niederlanden
LOCATION:Erlöserkirche Rodenkirchen\, Sürther Str. 34\, Köln\, 50996
ATTACH;FMTTYPE=image/png:https://rheinbogen.net/wp-content/uploads/2025/05/Bildschirmfoto-2025-05-06-um-11.21.27-734x1024-1.png
END:VEVENT
BEGIN:VEVENT
DTSTART;TZID=Europe/Berlin:20250525T180000
DTEND;TZID=Europe/Berlin:20250525T200000
DTSTAMP:20260422T143559
CREATED:20250506T110058Z
LAST-MODIFIED:20250506T110058Z
UID:10000942-1748196000-1748203200@rheinbogen.net
SUMMARY:Die Rheinsirenen – Raus nach Wannsee
DESCRIPTION:Mit Let´s twist again\, Itsy Bitsy Teenie Weenie Honolulu Strandbikini oder Am Sonntag will meine Süßer mit mir segeln gehen lassen die Rheinsirenen die 1960er Jahre wieder auferstehen.\nKaum ein Jahrzehnt hat Deutschland so geprägt und steht so sehr für Umbruch und Aufbruch in Musik\, Mode und Gesellschaft. Wandel als Konstante untermalt die Suche nach einem neuen Frauenbild. Entsprechend unterschiedlich und abwechslungsreich ist der Fundus\, aus dem die sechs Musikerinnen der Rheinsirenen die besten Hits hervorgeholt und ihnen den unverwechselbaren „Sirenen Sound“ verleihen haben. \nBildquelle: Kai Myller \n  \n  \n\nDieser Eintrag wird Ihnen zur Verfügung gestellt vom Kölner BilderBogen – eines der beliebtesten Stadtmagazine in Köln. Ihr Termin fehlt? Einfach kostenlos einreichen: www.bilderbogen.de/eventeintrag
URL:https://rheinbogen.net/event/die-rheinsirenen-raus-nach-wannsee
LOCATION:Theater509 Bürgerhaus Stollwerck\, Dreikönigenstraße 23\, Köln\, 50678
ATTACH;FMTTYPE=image/png:https://rheinbogen.net/wp-content/uploads/2025/05/Bildschirmfoto-2025-05-06-um-12.08.36-1024x688-1.png
END:VEVENT
END:VCALENDAR