BEGIN:VCALENDAR
VERSION:2.0
PRODID:-//rheinbogen.net - ECPv6.15.17.1//NONSGML v1.0//EN
CALSCALE:GREGORIAN
METHOD:PUBLISH
X-ORIGINAL-URL:https://rheinbogen.net
X-WR-CALDESC:Veranstaltungen für rheinbogen.net
REFRESH-INTERVAL;VALUE=DURATION:PT1H
X-Robots-Tag:noindex
X-PUBLISHED-TTL:PT1H
BEGIN:VTIMEZONE
TZID:Europe/Berlin
BEGIN:DAYLIGHT
TZOFFSETFROM:+0100
TZOFFSETTO:+0200
TZNAME:CEST
DTSTART:20240331T010000
END:DAYLIGHT
BEGIN:STANDARD
TZOFFSETFROM:+0200
TZOFFSETTO:+0100
TZNAME:CET
DTSTART:20241027T010000
END:STANDARD
BEGIN:DAYLIGHT
TZOFFSETFROM:+0100
TZOFFSETTO:+0200
TZNAME:CEST
DTSTART:20250330T010000
END:DAYLIGHT
BEGIN:STANDARD
TZOFFSETFROM:+0200
TZOFFSETTO:+0100
TZNAME:CET
DTSTART:20251026T010000
END:STANDARD
BEGIN:DAYLIGHT
TZOFFSETFROM:+0100
TZOFFSETTO:+0200
TZNAME:CEST
DTSTART:20260329T010000
END:DAYLIGHT
BEGIN:STANDARD
TZOFFSETFROM:+0200
TZOFFSETTO:+0100
TZNAME:CET
DTSTART:20261025T010000
END:STANDARD
END:VTIMEZONE
BEGIN:VEVENT
DTSTART;TZID=Europe/Berlin:20250519T133000
DTEND;TZID=Europe/Berlin:20250519T153000
DTSTAMP:20260422T161806
CREATED:20250414T110120Z
LAST-MODIFIED:20250414T110120Z
UID:10000897-1747661400-1747668600@rheinbogen.net
SUMMARY:Spielenachmittag in der Villa AWO
DESCRIPTION:Wir laden Sie herzlich zu einem gemütlichen Nachmittag in die Villa AWO ein.\nBringen Sie gerne Ihr Lieblingsspiel mit!\nWÖCHENTLICH (Feiertage ausgeschlossen). \nBildquelle: AWO \n  \n\nDieser Eintrag wird Ihnen zur Verfügung gestellt vom Kölner BilderBogen – eines der beliebtesten Stadtmagazine in Köln. Ihr Termin fehlt? Einfach kostenlos einreichen: www.bilderbogen.de/eventeintrag
URL:https://rheinbogen.net/event/spielenachmittag-in-der-villa-awo-5
LOCATION:Villa AWO\, Walther-Rathenau-Str. 9\, Köln\, NRW\, 50996\, Deutschland
ATTACH;FMTTYPE=image/png:https://rheinbogen.net/wp-content/uploads/2025/04/Bildschirmfoto-2025-04-14-um-10.10.42-710x1024-1.png
ORGANIZER;CN="AWO":MAILTO:gemeinsamsindwirstaerker@awo-koeln.de
END:VEVENT
BEGIN:VEVENT
DTSTART;TZID=Europe/Berlin:20250519T143000
DTEND;TZID=Europe/Berlin:20250519T160000
DTSTAMP:20260422T161806
CREATED:20250414T110122Z
LAST-MODIFIED:20250414T110122Z
UID:10000898-1747665000-1747670400@rheinbogen.net
SUMMARY:Café – Villa AWO
DESCRIPTION:Wir laden Sie herzlich zu einem gemütlichen Nachmittag in die Villa AWO ein.\nEs gibt selbstgebackenen Kuchen und Kaffee. \n\nDieser Eintrag wird Ihnen zur Verfügung gestellt vom Kölner BilderBogen – eines der beliebtesten Stadtmagazine in Köln. Ihr Termin fehlt? Einfach kostenlos einreichen: www.bilderbogen.de/eventeintrag
URL:https://rheinbogen.net/event/cafe-villa-awo-6
LOCATION:Villa AWO\, Walther-Rathenau-Str. 9\, Köln\, NRW\, 50996\, Deutschland
ATTACH;FMTTYPE=image/png:https://rheinbogen.net/wp-content/uploads/2025/04/Bildschirmfoto-2025-04-14-um-10.04.47.png
ORGANIZER;CN="AWO":MAILTO:gemeinsamsindwirstaerker@awo-koeln.de
END:VEVENT
BEGIN:VEVENT
DTSTART;TZID=Europe/Berlin:20250519T200000
DTEND;TZID=Europe/Berlin:20250519T220000
DTSTAMP:20260422T161806
CREATED:20250414T110125Z
LAST-MODIFIED:20250414T110125Z
UID:10000899-1747684800-1747692000@rheinbogen.net
SUMMARY:Open air Kino in der Villa AWO
DESCRIPTION:ROCK CHICKS – I AM NOT FEMALE TO YOU ist ein Film über Musik als inneres Bedürfnis\, über den Kampf für die eignenen Träume und den Mut ganz bei sich anzukommen. \n\nDieser Eintrag wird Ihnen zur Verfügung gestellt vom Kölner BilderBogen – eines der beliebtesten Stadtmagazine in Köln. Ihr Termin fehlt? Einfach kostenlos einreichen: www.bilderbogen.de/eventeintrag
URL:https://rheinbogen.net/event/open-air-kino-in-der-villa-awo
LOCATION:Villa AWO\, Walther-Rathenau-Str. 9\, Köln\, NRW\, 50996\, Deutschland
ATTACH;FMTTYPE=image/png:https://rheinbogen.net/wp-content/uploads/2025/04/Bildschirmfoto-2025-04-14-um-10.29.27-697x1024-1.png
ORGANIZER;CN="AWO":MAILTO:gemeinsamsindwirstaerker@awo-koeln.de
END:VEVENT
END:VCALENDAR