BEGIN:VCALENDAR
VERSION:2.0
PRODID:-//rheinbogen.net - ECPv6.15.17.1//NONSGML v1.0//EN
CALSCALE:GREGORIAN
METHOD:PUBLISH
X-ORIGINAL-URL:https://rheinbogen.net
X-WR-CALDESC:Veranstaltungen für rheinbogen.net
REFRESH-INTERVAL;VALUE=DURATION:PT1H
X-Robots-Tag:noindex
X-PUBLISHED-TTL:PT1H
BEGIN:VTIMEZONE
TZID:Europe/Berlin
BEGIN:DAYLIGHT
TZOFFSETFROM:+0100
TZOFFSETTO:+0200
TZNAME:CEST
DTSTART:20240331T010000
END:DAYLIGHT
BEGIN:STANDARD
TZOFFSETFROM:+0200
TZOFFSETTO:+0100
TZNAME:CET
DTSTART:20241027T010000
END:STANDARD
BEGIN:DAYLIGHT
TZOFFSETFROM:+0100
TZOFFSETTO:+0200
TZNAME:CEST
DTSTART:20250330T010000
END:DAYLIGHT
BEGIN:STANDARD
TZOFFSETFROM:+0200
TZOFFSETTO:+0100
TZNAME:CET
DTSTART:20251026T010000
END:STANDARD
BEGIN:DAYLIGHT
TZOFFSETFROM:+0100
TZOFFSETTO:+0200
TZNAME:CEST
DTSTART:20260329T010000
END:DAYLIGHT
BEGIN:STANDARD
TZOFFSETFROM:+0200
TZOFFSETTO:+0100
TZNAME:CET
DTSTART:20261025T010000
END:STANDARD
END:VTIMEZONE
BEGIN:VEVENT
DTSTART;TZID=Europe/Berlin:20250518T103000
DTEND;TZID=Europe/Berlin:20250518T133000
DTSTAMP:20260422T143858
CREATED:20250326T120056Z
LAST-MODIFIED:20250326T120056Z
UID:10000836-1747564200-1747575000@rheinbogen.net
SUMMARY:Kinderflohmarkt Brüder-Grimm-Schule\, Köln-Sürth
DESCRIPTION:Dieser Eintrag wird Ihnen zur Verfügung gestellt vom Kölner BilderBogen – eines der beliebtesten Stadtmagazine in Köln. Ihr Termin fehlt? Einfach kostenlos einreichen: www.bilderbogen.de/eventeintrag
URL:https://rheinbogen.net/event/kinderflohmarkt-brueder-grimm-schule-koeln-suerth
LOCATION:Brüder-Grimm-Schule\, Sürther Hauptstraße 149\, Köln\, NRW\, 50999\, Deutschland
ATTACH;FMTTYPE=image/png:https://rheinbogen.net/wp-content/uploads/2025/03/Bildschirmfoto-2025-03-26-um-12.37.32.png
END:VEVENT
BEGIN:VEVENT
DTSTART;TZID=Europe/Berlin:20250518T120000
DTEND;TZID=Europe/Berlin:20250518T160000
DTSTAMP:20260422T143858
CREATED:20250319T110050Z
LAST-MODIFIED:20250319T110050Z
UID:10000813-1747569600-1747584000@rheinbogen.net
SUMMARY:Kinderflohmarkt in der Katholischen Kindertagesstätte Heilige Drei Könige
DESCRIPTION:Dieser Eintrag wird Ihnen zur Verfügung gestellt vom Kölner BilderBogen – eines der beliebtesten Stadtmagazine in Köln. Ihr Termin fehlt? Einfach kostenlos einreichen: www.bilderbogen.de/eventeintrag
URL:https://rheinbogen.net/event/kinderflohmarkt-in-der-katholischen-kindertagesstaette-heilige-drei-koenige
LOCATION:Kita „Heilige 3 Könige“\, Am Höfchen 18\, Köln\, NRW\, 50997\, Deutschland
ATTACH;FMTTYPE=image/png:https://rheinbogen.net/wp-content/uploads/2025/03/Bildschirmfoto-2025-03-19-um-10.49.12-723x1024-1.png
END:VEVENT
BEGIN:VEVENT
DTSTART;TZID=Europe/Berlin:20250518T130000
DTEND;TZID=Europe/Berlin:20250518T170000
DTSTAMP:20260422T143859
CREATED:20250219T090048Z
LAST-MODIFIED:20250219T090048Z
UID:10000749-1747573200-1747587600@rheinbogen.net
SUMMARY:KulturSonntag KunstKwartier 44
DESCRIPTION:An jedem dritten Sonntag im Monat\, von 13 bis 17 Uhr\, öffnen die Künstler*innen des KunstKwartier 44 ihre Ateliers für die Öffentlichkeit. Schauen Sie vorbei und erleben Sie Malerei\, Fotografie\, Bildhauerei und vieles mehr hautnah! \n18. Mai und 15. Juni 2024: KulturSonntag in Kombination mit den Photoszene-Ausstellungen \nPhotoszene-Ausstellungen im KunstKwartier 44: \n15 Fotograf*innen des KunstKwartier 44 nehmen an der diesjährigen Photoszene teil. In verschiedenen Räumen werden spannende Ausstellungen präsentiert. \n\nÖffnungszeiten:\n\nFr.\, 16.05.\, 18-21 Uhr\nSa.\, 17.05.\, 14-18 Uhr\nSo.\, 18.05.\, 14-18 Uhr (parallel zum KulturSonntag)\nFr.\, 13.06.\, 18-21 Uhr\nSa.\, 14.06.\, 14-18 Uhr\nSo.\, 15.06.\, 14-18 Uhr (parallel zum KulturSonntag)\n\n\n\n\nDieser Eintrag wird Ihnen zur Verfügung gestellt vom Kölner BilderBogen – eines der beliebtesten Stadtmagazine in Köln. Ihr Termin fehlt? Einfach kostenlos einreichen: www.bilderbogen.de/eventeintrag
URL:https://rheinbogen.net/event/kultursonntag-kunstkwartier-44-3
LOCATION:KunstKwartier\, Ringstraße 40\, Köln\, NRW\, 50996\, Deutschland
ATTACH;FMTTYPE=image/png:https://rheinbogen.net/wp-content/uploads/2025/02/Bildschirmfoto-2025-02-19-um-09.48.53-1024x562-3.png
END:VEVENT
END:VCALENDAR